{"text_format":"1","workbook":"xlsx","n_sheets":22,"sheets":["Startliste","1","2","3","4","5","6","7","8","9","10","11","12","13","14","15","16","17","18","19","20","Resultate"],"not_rendered":{"charts":0,"images":3,"macros":1,"external_links":0,"defined_names":0,"comments":0,"pivot_tables":0},"unopened":[],"bounds":{"document_bytes":16777216,"sheet_cells":100000,"rows_first":2000,"rows_last":500,"rows_between":2000,"halvings":0,"cell_chars":16384,"cell_head_chars":4096},"cells_cut":0,"cells_raw":0,"read":"whole","date_system":"1900"}

{"sheet":"Startliste","index":0,"n_rows":35,"n_cols":16,"rows_kept":35,"cut":false,"hidden":false,"merged":[[34,5,34,10],[10,0,10,1],[2,3,2,8],[3,3,3,8],[6,3,6,8],[7,3,7,8],[4,3,4,8],[5,3,5,8],[9,0,9,12]]}
[null,null,"Heimprogramm 2024"]
[]
[null,null,"Sektion"]
[null,null,"Zuständig"]
[null,null,"Adresse"]
[null,null,"PLZ/Wohnort"]
[null,null,"Mail"]
[null,null,"Telefon"]
[]
["Ausgefüllte Datei zurücksenden an salvo.trapani@outlook.com\nTermin: bis spätestens 31. August 2024"]
[null,null,"Startliste",null,null,"a","f"]
[]
["Schütze-Nr.","Name","Vorname","Jahrgang","Sektion","St.\nf\na\n","Kat.",null,"HD\nFr. 16.-\n\nx\n","Betrag\nFr. 16.-","ND\nFr. 5.-\n\nx","Betrag\nFr. 5.-","Betrag\nTotal\nFr.",null,null,"Berechnung\nAller"]
[1,null,null,null,null,null,{"$f":"IF(AND(P14>=55,P14<=69,F14=\"f\"),\"V f\",IF(AND(P14>=55,P14<=69,F14=\"a\"),\"V a\",IF(AND(P14>=70,F14=\"f\"),\"Ev f\",IF(AND(P14>=70,F14=\"a\"),\"Ev a\",0))))","v":0},null,null,{"$f":"IF(I14=\"x\",16)","v":false},null,{"$f":"IF(K14=\"x\",5)","v":false},{"$f":"J14+L14","v":0},null,null,{"$f":"(YEAR(NOW())-D14)","v":2024}]
[2,null,null,null,null,null,{"$f":"IF(AND(P15>=55,P15<=69,F15=\"f\"),\"V f\",IF(AND(P15>=55,P15<=69,F15=\"a\"),\"V a\",IF(AND(P15>=70,F15=\"f\"),\"Ev f\",IF(AND(P15>=70,F15=\"a\"),\"Ev a\",0))))","v":0},null,null,false,null,{"$f":"IF(K15=\"x\",5)","v":false},{"$f":"J15+L15","v":0},null,null,{"$f":"(YEAR(NOW())-D15)","v":2024}]
[3,null,null,null,null,null,0,null,null,false,null,false,0,null,null,2024]
[4,null,null,null,null,null,0,null,null,false,null,false,0,null,null,2024]
[5,null,null,null,null,null,0,null,null,{"$f":"IF(I18=\"x\",16)","v":false},null,false,0,null,null,2024]
[6,null,null,null,null,null,0,null,null,false,null,false,0,null,null,2024]
[7,null,null,null,null,null,0,null,null,false,null,false,0,null,null,2024]
[8,null,null,null,null,null,0,null,null,false,null,false,0,null,null,2024]
[9,null,null,null,null,null,0,null,null,false,null,false,0,null,null,2024]
[10,null,null,null,null,null,0,null,null,false,null,false,0,null,null,2024]
[11,null,null,null,null,null,0,null,null,false,null,false,0,null,null,2024]
[12,null,null,null,null,null,0,null,null,false,null,false,0,null,null,2024]
[13,null,null,null,null,null,0,null,null,false,null,false,0,null,null,2024]
[14,null,null,null,null,null,0,null,null,false,null,false,0,null,null,2024]
[15,null,null,null,null,null,0,null,null,false,null,false,0,null,null,2024]
[16,null,null,null,null,null,0,null,null,false,null,false,0,null,null,2024]
[17,null,null,null,null,null,0,null,null,false,null,false,0,null,null,2024]
[18,null,null,null,null,null,0,null,null,false,null,false,0,null,null,2024]
[19,null,null,null,null,null,0,null,null,false,null,false,0,null,null,2024]
[20,null,null,null,null,null,0,null,null,false,null,false,0,null,null,2024]
[]
[null,null,null,null,null,"Betrag Total  ",null,null,null,null,null,null,{"$f":"SUM(M14:M33)","v":0}]

{"sheet":"1","index":1,"n_rows":17,"n_cols":27,"rows_kept":17,"cut":false,"hidden":false,"merged":[[4,11,4,12],[5,1,5,2],[8,26,8,27],[10,26,10,27]]}
[null,null,{"$f":"Startliste!C1","v":"Heimprogramm 2024"}]
[null,null,null,null,null,null,null,null,null,null,null,null,null,null,null,null,null,null,null,null,null,1]
[]
[]
["Name",{"$f":"Startliste!B14","v":0},null,null,null,"Vorname",{"$f":"Startliste!C14","v":0},null,null,"St.",{"$f":"Startliste!F14","v":0},"Start-Nr."]
["Jahrgang",{"$f":"Startliste!D14","v":0},null,null,null,"Sektion",{"$f":"Startliste!E14","v":0},null,null,"Kat.",{"$f":"Startliste!G14","v":0},null,{"$f":"Startliste!A14","v":1}]
[]
[null,1,2,3,4,5,6,7,8,9,10,null,"Total",null,null,null,null,null,null,null,null,null,null,null,null,null,"Karton-Nr. von bis"]
["HD",null,null,null,null,null,null,null,null,null,null,null,{"$f":"SUM(B9:K9)","v":0},null,{"$f":"IF(B9=\"M\",10)","v":false},{"$f":"IF(C9=\"M\",10)","v":false},false,false,false,false,false,false,false,false,{"$f":"SUM(O9:X9)","v":0}]
[null,null,null,null,null,null,null,null,null,null,null,null,null,null,null,null,null,null,null,null,null,null,null,null,null,null,"Karton-Nr. von bis"]
["ND",null,null,null,null,null,null,null,null,null,null,8,{"$f":"SUM(B11:K11)","v":0},null,{"$f":"IF(B11=\"M\",10)","v":false},{"$f":"IF(C11=\"M\",10)","v":false},false,false,false,false,false,false,false,false,{"$f":"SUM(O11:X11)","v":0}]
[]
[" HD",10,9,8,7,6,5,4,3,2,1]
["Anzahl",{"$f":"COUNTIF($B9:$K9,\"10\")","v":0},{"$f":"COUNTIF($B9:$K9,\"9\")","v":0},{"$f":"COUNTIF($B9:$K9,\"8\")","v":0},{"$f":"COUNTIF($B9:$K9,\"7\")","v":0},{"$f":"COUNTIF($B9:$K9,\"6\")","v":0},{"$f":"COUNTIF($B9:$K9,\"5\")","v":0},{"$f":"COUNTIF($B9:$K9,\"4\")","v":0},{"$f":"COUNTIF($B9:$K9,\"3\")","v":0},{"$f":"COUNTIF($B9:$K9,\"2\")","v":0},{"$f":"COUNTIF($B9:$K9,\"1\")","v":0}]
[]
["ND",10,9,8,7,6,5,4,3,2,1]
["Anzahl",{"$f":"COUNTIF($B11:$K11,\"10\")","v":0},{"$f":"COUNTIF($B11:$K11,\"9\")","v":0},{"$f":"COUNTIF($B11:$K11,\"8\")","v":0},{"$f":"COUNTIF($B11:$K11,\"7\")","v":0},{"$f":"COUNTIF($B11:$K11,\"6\")","v":0},{"$f":"COUNTIF($B11:$K11,\"5\")","v":0},{"$f":"COUNTIF($B11:$K11,\"4\")","v":0},{"$f":"COUNTIF($B11:$K11,\"3\")","v":0},{"$f":"COUNTIF($B11:$K11,\"2\")","v":0},{"$f":"COUNTIF($B11:$K11,\"1\")","v":0}]

{"sheet":"2","index":2,"n_rows":17,"n_cols":27,"rows_kept":17,"cut":false,"hidden":false,"merged":[[4,11,4,12],[5,1,5,2],[10,26,10,27],[8,26,8,27]]}
[null,null,{"$f":"Startliste!C1","v":"Heimprogramm 2024"}]
[null,null,null,null,null,null,null,null,null,null,null,null,null,null,null,null,null,null,null,null,null,1]
[]
[]
["Name",{"$f":"Startliste!B15","v":0},null,null,null,"Vorname",{"$f":"Startliste!C15","v":0},null,null,"St.",{"$f":"Startliste!F15","v":0},"Start-Nr."]
["Jahrgang",{"$f":"Startliste!D15","v":0},null,null,null,"Sektion",{"$f":"Startliste!E15","v":0},null,null,"Kat.",{"$f":"Startliste!G15","v":0},null,{"$f":"Startliste!A15","v":2}]
[]
[null,1,2,3,4,5,6,7,8,9,10,null,"Total",null,null,null,null,null,null,null,null,null,null,null,null,null,"Karton-Nr. von bis"]
["HD",null,null,null,null,null,null,null,null,null,null,null,{"$f":"SUM(B9:K9)","v":0},null,{"$f":"IF(B9=\"M\",10)","v":false},{"$f":"IF(C9=\"M\",10)","v":false},false,false,false,false,false,false,false,false,{"$f":"SUM(O9:X9)","v":0}]
[null,null,null,null,null,null,null,null,null,null,null,null,null,null,null,null,null,null,null,null,null,null,null,null,null,null,"Karton-Nr. von bis"]
["ND",null,null,null,null,null,null,null,null,null,null,8,{"$f":"SUM(B11:K11)","v":0},null,{"$f":"IF(B11=\"M\",10)","v":false},{"$f":"IF(C11=\"M\",10)","v":false},false,false,false,false,false,false,false,false,{"$f":"SUM(O11:X11)","v":0}]
[]
[" HD",10,9,8,7,6,5,4,3,2,1]
["Anzahl",{"$f":"COUNTIF($B9:$K9,\"10\")","v":0},{"$f":"COUNTIF($B9:$K9,\"9\")","v":0},{"$f":"COUNTIF($B9:$K9,\"8\")","v":0},{"$f":"COUNTIF($B9:$K9,\"7\")","v":0},{"$f":"COUNTIF($B9:$K9,\"6\")","v":0},{"$f":"COUNTIF($B9:$K9,\"5\")","v":0},{"$f":"COUNTIF($B9:$K9,\"4\")","v":0},{"$f":"COUNTIF($B9:$K9,\"3\")","v":0},{"$f":"COUNTIF($B9:$K9,\"2\")","v":0},{"$f":"COUNTIF($B9:$K9,\"1\")","v":0}]
[]
["ND",10,9,8,7,6,5,4,3,2,1]
["Anzahl",{"$f":"COUNTIF($B11:$K11,\"10\")","v":0},{"$f":"COUNTIF($B11:$K11,\"9\")","v":0},{"$f":"COUNTIF($B11:$K11,\"8\")","v":0},{"$f":"COUNTIF($B11:$K11,\"7\")","v":0},{"$f":"COUNTIF($B11:$K11,\"6\")","v":0},{"$f":"COUNTIF($B11:$K11,\"5\")","v":0},{"$f":"COUNTIF($B11:$K11,\"4\")","v":0},{"$f":"COUNTIF($B11:$K11,\"3\")","v":0},{"$f":"COUNTIF($B11:$K11,\"2\")","v":0},{"$f":"COUNTIF($B11:$K11,\"1\")","v":0}]

{"sheet":"3","index":3,"n_rows":17,"n_cols":27,"rows_kept":17,"cut":false,"hidden":false,"merged":[[4,11,4,12],[5,1,5,2],[10,26,10,27],[8,26,8,27]]}
[null,null,{"$f":"Startliste!C1","v":"Heimprogramm 2024"}]
[null,null,null,null,null,null,null,null,null,null,null,null,null,null,null,null,null,null,null,null,null,1]
[]
[]
["Name",{"$f":"Startliste!B16","v":0},null,null,null,"Vorname",{"$f":"Startliste!C16","v":0},null,null,"St.",{"$f":"Startliste!F16","v":0},"Start-Nr."]
["Jahrgang",{"$f":"Startliste!D16","v":0},null,null,null,"Sektion",{"$f":"Startliste!E16","v":0},null,null,"Kat.",{"$f":"Startliste!G16","v":0},null,{"$f":"Startliste!A16","v":3}]
[]
[null,1,2,3,4,5,6,7,8,9,10,null,"Total",null,null,null,null,null,null,null,null,null,null,null,null,null,"Karton-Nr. von bis"]
["HD",null,null,null,null,null,null,null,null,null,null,null,{"$f":"SUM(B9:K9)","v":0},null,{"$f":"IF(B9=\"M\",10)","v":false},{"$f":"IF(C9=\"M\",10)","v":false},false,false,false,false,false,false,false,false,{"$f":"SUM(O9:X9)","v":0}]
[null,null,null,null,null,null,null,null,null,null,null,null,null,null,null,null,null,null,null,null,null,null,null,null,null,null,"Karton-Nr. von bis"]
["ND",null,null,null,null,null,null,null,null,null,null,8,{"$f":"SUM(B11:K11)","v":0},null,{"$f":"IF(B11=\"M\",10)","v":false},{"$f":"IF(C11=\"M\",10)","v":false},false,false,false,false,false,false,false,false,{"$f":"SUM(O11:X11)","v":0}]
[]
[" HD",10,9,8,7,6,5,4,3,2,1]
["Anzahl",{"$f":"COUNTIF($B9:$K9,\"10\")","v":0},{"$f":"COUNTIF($B9:$K9,\"9\")","v":0},{"$f":"COUNTIF($B9:$K9,\"8\")","v":0},{"$f":"COUNTIF($B9:$K9,\"7\")","v":0},{"$f":"COUNTIF($B9:$K9,\"6\")","v":0},{"$f":"COUNTIF($B9:$K9,\"5\")","v":0},{"$f":"COUNTIF($B9:$K9,\"4\")","v":0},{"$f":"COUNTIF($B9:$K9,\"3\")","v":0},{"$f":"COUNTIF($B9:$K9,\"2\")","v":0},{"$f":"COUNTIF($B9:$K9,\"1\")","v":0}]
[]
["ND",10,9,8,7,6,5,4,3,2,1]
["Anzahl",{"$f":"COUNTIF($B11:$K11,\"10\")","v":0},{"$f":"COUNTIF($B11:$K11,\"9\")","v":0},{"$f":"COUNTIF($B11:$K11,\"8\")","v":0},{"$f":"COUNTIF($B11:$K11,\"7\")","v":0},{"$f":"COUNTIF($B11:$K11,\"6\")","v":0},{"$f":"COUNTIF($B11:$K11,\"5\")","v":0},{"$f":"COUNTIF($B11:$K11,\"4\")","v":0},{"$f":"COUNTIF($B11:$K11,\"3\")","v":0},{"$f":"COUNTIF($B11:$K11,\"2\")","v":0},{"$f":"COUNTIF($B11:$K11,\"1\")","v":0}]

{"sheet":"4","index":4,"n_rows":17,"n_cols":27,"rows_kept":17,"cut":false,"hidden":false,"merged":[[4,11,4,12],[5,1,5,2],[10,26,10,27],[8,26,8,27]]}
[null,null,{"$f":"Startliste!C1","v":"Heimprogramm 2024"}]
[null,null,null,null,null,null,null,null,null,null,null,null,null,null,null,null,null,null,null,null,null,1]
[]
[]
["Name",{"$f":"Startliste!B17","v":0},null,null,null,"Vorname",{"$f":"Startliste!C17","v":0},null,null,"St.",{"$f":"Startliste!F17","v":0},"Start-Nr."]
["Jahrgang",{"$f":"Startliste!D17","v":0},null,null,null,"Sektion",{"$f":"Startliste!E17","v":0},null,null,"Kat.",{"$f":"Startliste!G17","v":0},null,{"$f":"Startliste!A17","v":4}]
[]
[null,1,2,3,4,5,6,7,8,9,10,null,"Total",null,null,null,null,null,null,null,null,null,null,null,null,null,"Karton-Nr. von bis"]
["HD",null,null,null,null,null,null,null,null,null,null,null,{"$f":"SUM(B9:K9)","v":0},null,{"$f":"IF(B9=\"M\",10)","v":false},{"$f":"IF(C9=\"M\",10)","v":false},false,false,false,false,false,false,false,false,{"$f":"SUM(O9:X9)","v":0}]
[null,null,null,null,null,null,null,null,null,null,null,null,null,null,null,null,null,null,null,null,null,null,null,null,null,null,"Karton-Nr. von bis"]
["ND",null,null,null,null,null,null,null,null,null,null,8,{"$f":"SUM(B11:K11)","v":0},null,{"$f":"IF(B11=\"M\",10)","v":false},{"$f":"IF(C11=\"M\",10)","v":false},false,false,false,false,false,false,false,false,{"$f":"SUM(O11:X11)","v":0}]
[]
[" HD",10,9,8,7,6,5,4,3,2,1]
["Anzahl",{"$f":"COUNTIF($B9:$K9,\"10\")","v":0},{"$f":"COUNTIF($B9:$K9,\"9\")","v":0},{"$f":"COUNTIF($B9:$K9,\"8\")","v":0},{"$f":"COUNTIF($B9:$K9,\"7\")","v":0},{"$f":"COUNTIF($B9:$K9,\"6\")","v":0},{"$f":"COUNTIF($B9:$K9,\"5\")","v":0},{"$f":"COUNTIF($B9:$K9,\"4\")","v":0},{"$f":"COUNTIF($B9:$K9,\"3\")","v":0},{"$f":"COUNTIF($B9:$K9,\"2\")","v":0},{"$f":"COUNTIF($B9:$K9,\"1\")","v":0}]
[]
["ND",10,9,8,7,6,5,4,3,2,1]
["Anzahl",{"$f":"COUNTIF($B11:$K11,\"10\")","v":0},{"$f":"COUNTIF($B11:$K11,\"9\")","v":0},{"$f":"COUNTIF($B11:$K11,\"8\")","v":0},{"$f":"COUNTIF($B11:$K11,\"7\")","v":0},{"$f":"COUNTIF($B11:$K11,\"6\")","v":0},{"$f":"COUNTIF($B11:$K11,\"5\")","v":0},{"$f":"COUNTIF($B11:$K11,\"4\")","v":0},{"$f":"COUNTIF($B11:$K11,\"3\")","v":0},{"$f":"COUNTIF($B11:$K11,\"2\")","v":0},{"$f":"COUNTIF($B11:$K11,\"1\")","v":0}]

{"sheet":"5","index":5,"n_rows":17,"n_cols":27,"rows_kept":17,"cut":false,"hidden":false,"merged":[[4,11,4,12],[5,1,5,2],[10,26,10,27],[8,26,8,27]]}
[null,null,{"$f":"Startliste!C1","v":"Heimprogramm 2024"}]
[null,null,null,null,null,null,null,null,null,null,null,null,null,null,null,null,null,null,null,null,null,1]
[]
[]
["Name",{"$f":"Startliste!B18","v":0},null,null,null,"Vorname",{"$f":"Startliste!C18","v":0},null,null,"St.",{"$f":"Startliste!F18","v":0},"Start-Nr."]
["Jahrgang",{"$f":"Startliste!D18","v":0},null,null,null,"Sektion",{"$f":"Startliste!E18","v":0},null,null,"Kat.",{"$f":"Startliste!G18","v":0},null,{"$f":"Startliste!A18","v":5}]
[]
[null,1,2,3,4,5,6,7,8,9,10,null,"Total",null,null,null,null,null,null,null,null,null,null,null,null,null,"Karton-Nr. von bis"]
["HD",null,null,null,null,null,null,null,null,null,null,null,{"$f":"SUM(B9:K9)","v":0},null,{"$f":"IF(B9=\"M\",10)","v":false},{"$f":"IF(C9=\"M\",10)","v":false},false,false,false,false,false,false,false,false,{"$f":"SUM(O9:X9)","v":0}]
[null,null,null,null,null,null,null,null,null,null,null,null,null,null,null,null,null,null,null,null,null,null,null,null,null,null,"Karton-Nr. von bis"]
["ND",null,null,null,null,null,null,null,null,null,null,8,{"$f":"SUM(B11:K11)","v":0},null,{"$f":"IF(B11=\"M\",10)","v":false},{"$f":"IF(C11=\"M\",10)","v":false},false,false,false,false,false,false,false,false,{"$f":"SUM(O11:X11)","v":0}]
[]
[" HD",10,9,8,7,6,5,4,3,2,1]
["Anzahl",{"$f":"COUNTIF($B9:$K9,\"10\")","v":0},{"$f":"COUNTIF($B9:$K9,\"9\")","v":0},{"$f":"COUNTIF($B9:$K9,\"8\")","v":0},{"$f":"COUNTIF($B9:$K9,\"7\")","v":0},{"$f":"COUNTIF($B9:$K9,\"6\")","v":0},{"$f":"COUNTIF($B9:$K9,\"5\")","v":0},{"$f":"COUNTIF($B9:$K9,\"4\")","v":0},{"$f":"COUNTIF($B9:$K9,\"3\")","v":0},{"$f":"COUNTIF($B9:$K9,\"2\")","v":0},{"$f":"COUNTIF($B9:$K9,\"1\")","v":0}]
[]
["ND",10,9,8,7,6,5,4,3,2,1]
["Anzahl",{"$f":"COUNTIF($B11:$K11,\"10\")","v":0},{"$f":"COUNTIF($B11:$K11,\"9\")","v":0},{"$f":"COUNTIF($B11:$K11,\"8\")","v":0},{"$f":"COUNTIF($B11:$K11,\"7\")","v":0},{"$f":"COUNTIF($B11:$K11,\"6\")","v":0},{"$f":"COUNTIF($B11:$K11,\"5\")","v":0},{"$f":"COUNTIF($B11:$K11,\"4\")","v":0},{"$f":"COUNTIF($B11:$K11,\"3\")","v":0},{"$f":"COUNTIF($B11:$K11,\"2\")","v":0},{"$f":"COUNTIF($B11:$K11,\"1\")","v":0}]

{"sheet":"6","index":6,"n_rows":17,"n_cols":27,"rows_kept":17,"cut":false,"hidden":false,"merged":[[4,11,4,12],[5,1,5,2],[10,26,10,27],[8,26,8,27]]}
[null,null,{"$f":"Startliste!C1","v":"Heimprogramm 2024"}]
[null,null,null,null,null,null,null,null,null,null,null,null,null,null,null,null,null,null,null,null,null,1]
[]
[]
["Name",{"$f":"Startliste!B19","v":0},null,null,null,"Vorname",{"$f":"Startliste!C19","v":0},null,null,"St.",{"$f":"Startliste!F19","v":0},"Start-Nr."]
["Jahrgang",{"$f":"Startliste!D19","v":0},null,null,null,"Sektion",{"$f":"Startliste!E19","v":0},null,null,"Kat.",{"$f":"Startliste!G19","v":0},null,{"$f":"Startliste!A19","v":6}]
[]
[null,1,2,3,4,5,6,7,8,9,10,null,"Total",null,null,null,null,null,null,null,null,null,null,null,null,null,"Karton-Nr. von bis"]
["HD",null,null,null,null,null,null,null,null,null,null,null,{"$f":"SUM(B9:K9)","v":0},null,{"$f":"IF(B9=\"M\",10)","v":false},{"$f":"IF(C9=\"M\",10)","v":false},false,false,false,false,false,false,false,false,{"$f":"SUM(O9:X9)","v":0}]
[null,null,null,null,null,null,null,null,null,null,null,null,null,null,null,null,null,null,null,null,null,null,null,null,null,null,"Karton-Nr. von bis"]
["ND",null,null,null,null,null,null,null,null,null,null,8,{"$f":"SUM(B11:K11)","v":0},null,{"$f":"IF(B11=\"M\",10)","v":false},{"$f":"IF(C11=\"M\",10)","v":false},false,false,false,false,false,false,false,false,{"$f":"SUM(O11:X11)","v":0}]
[]
[" HD",10,9,8,7,6,5,4,3,2,1]
["Anzahl",{"$f":"COUNTIF($B9:$K9,\"10\")","v":0},{"$f":"COUNTIF($B9:$K9,\"9\")","v":0},{"$f":"COUNTIF($B9:$K9,\"8\")","v":0},{"$f":"COUNTIF($B9:$K9,\"7\")","v":0},{"$f":"COUNTIF($B9:$K9,\"6\")","v":0},{"$f":"COUNTIF($B9:$K9,\"5\")","v":0},{"$f":"COUNTIF($B9:$K9,\"4\")","v":0},{"$f":"COUNTIF($B9:$K9,\"3\")","v":0},{"$f":"COUNTIF($B9:$K9,\"2\")","v":0},{"$f":"COUNTIF($B9:$K9,\"1\")","v":0}]
[]
["ND",10,9,8,7,6,5,4,3,2,1]
["Anzahl",{"$f":"COUNTIF($B11:$K11,\"10\")","v":0},{"$f":"COUNTIF($B11:$K11,\"9\")","v":0},{"$f":"COUNTIF($B11:$K11,\"8\")","v":0},{"$f":"COUNTIF($B11:$K11,\"7\")","v":0},{"$f":"COUNTIF($B11:$K11,\"6\")","v":0},{"$f":"COUNTIF($B11:$K11,\"5\")","v":0},{"$f":"COUNTIF($B11:$K11,\"4\")","v":0},{"$f":"COUNTIF($B11:$K11,\"3\")","v":0},{"$f":"COUNTIF($B11:$K11,\"2\")","v":0},{"$f":"COUNTIF($B11:$K11,\"1\")","v":0}]

{"sheet":"7","index":7,"n_rows":17,"n_cols":27,"rows_kept":17,"cut":false,"hidden":false,"merged":[[4,11,4,12],[5,1,5,2],[10,26,10,27],[8,26,8,27]]}
[null,null,{"$f":"Startliste!C1","v":"Heimprogramm 2024"}]
[null,null,null,null,null,null,null,null,null,null,null,null,null,null,null,null,null,null,null,null,null,1]
[]
[]
["Name",{"$f":"Startliste!B20","v":0},null,null,null,"Vorname",{"$f":"Startliste!C20","v":0},null,null,"St.",{"$f":"Startliste!F20","v":0},"Start-Nr."]
["Jahrgang",{"$f":"Startliste!D20","v":0},null,null,null,"Sektion",{"$f":"Startliste!E20","v":0},null,null,"Kat.",{"$f":"Startliste!G20","v":0},null,{"$f":"Startliste!A20","v":7}]
[]
[null,1,2,3,4,5,6,7,8,9,10,null,"Total",null,null,null,null,null,null,null,null,null,null,null,null,null,"Karton-Nr. von bis"]
["HD",null,null,null,null,null,null,null,null,null,null,null,{"$f":"SUM(B9:K9)","v":0},null,{"$f":"IF(B9=\"M\",10)","v":false},{"$f":"IF(C9=\"M\",10)","v":false},false,false,false,false,false,false,false,false,{"$f":"SUM(O9:X9)","v":0}]
[null,null,null,null,null,null,null,null,null,null,null,null,null,null,null,null,null,null,null,null,null,null,null,null,null,null,"Karton-Nr. von bis"]
["ND",null,null,null,null,null,null,null,null,null,null,8,{"$f":"SUM(B11:K11)","v":0},null,{"$f":"IF(B11=\"M\",10)","v":false},{"$f":"IF(C11=\"M\",10)","v":false},false,false,false,false,false,false,false,false,{"$f":"SUM(O11:X11)","v":0}]
[]
[" HD",10,9,8,7,6,5,4,3,2,1]
["Anzahl",{"$f":"COUNTIF($B9:$K9,\"10\")","v":0},{"$f":"COUNTIF($B9:$K9,\"9\")","v":0},{"$f":"COUNTIF($B9:$K9,\"8\")","v":0},{"$f":"COUNTIF($B9:$K9,\"7\")","v":0},{"$f":"COUNTIF($B9:$K9,\"6\")","v":0},{"$f":"COUNTIF($B9:$K9,\"5\")","v":0},{"$f":"COUNTIF($B9:$K9,\"4\")","v":0},{"$f":"COUNTIF($B9:$K9,\"3\")","v":0},{"$f":"COUNTIF($B9:$K9,\"2\")","v":0},{"$f":"COUNTIF($B9:$K9,\"1\")","v":0}]
[]
["ND",10,9,8,7,6,5,4,3,2,1]
["Anzahl",{"$f":"COUNTIF($B11:$K11,\"10\")","v":0},{"$f":"COUNTIF($B11:$K11,\"9\")","v":0},{"$f":"COUNTIF($B11:$K11,\"8\")","v":0},{"$f":"COUNTIF($B11:$K11,\"7\")","v":0},{"$f":"COUNTIF($B11:$K11,\"6\")","v":0},{"$f":"COUNTIF($B11:$K11,\"5\")","v":0},{"$f":"COUNTIF($B11:$K11,\"4\")","v":0},{"$f":"COUNTIF($B11:$K11,\"3\")","v":0},{"$f":"COUNTIF($B11:$K11,\"2\")","v":0},{"$f":"COUNTIF($B11:$K11,\"1\")","v":0}]

{"sheet":"8","index":8,"n_rows":17,"n_cols":27,"rows_kept":17,"cut":false,"hidden":false,"merged":[[4,11,4,12],[5,1,5,2],[10,26,10,27],[8,26,8,27]]}
[null,null,{"$f":"Startliste!C1","v":"Heimprogramm 2024"}]
[null,null,null,null,null,null,null,null,null,null,null,null,null,null,null,null,null,null,null,null,null,1]
[]
[]
["Name",{"$f":"Startliste!B21","v":0},null,null,null,"Vorname",{"$f":"Startliste!C21","v":0},null,null,"St.",{"$f":"Startliste!F21","v":0},"Start-Nr."]
["Jahrgang",{"$f":"Startliste!D21","v":0},null,null,null,"Sektion",{"$f":"Startliste!E21","v":0},null,null,"Kat.",{"$f":"Startliste!G21","v":0},null,{"$f":"Startliste!A21","v":8}]
[]
[null,1,2,3,4,5,6,7,8,9,10,null,"Total",null,null,null,null,null,null,null,null,null,null,null,null,null,"Karton-Nr. von bis"]
["HD",null,null,null,null,null,null,null,null,null,null,null,{"$f":"SUM(B9:K9)","v":0},null,{"$f":"IF(B9=\"M\",10)","v":false},{"$f":"IF(C9=\"M\",10)","v":false},false,false,false,false,false,false,false,false,{"$f":"SUM(O9:X9)","v":0}]
[null,null,null,null,null,null,null,null,null,null,null,null,null,null,null,null,null,null,null,null,null,null,null,null,null,null,"Karton-Nr. von bis"]
["ND",null,null,null,null,null,null,null,null,null,null,8,{"$f":"SUM(B11:K11)","v":0},null,{"$f":"IF(B11=\"M\",10)","v":false},{"$f":"IF(C11=\"M\",10)","v":false},false,false,false,false,false,false,false,false,{"$f":"SUM(O11:X11)","v":0}]
[]
[" HD",10,9,8,7,6,5,4,3,2,1]
["Anzahl",{"$f":"COUNTIF($B9:$K9,\"10\")","v":0},{"$f":"COUNTIF($B9:$K9,\"9\")","v":0},{"$f":"COUNTIF($B9:$K9,\"8\")","v":0},{"$f":"COUNTIF($B9:$K9,\"7\")","v":0},{"$f":"COUNTIF($B9:$K9,\"6\")","v":0},{"$f":"COUNTIF($B9:$K9,\"5\")","v":0},{"$f":"COUNTIF($B9:$K9,\"4\")","v":0},{"$f":"COUNTIF($B9:$K9,\"3\")","v":0},{"$f":"COUNTIF($B9:$K9,\"2\")","v":0},{"$f":"COUNTIF($B9:$K9,\"1\")","v":0}]
[]
["ND",10,9,8,7,6,5,4,3,2,1]
["Anzahl",{"$f":"COUNTIF($B11:$K11,\"10\")","v":0},{"$f":"COUNTIF($B11:$K11,\"9\")","v":0},{"$f":"COUNTIF($B11:$K11,\"8\")","v":0},{"$f":"COUNTIF($B11:$K11,\"7\")","v":0},{"$f":"COUNTIF($B11:$K11,\"6\")","v":0},{"$f":"COUNTIF($B11:$K11,\"5\")","v":0},{"$f":"COUNTIF($B11:$K11,\"4\")","v":0},{"$f":"COUNTIF($B11:$K11,\"3\")","v":0},{"$f":"COUNTIF($B11:$K11,\"2\")","v":0},{"$f":"COUNTIF($B11:$K11,\"1\")","v":0}]

{"sheet":"9","index":9,"n_rows":17,"n_cols":27,"rows_kept":17,"cut":false,"hidden":false,"merged":[[4,11,4,12],[5,1,5,2],[10,26,10,27],[8,26,8,27]]}
[null,null,{"$f":"Startliste!C1","v":"Heimprogramm 2024"}]
[null,null,null,null,null,null,null,null,null,null,null,null,null,null,null,null,null,null,null,null,null,1]
[]
[]
["Name",{"$f":"Startliste!B22","v":0},null,null,null,"Vorname",{"$f":"Startliste!C22","v":0},null,null,"St.",{"$f":"Startliste!F22","v":0},"Start-Nr."]
["Jahrgang",{"$f":"Startliste!D22","v":0},null,null,null,"Sektion",{"$f":"Startliste!E22","v":0},null,null,"Kat.",{"$f":"Startliste!G22","v":0},null,{"$f":"Startliste!A22","v":9}]
[]
[null,1,2,3,4,5,6,7,8,9,10,null,"Total",null,null,null,null,null,null,null,null,null,null,null,null,null,"Karton-Nr. von bis"]
["HD",null,null,null,null,null,null,null,null,null,null,null,{"$f":"SUM(B9:K9)","v":0},null,{"$f":"IF(B9=\"M\",10)","v":false},{"$f":"IF(C9=\"M\",10)","v":false},false,false,false,false,false,false,false,false,{"$f":"SUM(O9:X9)","v":0}]
[null,null,null,null,null,null,null,null,null,null,null,null,null,null,null,null,null,null,null,null,null,null,null,null,null,null,"Karton-Nr. von bis"]
["ND",null,null,null,null,null,null,null,null,null,null,8,{"$f":"SUM(B11:K11)","v":0},null,{"$f":"IF(B11=\"M\",10)","v":false},{"$f":"IF(C11=\"M\",10)","v":false},false,false,false,false,false,false,false,false,{"$f":"SUM(O11:X11)","v":0}]
[]
[" HD",10,9,8,7,6,5,4,3,2,1]
["Anzahl",{"$f":"COUNTIF($B9:$K9,\"10\")","v":0},{"$f":"COUNTIF($B9:$K9,\"9\")","v":0},{"$f":"COUNTIF($B9:$K9,\"8\")","v":0},{"$f":"COUNTIF($B9:$K9,\"7\")","v":0},{"$f":"COUNTIF($B9:$K9,\"6\")","v":0},{"$f":"COUNTIF($B9:$K9,\"5\")","v":0},{"$f":"COUNTIF($B9:$K9,\"4\")","v":0},{"$f":"COUNTIF($B9:$K9,\"3\")","v":0},{"$f":"COUNTIF($B9:$K9,\"2\")","v":0},{"$f":"COUNTIF($B9:$K9,\"1\")","v":0}]
[]
["ND",10,9,8,7,6,5,4,3,2,1]
["Anzahl",{"$f":"COUNTIF($B11:$K11,\"10\")","v":0},{"$f":"COUNTIF($B11:$K11,\"9\")","v":0},{"$f":"COUNTIF($B11:$K11,\"8\")","v":0},{"$f":"COUNTIF($B11:$K11,\"7\")","v":0},{"$f":"COUNTIF($B11:$K11,\"6\")","v":0},{"$f":"COUNTIF($B11:$K11,\"5\")","v":0},{"$f":"COUNTIF($B11:$K11,\"4\")","v":0},{"$f":"COUNTIF($B11:$K11,\"3\")","v":0},{"$f":"COUNTIF($B11:$K11,\"2\")","v":0},{"$f":"COUNTIF($B11:$K11,\"1\")","v":0}]

{"sheet":"10","index":10,"n_rows":17,"n_cols":27,"rows_kept":17,"cut":false,"hidden":false,"merged":[[4,11,4,12],[5,1,5,2],[10,26,10,27],[8,26,8,27]]}
[null,null,{"$f":"Startliste!C1","v":"Heimprogramm 2024"}]
[null,null,null,null,null,null,null,null,null,null,null,null,null,null,null,null,null,null,null,null,null,1]
[]
[]
["Name",{"$f":"Startliste!B23","v":0},null,null,null,"Vorname",{"$f":"Startliste!C23","v":0},null,null,"St.",{"$f":"Startliste!F23","v":0},"Start-Nr."]
["Jahrgang",{"$f":"Startliste!D23","v":0},null,null,null,"Sektion",{"$f":"Startliste!E23","v":0},null,null,"Kat.",{"$f":"Startliste!G23","v":0},null,{"$f":"Startliste!A23","v":10}]
[]
[null,1,2,3,4,5,6,7,8,9,10,null,"Total",null,null,null,null,null,null,null,null,null,null,null,null,null,"Karton-Nr. von bis"]
["HD",null,null,null,null,null,null,null,null,null,null,null,{"$f":"SUM(B9:K9)","v":0},null,{"$f":"IF(B9=\"M\",10)","v":false},{"$f":"IF(C9=\"M\",10)","v":false},false,false,false,false,false,false,false,false,{"$f":"SUM(O9:X9)","v":0}]
[null,null,null,null,null,null,null,null,null,null,null,null,null,null,null,null,null,null,null,null,null,null,null,null,null,null,"Karton-Nr. von bis"]
["ND",null,null,null,null,null,null,null,null,null,null,8,{"$f":"SUM(B11:K11)","v":0},null,{"$f":"IF(B11=\"M\",10)","v":false},{"$f":"IF(C11=\"M\",10)","v":false},false,false,false,false,false,false,false,false,{"$f":"SUM(O11:X11)","v":0}]
[]
[" HD",10,9,8,7,6,5,4,3,2,1]
["Anzahl",{"$f":"COUNTIF($B9:$K9,\"10\")","v":0},{"$f":"COUNTIF($B9:$K9,\"9\")","v":0},{"$f":"COUNTIF($B9:$K9,\"8\")","v":0},{"$f":"COUNTIF($B9:$K9,\"7\")","v":0},{"$f":"COUNTIF($B9:$K9,\"6\")","v":0},{"$f":"COUNTIF($B9:$K9,\"5\")","v":0},{"$f":"COUNTIF($B9:$K9,\"4\")","v":0},{"$f":"COUNTIF($B9:$K9,\"3\")","v":0},{"$f":"COUNTIF($B9:$K9,\"2\")","v":0},{"$f":"COUNTIF($B9:$K9,\"1\")","v":0}]
[]
["ND",10,9,8,7,6,5,4,3,2,1]
["Anzahl",{"$f":"COUNTIF($B11:$K11,\"10\")","v":0},{"$f":"COUNTIF($B11:$K11,\"9\")","v":0},{"$f":"COUNTIF($B11:$K11,\"8\")","v":0},{"$f":"COUNTIF($B11:$K11,\"7\")","v":0},{"$f":"COUNTIF($B11:$K11,\"6\")","v":0},{"$f":"COUNTIF($B11:$K11,\"5\")","v":0},{"$f":"COUNTIF($B11:$K11,\"4\")","v":0},{"$f":"COUNTIF($B11:$K11,\"3\")","v":0},{"$f":"COUNTIF($B11:$K11,\"2\")","v":0},{"$f":"COUNTIF($B11:$K11,\"1\")","v":0}]

{"sheet":"11","index":11,"n_rows":17,"n_cols":27,"rows_kept":17,"cut":false,"hidden":false,"merged":[[4,11,4,12],[5,1,5,2],[10,26,10,27],[8,26,8,27]]}
[null,null,{"$f":"Startliste!C1","v":"Heimprogramm 2024"}]
[null,null,null,null,null,null,null,null,null,null,null,null,null,null,null,null,null,null,null,null,null,1]
[]
[]
["Name",{"$f":"Startliste!B24","v":0},null,null,null,"Vorname",{"$f":"Startliste!C24","v":0},null,null,"St.",{"$f":"Startliste!F24","v":0},"Start-Nr."]
["Jahrgang",{"$f":"Startliste!D24","v":0},null,null,null,"Sektion",{"$f":"Startliste!E24","v":0},null,null,"Kat.",{"$f":"Startliste!G24","v":0},null,{"$f":"Startliste!A24","v":11}]
[]
[null,1,2,3,4,5,6,7,8,9,10,null,"Total",null,null,null,null,null,null,null,null,null,null,null,null,null,"Karton-Nr. von bis"]
["HD",null,null,null,null,null,null,null,null,null,null,null,{"$f":"SUM(B9:K9)","v":0},null,{"$f":"IF(B9=\"M\",10)","v":false},{"$f":"IF(C9=\"M\",10)","v":false},false,false,false,false,false,false,false,false,{"$f":"SUM(O9:X9)","v":0}]
[null,null,null,null,null,null,null,null,null,null,null,null,null,null,null,null,null,null,null,null,null,null,null,null,null,null,"Karton-Nr. von bis"]
["ND",null,null,null,null,null,null,null,null,null,null,8,{"$f":"SUM(B11:K11)","v":0},null,{"$f":"IF(B11=\"M\",10)","v":false},{"$f":"IF(C11=\"M\",10)","v":false},false,false,false,false,false,false,false,false,{"$f":"SUM(O11:X11)","v":0}]
[]
[" HD",10,9,8,7,6,5,4,3,2,1]
["Anzahl",{"$f":"COUNTIF($B9:$K9,\"10\")","v":0},{"$f":"COUNTIF($B9:$K9,\"9\")","v":0},{"$f":"COUNTIF($B9:$K9,\"8\")","v":0},{"$f":"COUNTIF($B9:$K9,\"7\")","v":0},{"$f":"COUNTIF($B9:$K9,\"6\")","v":0},{"$f":"COUNTIF($B9:$K9,\"5\")","v":0},{"$f":"COUNTIF($B9:$K9,\"4\")","v":0},{"$f":"COUNTIF($B9:$K9,\"3\")","v":0},{"$f":"COUNTIF($B9:$K9,\"2\")","v":0},{"$f":"COUNTIF($B9:$K9,\"1\")","v":0}]
[]
["ND",10,9,8,7,6,5,4,3,2,1]
["Anzahl",{"$f":"COUNTIF($B11:$K11,\"10\")","v":0},{"$f":"COUNTIF($B11:$K11,\"9\")","v":0},{"$f":"COUNTIF($B11:$K11,\"8\")","v":0},{"$f":"COUNTIF($B11:$K11,\"7\")","v":0},{"$f":"COUNTIF($B11:$K11,\"6\")","v":0},{"$f":"COUNTIF($B11:$K11,\"5\")","v":0},{"$f":"COUNTIF($B11:$K11,\"4\")","v":0},{"$f":"COUNTIF($B11:$K11,\"3\")","v":0},{"$f":"COUNTIF($B11:$K11,\"2\")","v":0},{"$f":"COUNTIF($B11:$K11,\"1\")","v":0}]

{"sheet":"12","index":12,"n_rows":17,"n_cols":27,"rows_kept":17,"cut":false,"hidden":false,"merged":[[4,11,4,12],[5,1,5,2],[10,26,10,27],[8,26,8,27]]}
[null,null,{"$f":"Startliste!C1","v":"Heimprogramm 2024"}]
[null,null,null,null,null,null,null,null,null,null,null,null,null,null,null,null,null,null,null,null,null,1]
[]
[]
["Name",{"$f":"Startliste!B25","v":0},null,null,null,"Vorname",{"$f":"Startliste!C25","v":0},null,null,"St.",{"$f":"Startliste!F25","v":0},"Start-Nr."]
["Jahrgang",{"$f":"Startliste!D25","v":0},null,null,null,"Sektion",{"$f":"Startliste!E25","v":0},null,null,"Kat.",{"$f":"Startliste!G25","v":0},null,{"$f":"Startliste!A25","v":12}]
[]
[null,1,2,3,4,5,6,7,8,9,10,null,"Total",null,null,null,null,null,null,null,null,null,null,null,null,null,"Karton-Nr. von bis"]
["HD",null,null,null,null,null,null,null,null,null,null,null,{"$f":"SUM(B9:K9)","v":0},null,{"$f":"IF(B9=\"M\",10)","v":false},{"$f":"IF(C9=\"M\",10)","v":false},false,false,false,false,false,false,false,false,{"$f":"SUM(O9:X9)","v":0}]
[null,null,null,null,null,null,null,null,null,null,null,null,null,null,null,null,null,null,null,null,null,null,null,null,null,null,"Karton-Nr. von bis"]
["ND",null,null,null,null,null,null,null,null,null,null,8,{"$f":"SUM(B11:K11)","v":0},null,{"$f":"IF(B11=\"M\",10)","v":false},{"$f":"IF(C11=\"M\",10)","v":false},false,false,false,false,false,false,false,false,{"$f":"SUM(O11:X11)","v":0}]
[]
[" HD",10,9,8,7,6,5,4,3,2,1]
["Anzahl",{"$f":"COUNTIF($B9:$K9,\"10\")","v":0},{"$f":"COUNTIF($B9:$K9,\"9\")","v":0},{"$f":"COUNTIF($B9:$K9,\"8\")","v":0},{"$f":"COUNTIF($B9:$K9,\"7\")","v":0},{"$f":"COUNTIF($B9:$K9,\"6\")","v":0},{"$f":"COUNTIF($B9:$K9,\"5\")","v":0},{"$f":"COUNTIF($B9:$K9,\"4\")","v":0},{"$f":"COUNTIF($B9:$K9,\"3\")","v":0},{"$f":"COUNTIF($B9:$K9,\"2\")","v":0},{"$f":"COUNTIF($B9:$K9,\"1\")","v":0}]
[]
["ND",10,9,8,7,6,5,4,3,2,1]
["Anzahl",{"$f":"COUNTIF($B11:$K11,\"10\")","v":0},{"$f":"COUNTIF($B11:$K11,\"9\")","v":0},{"$f":"COUNTIF($B11:$K11,\"8\")","v":0},{"$f":"COUNTIF($B11:$K11,\"7\")","v":0},{"$f":"COUNTIF($B11:$K11,\"6\")","v":0},{"$f":"COUNTIF($B11:$K11,\"5\")","v":0},{"$f":"COUNTIF($B11:$K11,\"4\")","v":0},{"$f":"COUNTIF($B11:$K11,\"3\")","v":0},{"$f":"COUNTIF($B11:$K11,\"2\")","v":0},{"$f":"COUNTIF($B11:$K11,\"1\")","v":0}]

{"sheet":"13","index":13,"n_rows":17,"n_cols":27,"rows_kept":17,"cut":false,"hidden":false,"merged":[[4,11,4,12],[5,1,5,2],[10,26,10,27],[8,26,8,27]]}
[null,null,{"$f":"Startliste!C1","v":"Heimprogramm 2024"}]
[null,null,null,null,null,null,null,null,null,null,null,null,null,null,null,null,null,null,null,null,null,1]
[]
[]
["Name",{"$f":"Startliste!B26","v":0},null,null,null,"Vorname",{"$f":"Startliste!C26","v":0},null,null,"St.",{"$f":"Startliste!F26","v":0},"Start-Nr."]
["Jahrgang",{"$f":"Startliste!D26","v":0},null,null,null,"Sektion",{"$f":"Startliste!E26","v":0},null,null,"Kat.",{"$f":"Startliste!G26","v":0},null,{"$f":"Startliste!A26","v":13}]
[]
[null,1,2,3,4,5,6,7,8,9,10,null,"Total",null,null,null,null,null,null,null,null,null,null,null,null,null,"Karton-Nr. von bis"]
["HD",null,null,null,null,null,null,null,null,null,null,null,{"$f":"SUM(B9:K9)","v":0},null,{"$f":"IF(B9=\"M\",10)","v":false},{"$f":"IF(C9=\"M\",10)","v":false},false,false,false,false,false,false,false,false,{"$f":"SUM(O9:X9)","v":0}]
[null,null,null,null,null,null,null,null,null,null,null,null,null,null,null,null,null,null,null,null,null,null,null,null,null,null,"Karton-Nr. von bis"]
["ND",null,null,null,null,null,null,null,null,null,null,8,{"$f":"SUM(B11:K11)","v":0},null,{"$f":"IF(B11=\"M\",10)","v":false},{"$f":"IF(C11=\"M\",10)","v":false},false,false,false,false,false,false,false,false,{"$f":"SUM(O11:X11)","v":0}]
[]
[" HD",10,9,8,7,6,5,4,3,2,1]
["Anzahl",{"$f":"COUNTIF($B9:$K9,\"10\")","v":0},{"$f":"COUNTIF($B9:$K9,\"9\")","v":0},{"$f":"COUNTIF($B9:$K9,\"8\")","v":0},{"$f":"COUNTIF($B9:$K9,\"7\")","v":0},{"$f":"COUNTIF($B9:$K9,\"6\")","v":0},{"$f":"COUNTIF($B9:$K9,\"5\")","v":0},{"$f":"COUNTIF($B9:$K9,\"4\")","v":0},{"$f":"COUNTIF($B9:$K9,\"3\")","v":0},{"$f":"COUNTIF($B9:$K9,\"2\")","v":0},{"$f":"COUNTIF($B9:$K9,\"1\")","v":0}]
[]
["ND",10,9,8,7,6,5,4,3,2,1]
["Anzahl",{"$f":"COUNTIF($B11:$K11,\"10\")","v":0},{"$f":"COUNTIF($B11:$K11,\"9\")","v":0},{"$f":"COUNTIF($B11:$K11,\"8\")","v":0},{"$f":"COUNTIF($B11:$K11,\"7\")","v":0},{"$f":"COUNTIF($B11:$K11,\"6\")","v":0},{"$f":"COUNTIF($B11:$K11,\"5\")","v":0},{"$f":"COUNTIF($B11:$K11,\"4\")","v":0},{"$f":"COUNTIF($B11:$K11,\"3\")","v":0},{"$f":"COUNTIF($B11:$K11,\"2\")","v":0},{"$f":"COUNTIF($B11:$K11,\"1\")","v":0}]

{"sheet":"14","index":14,"n_rows":17,"n_cols":27,"rows_kept":17,"cut":false,"hidden":false,"merged":[[4,11,4,12],[5,1,5,2],[10,26,10,27],[8,26,8,27]]}
[null,null,{"$f":"Startliste!C1","v":"Heimprogramm 2024"}]
[null,null,null,null,null,null,null,null,null,null,null,null,null,null,null,null,null,null,null,null,null,1]
[]
[]
["Name",{"$f":"Startliste!B27","v":0},null,null,null,"Vorname",{"$f":"Startliste!C27","v":0},null,null,"St.",{"$f":"Startliste!F27","v":0},"Start-Nr."]
["Jahrgang",{"$f":"Startliste!D27","v":0},null,null,null,"Sektion",{"$f":"Startliste!E27","v":0},null,null,"Kat.",{"$f":"Startliste!G27","v":0},null,{"$f":"Startliste!A27","v":14}]
[]
[null,1,2,3,4,5,6,7,8,9,10,null,"Total",null,null,null,null,null,null,null,null,null,null,null,null,null,"Karton-Nr. von bis"]
["HD",null,null,null,null,null,null,null,null,null,null,null,{"$f":"SUM(B9:K9)","v":0},null,{"$f":"IF(B9=\"M\",10)","v":false},{"$f":"IF(C9=\"M\",10)","v":false},false,false,false,false,false,false,false,false,{"$f":"SUM(O9:X9)","v":0}]
[null,null,null,null,null,null,null,null,null,null,null,null,null,null,null,null,null,null,null,null,null,null,null,null,null,null,"Karton-Nr. von bis"]
["ND",null,null,null,null,null,null,null,null,null,null,8,{"$f":"SUM(B11:K11)","v":0},null,{"$f":"IF(B11=\"M\",10)","v":false},{"$f":"IF(C11=\"M\",10)","v":false},false,false,false,false,false,false,false,false,{"$f":"SUM(O11:X11)","v":0}]
[]
[" HD",10,9,8,7,6,5,4,3,2,1]
["Anzahl",{"$f":"COUNTIF($B9:$K9,\"10\")","v":0},{"$f":"COUNTIF($B9:$K9,\"9\")","v":0},{"$f":"COUNTIF($B9:$K9,\"8\")","v":0},{"$f":"COUNTIF($B9:$K9,\"7\")","v":0},{"$f":"COUNTIF($B9:$K9,\"6\")","v":0},{"$f":"COUNTIF($B9:$K9,\"5\")","v":0},{"$f":"COUNTIF($B9:$K9,\"4\")","v":0},{"$f":"COUNTIF($B9:$K9,\"3\")","v":0},{"$f":"COUNTIF($B9:$K9,\"2\")","v":0},{"$f":"COUNTIF($B9:$K9,\"1\")","v":0}]
[]
["ND",10,9,8,7,6,5,4,3,2,1]
["Anzahl",{"$f":"COUNTIF($B11:$K11,\"10\")","v":0},{"$f":"COUNTIF($B11:$K11,\"9\")","v":0},{"$f":"COUNTIF($B11:$K11,\"8\")","v":0},{"$f":"COUNTIF($B11:$K11,\"7\")","v":0},{"$f":"COUNTIF($B11:$K11,\"6\")","v":0},{"$f":"COUNTIF($B11:$K11,\"5\")","v":0},{"$f":"COUNTIF($B11:$K11,\"4\")","v":0},{"$f":"COUNTIF($B11:$K11,\"3\")","v":0},{"$f":"COUNTIF($B11:$K11,\"2\")","v":0},{"$f":"COUNTIF($B11:$K11,\"1\")","v":0}]

{"sheet":"15","index":15,"n_rows":17,"n_cols":27,"rows_kept":17,"cut":false,"hidden":false,"merged":[[4,11,4,12],[5,1,5,2],[10,26,10,27],[8,26,8,27]]}
[null,null,{"$f":"Startliste!C1","v":"Heimprogramm 2024"}]
[null,null,null,null,null,null,null,null,null,null,null,null,null,null,null,null,null,null,null,null,null,1]
[]
[]
["Name",{"$f":"Startliste!B28","v":0},null,null,null,"Vorname",{"$f":"Startliste!C28","v":0},null,null,"St.",{"$f":"Startliste!F28","v":0},"Start-Nr."]
["Jahrgang",{"$f":"Startliste!D28","v":0},null,null,null,"Sektion",{"$f":"Startliste!E28","v":0},null,null,"Kat.",{"$f":"Startliste!G28","v":0},null,{"$f":"Startliste!A28","v":15}]
[]
[null,1,2,3,4,5,6,7,8,9,10,null,"Total",null,null,null,null,null,null,null,null,null,null,null,null,null,"Karton-Nr. von bis"]
["HD",null,null,null,null,null,null,null,null,null,null,null,{"$f":"SUM(B9:K9)","v":0},null,{"$f":"IF(B9=\"M\",10)","v":false},{"$f":"IF(C9=\"M\",10)","v":false},false,false,false,false,false,false,false,false,{"$f":"SUM(O9:X9)","v":0}]
[null,null,null,null,null,null,null,null,null,null,null,null,null,null,null,null,null,null,null,null,null,null,null,null,null,null,"Karton-Nr. von bis"]
["ND",null,null,null,null,null,null,null,null,null,null,8,{"$f":"SUM(B11:K11)","v":0},null,{"$f":"IF(B11=\"M\",10)","v":false},{"$f":"IF(C11=\"M\",10)","v":false},false,false,false,false,false,false,false,false,{"$f":"SUM(O11:X11)","v":0}]
[]
[" HD",10,9,8,7,6,5,4,3,2,1]
["Anzahl",{"$f":"COUNTIF($B9:$K9,\"10\")","v":0},{"$f":"COUNTIF($B9:$K9,\"9\")","v":0},{"$f":"COUNTIF($B9:$K9,\"8\")","v":0},{"$f":"COUNTIF($B9:$K9,\"7\")","v":0},{"$f":"COUNTIF($B9:$K9,\"6\")","v":0},{"$f":"COUNTIF($B9:$K9,\"5\")","v":0},{"$f":"COUNTIF($B9:$K9,\"4\")","v":0},{"$f":"COUNTIF($B9:$K9,\"3\")","v":0},{"$f":"COUNTIF($B9:$K9,\"2\")","v":0},{"$f":"COUNTIF($B9:$K9,\"1\")","v":0}]
[]
["ND",10,9,8,7,6,5,4,3,2,1]
["Anzahl",{"$f":"COUNTIF($B11:$K11,\"10\")","v":0},{"$f":"COUNTIF($B11:$K11,\"9\")","v":0},{"$f":"COUNTIF($B11:$K11,\"8\")","v":0},{"$f":"COUNTIF($B11:$K11,\"7\")","v":0},{"$f":"COUNTIF($B11:$K11,\"6\")","v":0},{"$f":"COUNTIF($B11:$K11,\"5\")","v":0},{"$f":"COUNTIF($B11:$K11,\"4\")","v":0},{"$f":"COUNTIF($B11:$K11,\"3\")","v":0},{"$f":"COUNTIF($B11:$K11,\"2\")","v":0},{"$f":"COUNTIF($B11:$K11,\"1\")","v":0}]

{"sheet":"16","index":16,"n_rows":17,"n_cols":27,"rows_kept":17,"cut":false,"hidden":false,"merged":[[4,11,4,12],[5,1,5,2],[10,26,10,27],[8,26,8,27]]}
[null,null,{"$f":"Startliste!C1","v":"Heimprogramm 2024"}]
[null,null,null,null,null,null,null,null,null,null,null,null,null,null,null,null,null,null,null,null,null,1]
[]
[]
["Name",{"$f":"Startliste!B29","v":0},null,null,null,"Vorname",{"$f":"Startliste!C29","v":0},null,null,"St.",{"$f":"Startliste!F29","v":0},"Start-Nr."]
["Jahrgang",{"$f":"Startliste!D29","v":0},null,null,null,"Sektion",{"$f":"Startliste!E29","v":0},null,null,"Kat.",{"$f":"Startliste!G29","v":0},null,{"$f":"Startliste!A29","v":16}]
[]
[null,1,2,3,4,5,6,7,8,9,10,null,"Total",null,null,null,null,null,null,null,null,null,null,null,null,null,"Karton-Nr. von bis"]
["HD",null,null,null,null,null,null,null,null,null,null,null,{"$f":"SUM(B9:K9)","v":0},null,{"$f":"IF(B9=\"M\",10)","v":false},{"$f":"IF(C9=\"M\",10)","v":false},false,false,false,false,false,false,false,false,{"$f":"SUM(O9:X9)","v":0}]
[null,null,null,null,null,null,null,null,null,null,null,null,null,null,null,null,null,null,null,null,null,null,null,null,null,null,"Karton-Nr. von bis"]
["ND",null,null,null,null,null,null,null,null,null,null,8,{"$f":"SUM(B11:K11)","v":0},null,{"$f":"IF(B11=\"M\",10)","v":false},{"$f":"IF(C11=\"M\",10)","v":false},false,false,false,false,false,false,false,false,{"$f":"SUM(O11:X11)","v":0}]
[]
[" HD",10,9,8,7,6,5,4,3,2,1]
["Anzahl",{"$f":"COUNTIF($B9:$K9,\"10\")","v":0},{"$f":"COUNTIF($B9:$K9,\"9\")","v":0},{"$f":"COUNTIF($B9:$K9,\"8\")","v":0},{"$f":"COUNTIF($B9:$K9,\"7\")","v":0},{"$f":"COUNTIF($B9:$K9,\"6\")","v":0},{"$f":"COUNTIF($B9:$K9,\"5\")","v":0},{"$f":"COUNTIF($B9:$K9,\"4\")","v":0},{"$f":"COUNTIF($B9:$K9,\"3\")","v":0},{"$f":"COUNTIF($B9:$K9,\"2\")","v":0},{"$f":"COUNTIF($B9:$K9,\"1\")","v":0}]
[]
["ND",10,9,8,7,6,5,4,3,2,1]
["Anzahl",{"$f":"COUNTIF($B11:$K11,\"10\")","v":0},{"$f":"COUNTIF($B11:$K11,\"9\")","v":0},{"$f":"COUNTIF($B11:$K11,\"8\")","v":0},{"$f":"COUNTIF($B11:$K11,\"7\")","v":0},{"$f":"COUNTIF($B11:$K11,\"6\")","v":0},{"$f":"COUNTIF($B11:$K11,\"5\")","v":0},{"$f":"COUNTIF($B11:$K11,\"4\")","v":0},{"$f":"COUNTIF($B11:$K11,\"3\")","v":0},{"$f":"COUNTIF($B11:$K11,\"2\")","v":0},{"$f":"COUNTIF($B11:$K11,\"1\")","v":0}]

{"sheet":"17","index":17,"n_rows":17,"n_cols":27,"rows_kept":17,"cut":false,"hidden":false,"merged":[[4,11,4,12],[5,1,5,2],[10,26,10,27],[8,26,8,27]]}
[null,null,{"$f":"Startliste!C1","v":"Heimprogramm 2024"}]
[null,null,null,null,null,null,null,null,null,null,null,null,null,null,null,null,null,null,null,null,null,1]
[]
[]
["Name",{"$f":"Startliste!B30","v":0},null,null,null,"Vorname",{"$f":"Startliste!C30","v":0},null,null,"St.",{"$f":"Startliste!F30","v":0},"Start-Nr."]
["Jahrgang",{"$f":"Startliste!D30","v":0},null,null,null,"Sektion",{"$f":"Startliste!E30","v":0},null,null,"Kat.",{"$f":"Startliste!G30","v":0},null,{"$f":"Startliste!A30","v":17}]
[]
[null,1,2,3,4,5,6,7,8,9,10,null,"Total",null,null,null,null,null,null,null,null,null,null,null,null,null,"Karton-Nr. von bis"]
["HD",null,null,null,null,null,null,null,null,null,null,null,{"$f":"SUM(B9:K9)","v":0},null,{"$f":"IF(B9=\"M\",10)","v":false},{"$f":"IF(C9=\"M\",10)","v":false},false,false,false,false,false,false,false,false,{"$f":"SUM(O9:X9)","v":0}]
[null,null,null,null,null,null,null,null,null,null,null,null,null,null,null,null,null,null,null,null,null,null,null,null,null,null,"Karton-Nr. von bis"]
["ND",null,null,null,null,null,null,null,null,null,null,8,{"$f":"SUM(B11:K11)","v":0},null,{"$f":"IF(B11=\"M\",10)","v":false},{"$f":"IF(C11=\"M\",10)","v":false},false,false,false,false,false,false,false,false,{"$f":"SUM(O11:X11)","v":0}]
[]
[" HD",10,9,8,7,6,5,4,3,2,1]
["Anzahl",{"$f":"COUNTIF($B9:$K9,\"10\")","v":0},{"$f":"COUNTIF($B9:$K9,\"9\")","v":0},{"$f":"COUNTIF($B9:$K9,\"8\")","v":0},{"$f":"COUNTIF($B9:$K9,\"7\")","v":0},{"$f":"COUNTIF($B9:$K9,\"6\")","v":0},{"$f":"COUNTIF($B9:$K9,\"5\")","v":0},{"$f":"COUNTIF($B9:$K9,\"4\")","v":0},{"$f":"COUNTIF($B9:$K9,\"3\")","v":0},{"$f":"COUNTIF($B9:$K9,\"2\")","v":0},{"$f":"COUNTIF($B9:$K9,\"1\")","v":0}]
[]
["ND",10,9,8,7,6,5,4,3,2,1]
["Anzahl",{"$f":"COUNTIF($B11:$K11,\"10\")","v":0},{"$f":"COUNTIF($B11:$K11,\"9\")","v":0},{"$f":"COUNTIF($B11:$K11,\"8\")","v":0},{"$f":"COUNTIF($B11:$K11,\"7\")","v":0},{"$f":"COUNTIF($B11:$K11,\"6\")","v":0},{"$f":"COUNTIF($B11:$K11,\"5\")","v":0},{"$f":"COUNTIF($B11:$K11,\"4\")","v":0},{"$f":"COUNTIF($B11:$K11,\"3\")","v":0},{"$f":"COUNTIF($B11:$K11,\"2\")","v":0},{"$f":"COUNTIF($B11:$K11,\"1\")","v":0}]

{"sheet":"18","index":18,"n_rows":17,"n_cols":27,"rows_kept":17,"cut":false,"hidden":false,"merged":[[4,11,4,12],[5,1,5,2],[10,26,10,27],[8,26,8,27]]}
[null,null,{"$f":"Startliste!C1","v":"Heimprogramm 2024"}]
[null,null,null,null,null,null,null,null,null,null,null,null,null,null,null,null,null,null,null,null,null,1]
[]
[]
["Name",{"$f":"Startliste!B31","v":0},null,null,null,"Vorname",{"$f":"Startliste!C31","v":0},null,null,"St.",{"$f":"Startliste!F31","v":0},"Start-Nr."]
["Jahrgang",{"$f":"Startliste!D31","v":0},null,null,null,"Sektion",{"$f":"Startliste!E31","v":0},null,null,"Kat.",{"$f":"Startliste!G31","v":0},null,{"$f":"Startliste!A31","v":18}]
[]
[null,1,2,3,4,5,6,7,8,9,10,null,"Total",null,null,null,null,null,null,null,null,null,null,null,null,null,"Karton-Nr. von bis"]
["HD",null,null,null,null,null,null,null,null,null,null,null,{"$f":"SUM(B9:K9)","v":0},null,{"$f":"IF(B9=\"M\",10)","v":false},{"$f":"IF(C9=\"M\",10)","v":false},false,false,false,false,false,false,false,false,{"$f":"SUM(O9:X9)","v":0}]
[null,null,null,null,null,null,null,null,null,null,null,null,null,null,null,null,null,null,null,null,null,null,null,null,null,null,"Karton-Nr. von bis"]
["ND",null,null,null,null,null,null,null,null,null,null,8,{"$f":"SUM(B11:K11)","v":0},null,{"$f":"IF(B11=\"M\",10)","v":false},{"$f":"IF(C11=\"M\",10)","v":false},false,false,false,false,false,false,false,false,{"$f":"SUM(O11:X11)","v":0}]
[]
[" HD",10,9,8,7,6,5,4,3,2,1]
["Anzahl",{"$f":"COUNTIF($B9:$K9,\"10\")","v":0},{"$f":"COUNTIF($B9:$K9,\"9\")","v":0},{"$f":"COUNTIF($B9:$K9,\"8\")","v":0},{"$f":"COUNTIF($B9:$K9,\"7\")","v":0},{"$f":"COUNTIF($B9:$K9,\"6\")","v":0},{"$f":"COUNTIF($B9:$K9,\"5\")","v":0},{"$f":"COUNTIF($B9:$K9,\"4\")","v":0},{"$f":"COUNTIF($B9:$K9,\"3\")","v":0},{"$f":"COUNTIF($B9:$K9,\"2\")","v":0},{"$f":"COUNTIF($B9:$K9,\"1\")","v":0}]
[]
["ND",10,9,8,7,6,5,4,3,2,1]
["Anzahl",{"$f":"COUNTIF($B11:$K11,\"10\")","v":0},{"$f":"COUNTIF($B11:$K11,\"9\")","v":0},{"$f":"COUNTIF($B11:$K11,\"8\")","v":0},{"$f":"COUNTIF($B11:$K11,\"7\")","v":0},{"$f":"COUNTIF($B11:$K11,\"6\")","v":0},{"$f":"COUNTIF($B11:$K11,\"5\")","v":0},{"$f":"COUNTIF($B11:$K11,\"4\")","v":0},{"$f":"COUNTIF($B11:$K11,\"3\")","v":0},{"$f":"COUNTIF($B11:$K11,\"2\")","v":0},{"$f":"COUNTIF($B11:$K11,\"1\")","v":0}]

{"sheet":"19","index":19,"n_rows":17,"n_cols":27,"rows_kept":17,"cut":false,"hidden":false,"merged":[[4,11,4,12],[5,1,5,2],[10,26,10,27],[8,26,8,27]]}
[null,null,{"$f":"Startliste!C1","v":"Heimprogramm 2024"}]
[null,null,null,null,null,null,null,null,null,null,null,null,null,null,null,null,null,null,null,null,null,1]
[]
[]
["Name",{"$f":"Startliste!B32","v":0},null,null,null,"Vorname",{"$f":"Startliste!C32","v":0},null,null,"St.",{"$f":"Startliste!F32","v":0},"Start-Nr."]
["Jahrgang",{"$f":"Startliste!D32","v":0},null,null,null,"Sektion",{"$f":"Startliste!E32","v":0},null,null,"Kat.",{"$f":"Startliste!G32","v":0},null,{"$f":"Startliste!A32","v":19}]
[]
[null,1,2,3,4,5,6,7,8,9,10,null,"Total",null,null,null,null,null,null,null,null,null,null,null,null,null,"Karton-Nr. von bis"]
["HD",null,null,null,null,null,null,null,null,null,null,null,{"$f":"SUM(B9:K9)","v":0},null,{"$f":"IF(B9=\"M\",10)","v":false},{"$f":"IF(C9=\"M\",10)","v":false},false,false,false,false,false,false,false,false,{"$f":"SUM(O9:X9)","v":0}]
[null,null,null,null,null,null,null,null,null,null,null,null,null,null,null,null,null,null,null,null,null,null,null,null,null,null,"Karton-Nr. von bis"]
["ND",null,null,null,null,null,null,null,null,null,null,8,{"$f":"SUM(B11:K11)","v":0},null,{"$f":"IF(B11=\"M\",10)","v":false},{"$f":"IF(C11=\"M\",10)","v":false},false,false,false,false,false,false,false,false,{"$f":"SUM(O11:X11)","v":0}]
[]
[" HD",10,9,8,7,6,5,4,3,2,1]
["Anzahl",{"$f":"COUNTIF($B9:$K9,\"10\")","v":0},{"$f":"COUNTIF($B9:$K9,\"9\")","v":0},{"$f":"COUNTIF($B9:$K9,\"8\")","v":0},{"$f":"COUNTIF($B9:$K9,\"7\")","v":0},{"$f":"COUNTIF($B9:$K9,\"6\")","v":0},{"$f":"COUNTIF($B9:$K9,\"5\")","v":0},{"$f":"COUNTIF($B9:$K9,\"4\")","v":0},{"$f":"COUNTIF($B9:$K9,\"3\")","v":0},{"$f":"COUNTIF($B9:$K9,\"2\")","v":0},{"$f":"COUNTIF($B9:$K9,\"1\")","v":0}]
[]
["ND",10,9,8,7,6,5,4,3,2,1]
["Anzahl",{"$f":"COUNTIF($B11:$K11,\"10\")","v":0},{"$f":"COUNTIF($B11:$K11,\"9\")","v":0},{"$f":"COUNTIF($B11:$K11,\"8\")","v":0},{"$f":"COUNTIF($B11:$K11,\"7\")","v":0},{"$f":"COUNTIF($B11:$K11,\"6\")","v":0},{"$f":"COUNTIF($B11:$K11,\"5\")","v":0},{"$f":"COUNTIF($B11:$K11,\"4\")","v":0},{"$f":"COUNTIF($B11:$K11,\"3\")","v":0},{"$f":"COUNTIF($B11:$K11,\"2\")","v":0},{"$f":"COUNTIF($B11:$K11,\"1\")","v":0}]

{"sheet":"20","index":20,"n_rows":17,"n_cols":27,"rows_kept":17,"cut":false,"hidden":false,"merged":[[4,11,4,12],[5,1,5,2],[10,26,10,27],[8,26,8,27]]}
[null,null,{"$f":"Startliste!C1","v":"Heimprogramm 2024"}]
[null,null,null,null,null,null,null,null,null,null,null,null,null,null,null,null,null,null,null,null,null,1]
[]
[]
["Name",{"$f":"Startliste!B33","v":0},null,null,null,"Vorname",{"$f":"Startliste!C33","v":0},null,null,"St.",{"$f":"Startliste!F33","v":0},"Start-Nr."]
["Jahrgang",{"$f":"Startliste!D33","v":0},null,null,null,"Sektion",{"$f":"Startliste!E33","v":0},null,null,"Kat.",{"$f":"Startliste!G33","v":0},null,{"$f":"Startliste!A33","v":20}]
[]
[null,1,2,3,4,5,6,7,8,9,10,null,"Total",null,null,null,null,null,null,null,null,null,null,null,null,null,"Karton-Nr. von bis"]
["HD",null,null,null,null,null,null,null,null,null,null,null,{"$f":"SUM(B9:K9)","v":0},null,{"$f":"IF(B9=\"M\",10)","v":false},{"$f":"IF(C9=\"M\",10)","v":false},false,false,false,false,false,false,false,false,{"$f":"SUM(O9:X9)","v":0}]
[null,null,null,null,null,null,null,null,null,null,null,null,null,null,null,null,null,null,null,null,null,null,null,null,null,null,"Karton-Nr. von bis"]
["ND",null,null,null,null,null,null,null,null,null,null,8,{"$f":"SUM(B11:K11)","v":0},null,{"$f":"IF(B11=\"M\",10)","v":false},{"$f":"IF(C11=\"M\",10)","v":false},false,false,false,false,false,false,false,false,{"$f":"SUM(O11:X11)","v":0}]
[]
[" HD",10,9,8,7,6,5,4,3,2,1]
["Anzahl",{"$f":"COUNTIF($B9:$K9,\"10\")","v":0},{"$f":"COUNTIF($B9:$K9,\"9\")","v":0},{"$f":"COUNTIF($B9:$K9,\"8\")","v":0},{"$f":"COUNTIF($B9:$K9,\"7\")","v":0},{"$f":"COUNTIF($B9:$K9,\"6\")","v":0},{"$f":"COUNTIF($B9:$K9,\"5\")","v":0},{"$f":"COUNTIF($B9:$K9,\"4\")","v":0},{"$f":"COUNTIF($B9:$K9,\"3\")","v":0},{"$f":"COUNTIF($B9:$K9,\"2\")","v":0},{"$f":"COUNTIF($B9:$K9,\"1\")","v":0}]
[]
["ND",10,9,8,7,6,5,4,3,2,1]
["Anzahl",{"$f":"COUNTIF($B11:$K11,\"10\")","v":0},{"$f":"COUNTIF($B11:$K11,\"9\")","v":0},{"$f":"COUNTIF($B11:$K11,\"8\")","v":0},{"$f":"COUNTIF($B11:$K11,\"7\")","v":0},{"$f":"COUNTIF($B11:$K11,\"6\")","v":0},{"$f":"COUNTIF($B11:$K11,\"5\")","v":0},{"$f":"COUNTIF($B11:$K11,\"4\")","v":0},{"$f":"COUNTIF($B11:$K11,\"3\")","v":0},{"$f":"COUNTIF($B11:$K11,\"2\")","v":0},{"$f":"COUNTIF($B11:$K11,\"1\")","v":0}]

{"sheet":"Resultate","index":21,"n_rows":25,"n_cols":24,"rows_kept":25,"cut":false,"hidden":false,"merged":[]}
[null,null,{"$f":"Startliste!C1","v":"Heimprogramm 2024"}]
[]
[null,null,"Resultate Teilnehmer Sektion"]
[]
["Schütze-Nr.","Name","Vorname","Jahrgang","Sektion","St.","Kat.",null,"HD",null,"ND",null,"Besserer\nDoppel",null,10,9,8,7,6,5,4,3,2,1]
[{"$f":"'1'!M$6","v":1},{"$f":"'1'!B$5","v":0},{"$f":"'1'!G$5","v":0},{"$f":"'1'!$B$6","v":0},{"$f":"'1'!G$6","v":0},{"$f":"'1'!K$5","v":0},{"$f":"'1'!K6","v":0},null,{"$f":"'1'!M$9","v":0},null,{"$f":"'1'!M$11","v":0},null,{"$f":"MAX(I6:K6)","v":0},null,{"$f":"IF($M6=$I6,'1'!B$14,IF(Resultate!$M6=Resultate!$K6,'1'!B$17))","v":0},{"$f":"IF($M6=$I6,'1'!C$14,IF(Resultate!$M6=Resultate!$K6,'1'!C$17))","v":0},{"$f":"IF($M6=$I6,'1'!D$14,IF(Resultate!$M6=Resultate!$K6,'1'!D$17))","v":0},{"$f":"IF($M6=$I6,'1'!E$14,IF(Resultate!$M6=Resultate!$K6,'1'!E$17))","v":0},{"$f":"IF($M6=$I6,'1'!F$14,IF(Resultate!$M6=Resultate!$K6,'1'!F$17))","v":0},{"$f":"IF($M6=$I6,'1'!G$14,IF(Resultate!$M6=Resultate!$K6,'1'!G$17))","v":0},{"$f":"IF($M6=$I6,'1'!H$14,IF(Resultate!$M6=Resultate!$K6,'1'!H$17))","v":0},{"$f":"IF($M6=$I6,'1'!I$14,IF(Resultate!$M6=Resultate!$K6,'1'!I$17))","v":0},{"$f":"IF($M6=$I6,'1'!J$14,IF(Resultate!$M6=Resultate!$K6,'1'!J$17))","v":0},{"$f":"IF($M6=$I6,'1'!K$14,IF(Resultate!$M6=Resultate!$K6,'1'!K$17))","v":0}]
[{"$f":"'2'!M$6","v":2},{"$f":"'2'!B$5","v":0},{"$f":"'2'!G$5","v":0},{"$f":"'2'!$B$6","v":0},{"$f":"'2'!G$6","v":0},{"$f":"'2'!K$5","v":0},{"$f":"'2'!K6","v":0},null,{"$f":"'2'!M$9","v":0},null,{"$f":"'2'!M$11","v":0},null,{"$f":"MAX(I7:K7)","v":0},null,{"$f":"IF($M7=$I7,'2'!B$14,IF(Resultate!$M7=Resultate!$K7,'2'!B$17))","v":0},{"$f":"IF($M7=$I7,'2'!C$14,IF(Resultate!$M7=Resultate!$K7,'2'!C$17))","v":0},{"$f":"IF($M7=$I7,'2'!D$14,IF(Resultate!$M7=Resultate!$K7,'2'!D$17))","v":0},{"$f":"IF($M7=$I7,'2'!E$14,IF(Resultate!$M7=Resultate!$K7,'2'!E$17))","v":0},{"$f":"IF($M7=$I7,'2'!F$14,IF(Resultate!$M7=Resultate!$K7,'2'!F$17))","v":0},{"$f":"IF($M7=$I7,'2'!G$14,IF(Resultate!$M7=Resultate!$K7,'2'!G$17))","v":0},{"$f":"IF($M7=$I7,'2'!H$14,IF(Resultate!$M7=Resultate!$K7,'2'!H$17))","v":0},{"$f":"IF($M7=$I7,'2'!I$14,IF(Resultate!$M7=Resultate!$K7,'2'!I$17))","v":0},{"$f":"IF($M7=$I7,'2'!J$14,IF(Resultate!$M7=Resultate!$K7,'2'!J$17))","v":0},{"$f":"IF($M7=$I7,'2'!K$14,IF(Resultate!$M7=Resultate!$K7,'2'!K$17))","v":0}]
[{"$f":"'3'!M$6","v":3},{"$f":"'3'!B$5","v":0},{"$f":"'3'!G$5","v":0},{"$f":"'3'!$B$6","v":0},{"$f":"'3'!G$6","v":0},{"$f":"'3'!K$5","v":0},{"$f":"'3'!K6","v":0},null,{"$f":"'3'!M$9","v":0},null,{"$f":"'3'!M$11","v":0},null,0,null,{"$f":"IF($M8=$I8,'3'!B$14,IF(Resultate!$M8=Resultate!$K8,'3'!B$17))","v":0},{"$f":"IF($M8=$I8,'3'!C$14,IF(Resultate!$M8=Resultate!$K8,'3'!C$17))","v":0},{"$f":"IF($M8=$I8,'3'!D$14,IF(Resultate!$M8=Resultate!$K8,'3'!D$17))","v":0},{"$f":"IF($M8=$I8,'3'!E$14,IF(Resultate!$M8=Resultate!$K8,'3'!E$17))","v":0},{"$f":"IF($M8=$I8,'3'!F$14,IF(Resultate!$M8=Resultate!$K8,'3'!F$17))","v":0},{"$f":"IF($M8=$I8,'3'!G$14,IF(Resultate!$M8=Resultate!$K8,'3'!G$17))","v":0},{"$f":"IF($M8=$I8,'3'!H$14,IF(Resultate!$M8=Resultate!$K8,'3'!H$17))","v":0},{"$f":"IF($M8=$I8,'3'!I$14,IF(Resultate!$M8=Resultate!$K8,'3'!I$17))","v":0},{"$f":"IF($M8=$I8,'3'!J$14,IF(Resultate!$M8=Resultate!$K8,'3'!J$17))","v":0},{"$f":"IF($M8=$I8,'3'!K$14,IF(Resultate!$M8=Resultate!$K8,'3'!K$17))","v":0}]
[{"$f":"'4'!M$6","v":4},{"$f":"'4'!B$5","v":0},{"$f":"'4'!G$5","v":0},{"$f":"'4'!$B$6","v":0},{"$f":"'4'!G$6","v":0},{"$f":"'4'!K$5","v":0},{"$f":"'4'!K6","v":0},null,{"$f":"'4'!M$9","v":0},null,{"$f":"'4'!M$11","v":0},null,0,null,{"$f":"IF($M9=$I9,'4'!B$14,IF(Resultate!$M9=Resultate!$K9,'4'!B$17))","v":0},{"$f":"IF($M9=$I9,'4'!C$14,IF(Resultate!$M9=Resultate!$K9,'4'!C$17))","v":0},{"$f":"IF($M9=$I9,'4'!D$14,IF(Resultate!$M9=Resultate!$K9,'4'!D$17))","v":0},{"$f":"IF($M9=$I9,'4'!E$14,IF(Resultate!$M9=Resultate!$K9,'4'!E$17))","v":0},{"$f":"IF($M9=$I9,'4'!F$14,IF(Resultate!$M9=Resultate!$K9,'4'!F$17))","v":0},{"$f":"IF($M9=$I9,'4'!G$14,IF(Resultate!$M9=Resultate!$K9,'4'!G$17))","v":0},{"$f":"IF($M9=$I9,'4'!H$14,IF(Resultate!$M9=Resultate!$K9,'4'!H$17))","v":0},{"$f":"IF($M9=$I9,'4'!I$14,IF(Resultate!$M9=Resultate!$K9,'4'!I$17))","v":0},{"$f":"IF($M9=$I9,'4'!J$14,IF(Resultate!$M9=Resultate!$K9,'4'!J$17))","v":0},{"$f":"IF($M9=$I9,'4'!K$14,IF(Resultate!$M9=Resultate!$K9,'4'!K$17))","v":0}]
[{"$f":"'5'!M$6","v":5},{"$f":"'5'!B$5","v":0},{"$f":"'5'!G$5","v":0},{"$f":"'5'!$B$6","v":0},{"$f":"'5'!G$6","v":0},{"$f":"'5'!K$5","v":0},{"$f":"'5'!K6","v":0},null,{"$f":"'5'!M$9","v":0},null,{"$f":"'5'!M$11","v":0},null,0,null,{"$f":"IF($M10=$I10,'5'!B$14,IF(Resultate!$M10=Resultate!$K10,'5'!B$17))","v":0},{"$f":"IF($M10=$I10,'5'!C$14,IF(Resultate!$M10=Resultate!$K10,'5'!C$17))","v":0},{"$f":"IF($M10=$I10,'5'!D$14,IF(Resultate!$M10=Resultate!$K10,'5'!D$17))","v":0},{"$f":"IF($M10=$I10,'5'!E$14,IF(Resultate!$M10=Resultate!$K10,'5'!E$17))","v":0},{"$f":"IF($M10=$I10,'5'!F$14,IF(Resultate!$M10=Resultate!$K10,'5'!F$17))","v":0},{"$f":"IF($M10=$I10,'5'!G$14,IF(Resultate!$M10=Resultate!$K10,'5'!G$17))","v":0},{"$f":"IF($M10=$I10,'5'!H$14,IF(Resultate!$M10=Resultate!$K10,'5'!H$17))","v":0},{"$f":"IF($M10=$I10,'5'!I$14,IF(Resultate!$M10=Resultate!$K10,'5'!I$17))","v":0},{"$f":"IF($M10=$I10,'5'!J$14,IF(Resultate!$M10=Resultate!$K10,'5'!J$17))","v":0},{"$f":"IF($M10=$I10,'5'!K$14,IF(Resultate!$M10=Resultate!$K10,'5'!K$17))","v":0}]
[{"$f":"'6'!M$6","v":6},{"$f":"'6'!B$5","v":0},{"$f":"'6'!G$5","v":0},{"$f":"'6'!$B$6","v":0},{"$f":"'6'!G$6","v":0},{"$f":"'6'!K$5","v":0},{"$f":"'6'!K6","v":0},null,{"$f":"'6'!M$9","v":0},null,{"$f":"'6'!M$11","v":0},null,0,null,{"$f":"IF($M11=$I11,'6'!B$14,IF(Resultate!$M11=Resultate!$K11,'6'!B$17))","v":0},{"$f":"IF($M11=$I11,'6'!C$14,IF(Resultate!$M11=Resultate!$K11,'6'!C$17))","v":0},{"$f":"IF($M11=$I11,'6'!D$14,IF(Resultate!$M11=Resultate!$K11,'6'!D$17))","v":0},{"$f":"IF($M11=$I11,'6'!E$14,IF(Resultate!$M11=Resultate!$K11,'6'!E$17))","v":0},{"$f":"IF($M11=$I11,'6'!F$14,IF(Resultate!$M11=Resultate!$K11,'6'!F$17))","v":0},{"$f":"IF($M11=$I11,'6'!G$14,IF(Resultate!$M11=Resultate!$K11,'6'!G$17))","v":0},{"$f":"IF($M11=$I11,'6'!H$14,IF(Resultate!$M11=Resultate!$K11,'6'!H$17))","v":0},{"$f":"IF($M11=$I11,'6'!I$14,IF(Resultate!$M11=Resultate!$K11,'6'!I$17))","v":0},{"$f":"IF($M11=$I11,'6'!J$14,IF(Resultate!$M11=Resultate!$K11,'6'!J$17))","v":0},{"$f":"IF($M11=$I11,'6'!K$14,IF(Resultate!$M11=Resultate!$K11,'6'!K$17))","v":0}]
[{"$f":"'7'!M$6","v":7},{"$f":"'7'!B$5","v":0},{"$f":"'7'!G$5","v":0},{"$f":"'7'!$B$6","v":0},{"$f":"'7'!G$6","v":0},{"$f":"'7'!K$5","v":0},{"$f":"'7'!K6","v":0},null,{"$f":"'7'!M$9","v":0},null,{"$f":"'7'!M$11","v":0},null,0,null,{"$f":"IF($M12=$I12,'7'!B$14,IF(Resultate!$M12=Resultate!$K12,'7'!B$17))","v":0},{"$f":"IF($M12=$I12,'7'!C$14,IF(Resultate!$M12=Resultate!$K12,'7'!C$17))","v":0},{"$f":"IF($M12=$I12,'7'!D$14,IF(Resultate!$M12=Resultate!$K12,'7'!D$17))","v":0},{"$f":"IF($M12=$I12,'7'!E$14,IF(Resultate!$M12=Resultate!$K12,'7'!E$17))","v":0},{"$f":"IF($M12=$I12,'7'!F$14,IF(Resultate!$M12=Resultate!$K12,'7'!F$17))","v":0},{"$f":"IF($M12=$I12,'7'!G$14,IF(Resultate!$M12=Resultate!$K12,'7'!G$17))","v":0},{"$f":"IF($M12=$I12,'7'!H$14,IF(Resultate!$M12=Resultate!$K12,'7'!H$17))","v":0},{"$f":"IF($M12=$I12,'7'!I$14,IF(Resultate!$M12=Resultate!$K12,'7'!I$17))","v":0},{"$f":"IF($M12=$I12,'7'!J$14,IF(Resultate!$M12=Resultate!$K12,'7'!J$17))","v":0},{"$f":"IF($M12=$I12,'7'!K$14,IF(Resultate!$M12=Resultate!$K12,'7'!K$17))","v":0}]
[{"$f":"'8'!M$6","v":8},{"$f":"'8'!B$5","v":0},{"$f":"'8'!G$5","v":0},{"$f":"'8'!$B$6","v":0},{"$f":"'8'!G$6","v":0},{"$f":"'8'!K$5","v":0},{"$f":"'8'!K6","v":0},null,{"$f":"'8'!M$9","v":0},null,{"$f":"'8'!M$11","v":0},null,0,null,{"$f":"IF($M13=$I13,'8'!B$14,IF(Resultate!$M13=Resultate!$K13,'8'!B$17))","v":0},{"$f":"IF($M13=$I13,'8'!C$14,IF(Resultate!$M13=Resultate!$K13,'8'!C$17))","v":0},{"$f":"IF($M13=$I13,'8'!D$14,IF(Resultate!$M13=Resultate!$K13,'8'!D$17))","v":0},{"$f":"IF($M13=$I13,'8'!E$14,IF(Resultate!$M13=Resultate!$K13,'8'!E$17))","v":0},{"$f":"IF($M13=$I13,'8'!F$14,IF(Resultate!$M13=Resultate!$K13,'8'!F$17))","v":0},{"$f":"IF($M13=$I13,'8'!G$14,IF(Resultate!$M13=Resultate!$K13,'8'!G$17))","v":0},{"$f":"IF($M13=$I13,'8'!H$14,IF(Resultate!$M13=Resultate!$K13,'8'!H$17))","v":0},{"$f":"IF($M13=$I13,'8'!I$14,IF(Resultate!$M13=Resultate!$K13,'8'!I$17))","v":0},{"$f":"IF($M13=$I13,'8'!J$14,IF(Resultate!$M13=Resultate!$K13,'8'!J$17))","v":0},{"$f":"IF($M13=$I13,'8'!K$14,IF(Resultate!$M13=Resultate!$K13,'8'!K$17))","v":0}]
[{"$f":"'9'!M$6","v":9},{"$f":"'9'!B$5","v":0},{"$f":"'9'!G$5","v":0},{"$f":"'9'!$B$6","v":0},{"$f":"'9'!G$6","v":0},{"$f":"'9'!K$5","v":0},{"$f":"'9'!K6","v":0},null,{"$f":"'9'!M$9","v":0},null,{"$f":"'9'!M$11","v":0},null,0,null,{"$f":"IF($M14=$I14,'9'!B$14,IF(Resultate!$M14=Resultate!$K14,'9'!B$17))","v":0},{"$f":"IF($M14=$I14,'9'!C$14,IF(Resultate!$M14=Resultate!$K14,'9'!C$17))","v":0},{"$f":"IF($M14=$I14,'9'!D$14,IF(Resultate!$M14=Resultate!$K14,'9'!D$17))","v":0},{"$f":"IF($M14=$I14,'9'!E$14,IF(Resultate!$M14=Resultate!$K14,'9'!E$17))","v":0},{"$f":"IF($M14=$I14,'9'!F$14,IF(Resultate!$M14=Resultate!$K14,'9'!F$17))","v":0},{"$f":"IF($M14=$I14,'9'!G$14,IF(Resultate!$M14=Resultate!$K14,'9'!G$17))","v":0},{"$f":"IF($M14=$I14,'9'!H$14,IF(Resultate!$M14=Resultate!$K14,'9'!H$17))","v":0},{"$f":"IF($M14=$I14,'9'!I$14,IF(Resultate!$M14=Resultate!$K14,'9'!I$17))","v":0},{"$f":"IF($M14=$I14,'9'!J$14,IF(Resultate!$M14=Resultate!$K14,'9'!J$17))","v":0},{"$f":"IF($M14=$I14,'9'!K$14,IF(Resultate!$M14=Resultate!$K14,'9'!K$17))","v":0}]
[{"$f":"'10'!M$6","v":10},{"$f":"'10'!B$5","v":0},{"$f":"'10'!G$5","v":0},{"$f":"'10'!$B$6","v":0},{"$f":"'10'!G$6","v":0},{"$f":"'10'!K$5","v":0},{"$f":"'10'!K6","v":0},null,{"$f":"'10'!M$9","v":0},null,{"$f":"'10'!M$11","v":0},null,0,null,{"$f":"IF($M15=$I15,'10'!B$14,IF(Resultate!$M15=Resultate!$K15,'10'!B$17))","v":0},{"$f":"IF($M15=$I15,'10'!C$14,IF(Resultate!$M15=Resultate!$K15,'10'!C$17))","v":0},{"$f":"IF($M15=$I15,'10'!D$14,IF(Resultate!$M15=Resultate!$K15,'10'!D$17))","v":0},{"$f":"IF($M15=$I15,'10'!E$14,IF(Resultate!$M15=Resultate!$K15,'10'!E$17))","v":0},{"$f":"IF($M15=$I15,'10'!F$14,IF(Resultate!$M15=Resultate!$K15,'10'!F$17))","v":0},{"$f":"IF($M15=$I15,'10'!G$14,IF(Resultate!$M15=Resultate!$K15,'10'!G$17))","v":0},{"$f":"IF($M15=$I15,'10'!H$14,IF(Resultate!$M15=Resultate!$K15,'10'!H$17))","v":0},{"$f":"IF($M15=$I15,'10'!I$14,IF(Resultate!$M15=Resultate!$K15,'10'!I$17))","v":0},{"$f":"IF($M15=$I15,'10'!J$14,IF(Resultate!$M15=Resultate!$K15,'10'!J$17))","v":0},{"$f":"IF($M15=$I15,'10'!K$14,IF(Resultate!$M15=Resultate!$K15,'10'!K$17))","v":0}]
[{"$f":"'11'!M$6","v":11},{"$f":"'11'!B$5","v":0},{"$f":"'11'!G$5","v":0},{"$f":"'11'!$B$6","v":0},{"$f":"'11'!G$6","v":0},{"$f":"'11'!K$5","v":0},{"$f":"'11'!K6","v":0},null,{"$f":"'11'!M$9","v":0},null,{"$f":"'11'!M$11","v":0},null,0,null,{"$f":"IF($M16=$I16,'11'!B$14,IF(Resultate!$M16=Resultate!$K16,'11'!B$17))","v":0},{"$f":"IF($M16=$I16,'11'!C$14,IF(Resultate!$M16=Resultate!$K16,'11'!C$17))","v":0},{"$f":"IF($M16=$I16,'11'!D$14,IF(Resultate!$M16=Resultate!$K16,'11'!D$17))","v":0},{"$f":"IF($M16=$I16,'11'!E$14,IF(Resultate!$M16=Resultate!$K16,'11'!E$17))","v":0},{"$f":"IF($M16=$I16,'11'!F$14,IF(Resultate!$M16=Resultate!$K16,'11'!F$17))","v":0},{"$f":"IF($M16=$I16,'11'!G$14,IF(Resultate!$M16=Resultate!$K16,'11'!G$17))","v":0},{"$f":"IF($M16=$I16,'11'!H$14,IF(Resultate!$M16=Resultate!$K16,'11'!H$17))","v":0},{"$f":"IF($M16=$I16,'11'!I$14,IF(Resultate!$M16=Resultate!$K16,'11'!I$17))","v":0},{"$f":"IF($M16=$I16,'11'!J$14,IF(Resultate!$M16=Resultate!$K16,'11'!J$17))","v":0},{"$f":"IF($M16=$I16,'11'!K$14,IF(Resultate!$M16=Resultate!$K16,'11'!K$17))","v":0}]
[{"$f":"'12'!M$6","v":12},{"$f":"'12'!B$5","v":0},{"$f":"'12'!G$5","v":0},{"$f":"'12'!$B$6","v":0},{"$f":"'12'!G$6","v":0},{"$f":"'12'!K$5","v":0},{"$f":"'12'!K6","v":0},null,{"$f":"'12'!M$9","v":0},null,{"$f":"'12'!M$11","v":0},null,0,null,{"$f":"IF($M17=$I17,'12'!B$14,IF(Resultate!$M17=Resultate!$K17,'12'!B$17))","v":0},{"$f":"IF($M17=$I17,'12'!C$14,IF(Resultate!$M17=Resultate!$K17,'12'!C$17))","v":0},{"$f":"IF($M17=$I17,'12'!D$14,IF(Resultate!$M17=Resultate!$K17,'12'!D$17))","v":0},{"$f":"IF($M17=$I17,'12'!E$14,IF(Resultate!$M17=Resultate!$K17,'12'!E$17))","v":0},{"$f":"IF($M17=$I17,'12'!F$14,IF(Resultate!$M17=Resultate!$K17,'12'!F$17))","v":0},{"$f":"IF($M17=$I17,'12'!G$14,IF(Resultate!$M17=Resultate!$K17,'12'!G$17))","v":0},{"$f":"IF($M17=$I17,'12'!H$14,IF(Resultate!$M17=Resultate!$K17,'12'!H$17))","v":0},{"$f":"IF($M17=$I17,'12'!I$14,IF(Resultate!$M17=Resultate!$K17,'12'!I$17))","v":0},{"$f":"IF($M17=$I17,'12'!J$14,IF(Resultate!$M17=Resultate!$K17,'12'!J$17))","v":0},{"$f":"IF($M17=$I17,'12'!K$14,IF(Resultate!$M17=Resultate!$K17,'12'!K$17))","v":0}]
[{"$f":"'13'!M$6","v":13},{"$f":"'13'!B$5","v":0},{"$f":"'13'!G$5","v":0},{"$f":"'13'!$B$6","v":0},{"$f":"'13'!G$6","v":0},{"$f":"'13'!K$5","v":0},{"$f":"'13'!K6","v":0},null,{"$f":"'13'!M$9","v":0},null,{"$f":"'13'!M$11","v":0},null,0,null,{"$f":"IF($M18=$I18,'13'!B$14,IF(Resultate!$M18=Resultate!$K18,'13'!B$17))","v":0},{"$f":"IF($M18=$I18,'13'!C$14,IF(Resultate!$M18=Resultate!$K18,'13'!C$17))","v":0},{"$f":"IF($M18=$I18,'13'!D$14,IF(Resultate!$M18=Resultate!$K18,'13'!D$17))","v":0},{"$f":"IF($M18=$I18,'13'!E$14,IF(Resultate!$M18=Resultate!$K18,'13'!E$17))","v":0},{"$f":"IF($M18=$I18,'13'!F$14,IF(Resultate!$M18=Resultate!$K18,'13'!F$17))","v":0},{"$f":"IF($M18=$I18,'13'!G$14,IF(Resultate!$M18=Resultate!$K18,'13'!G$17))","v":0},{"$f":"IF($M18=$I18,'13'!H$14,IF(Resultate!$M18=Resultate!$K18,'13'!H$17))","v":0},{"$f":"IF($M18=$I18,'13'!I$14,IF(Resultate!$M18=Resultate!$K18,'13'!I$17))","v":0},{"$f":"IF($M18=$I18,'13'!J$14,IF(Resultate!$M18=Resultate!$K18,'13'!J$17))","v":0},{"$f":"IF($M18=$I18,'13'!K$14,IF(Resultate!$M18=Resultate!$K18,'13'!K$17))","v":0}]
[{"$f":"'14'!M$6","v":14},{"$f":"'14'!B$5","v":0},{"$f":"'14'!G$5","v":0},{"$f":"'14'!$B$6","v":0},{"$f":"'14'!G$6","v":0},{"$f":"'14'!K$5","v":0},{"$f":"'14'!K6","v":0},null,{"$f":"'14'!M$9","v":0},null,{"$f":"'14'!M$11","v":0},null,0,null,{"$f":"IF($M19=$I19,'14'!B$14,IF(Resultate!$M19=Resultate!$K19,'14'!B$17))","v":0},{"$f":"IF($M19=$I19,'14'!C$14,IF(Resultate!$M19=Resultate!$K19,'14'!C$17))","v":0},{"$f":"IF($M19=$I19,'14'!D$14,IF(Resultate!$M19=Resultate!$K19,'14'!D$17))","v":0},{"$f":"IF($M19=$I19,'14'!E$14,IF(Resultate!$M19=Resultate!$K19,'14'!E$17))","v":0},{"$f":"IF($M19=$I19,'14'!F$14,IF(Resultate!$M19=Resultate!$K19,'14'!F$17))","v":0},{"$f":"IF($M19=$I19,'14'!G$14,IF(Resultate!$M19=Resultate!$K19,'14'!G$17))","v":0},{"$f":"IF($M19=$I19,'14'!H$14,IF(Resultate!$M19=Resultate!$K19,'14'!H$17))","v":0},{"$f":"IF($M19=$I19,'14'!I$14,IF(Resultate!$M19=Resultate!$K19,'14'!I$17))","v":0},{"$f":"IF($M19=$I19,'14'!J$14,IF(Resultate!$M19=Resultate!$K19,'14'!J$17))","v":0},{"$f":"IF($M19=$I19,'14'!K$14,IF(Resultate!$M19=Resultate!$K19,'14'!K$17))","v":0}]
[{"$f":"'15'!M$6","v":15},{"$f":"'15'!B$5","v":0},{"$f":"'15'!G$5","v":0},{"$f":"'15'!$B$6","v":0},{"$f":"'15'!G$6","v":0},{"$f":"'15'!K$5","v":0},{"$f":"'15'!K6","v":0},null,{"$f":"'15'!M$9","v":0},null,{"$f":"'15'!M$11","v":0},null,0,null,{"$f":"IF($M20=$I20,'15'!B$14,IF(Resultate!$M20=Resultate!$K20,'15'!B$17))","v":0},{"$f":"IF($M20=$I20,'15'!C$14,IF(Resultate!$M20=Resultate!$K20,'15'!C$17))","v":0},{"$f":"IF($M20=$I20,'15'!D$14,IF(Resultate!$M20=Resultate!$K20,'15'!D$17))","v":0},{"$f":"IF($M20=$I20,'15'!E$14,IF(Resultate!$M20=Resultate!$K20,'15'!E$17))","v":0},{"$f":"IF($M20=$I20,'15'!F$14,IF(Resultate!$M20=Resultate!$K20,'15'!F$17))","v":0},{"$f":"IF($M20=$I20,'15'!G$14,IF(Resultate!$M20=Resultate!$K20,'15'!G$17))","v":0},{"$f":"IF($M20=$I20,'15'!H$14,IF(Resultate!$M20=Resultate!$K20,'15'!H$17))","v":0},{"$f":"IF($M20=$I20,'15'!I$14,IF(Resultate!$M20=Resultate!$K20,'15'!I$17))","v":0},{"$f":"IF($M20=$I20,'15'!J$14,IF(Resultate!$M20=Resultate!$K20,'15'!J$17))","v":0},{"$f":"IF($M20=$I20,'15'!K$14,IF(Resultate!$M20=Resultate!$K20,'15'!K$17))","v":0}]
[{"$f":"'16'!M$6","v":16},{"$f":"'16'!B$5","v":0},{"$f":"'16'!G$5","v":0},{"$f":"'16'!$B$6","v":0},{"$f":"'16'!G$6","v":0},{"$f":"'16'!K$5","v":0},{"$f":"'16'!K6","v":0},null,{"$f":"'16'!M$9","v":0},null,{"$f":"'16'!M$11","v":0},null,0,null,{"$f":"IF($M21=$I21,'16'!B$14,IF(Resultate!$M21=Resultate!$K21,'16'!B$17))","v":0},{"$f":"IF($M21=$I21,'16'!C$14,IF(Resultate!$M21=Resultate!$K21,'16'!C$17))","v":0},{"$f":"IF($M21=$I21,'16'!D$14,IF(Resultate!$M21=Resultate!$K21,'16'!D$17))","v":0},{"$f":"IF($M21=$I21,'16'!E$14,IF(Resultate!$M21=Resultate!$K21,'16'!E$17))","v":0},{"$f":"IF($M21=$I21,'16'!F$14,IF(Resultate!$M21=Resultate!$K21,'16'!F$17))","v":0},{"$f":"IF($M21=$I21,'16'!G$14,IF(Resultate!$M21=Resultate!$K21,'16'!G$17))","v":0},{"$f":"IF($M21=$I21,'16'!H$14,IF(Resultate!$M21=Resultate!$K21,'16'!H$17))","v":0},{"$f":"IF($M21=$I21,'16'!I$14,IF(Resultate!$M21=Resultate!$K21,'16'!I$17))","v":0},{"$f":"IF($M21=$I21,'16'!J$14,IF(Resultate!$M21=Resultate!$K21,'16'!J$17))","v":0},{"$f":"IF($M21=$I21,'16'!K$14,IF(Resultate!$M21=Resultate!$K21,'16'!K$17))","v":0}]
[{"$f":"'17'!M$6","v":17},{"$f":"'17'!B$5","v":0},{"$f":"'17'!G$5","v":0},{"$f":"'17'!$B$6","v":0},{"$f":"'17'!G$6","v":0},{"$f":"'17'!K$5","v":0},{"$f":"'17'!K6","v":0},null,{"$f":"'17'!M$9","v":0},null,{"$f":"'17'!M$11","v":0},null,0,null,{"$f":"IF($M22=$I22,'17'!B$14,IF(Resultate!$M22=Resultate!$K22,'17'!B$17))","v":0},{"$f":"IF($M22=$I22,'17'!C$14,IF(Resultate!$M22=Resultate!$K22,'17'!C$17))","v":0},{"$f":"IF($M22=$I22,'17'!D$14,IF(Resultate!$M22=Resultate!$K22,'17'!D$17))","v":0},{"$f":"IF($M22=$I22,'17'!E$14,IF(Resultate!$M22=Resultate!$K22,'17'!E$17))","v":0},{"$f":"IF($M22=$I22,'17'!F$14,IF(Resultate!$M22=Resultate!$K22,'17'!F$17))","v":0},{"$f":"IF($M22=$I22,'17'!G$14,IF(Resultate!$M22=Resultate!$K22,'17'!G$17))","v":0},{"$f":"IF($M22=$I22,'17'!H$14,IF(Resultate!$M22=Resultate!$K22,'17'!H$17))","v":0},{"$f":"IF($M22=$I22,'17'!I$14,IF(Resultate!$M22=Resultate!$K22,'17'!I$17))","v":0},{"$f":"IF($M22=$I22,'17'!J$14,IF(Resultate!$M22=Resultate!$K22,'17'!J$17))","v":0},{"$f":"IF($M22=$I22,'17'!K$14,IF(Resultate!$M22=Resultate!$K22,'17'!K$17))","v":0}]
[{"$f":"'18'!M$6","v":18},{"$f":"'18'!B$5","v":0},{"$f":"'18'!G$5","v":0},{"$f":"'18'!$B$6","v":0},{"$f":"'18'!G$6","v":0},{"$f":"'18'!K$5","v":0},{"$f":"'18'!K6","v":0},null,{"$f":"'18'!M$9","v":0},null,{"$f":"'18'!M$11","v":0},null,0,null,{"$f":"IF($M23=$I23,'18'!B$14,IF(Resultate!$M23=Resultate!$K23,'18'!B$17))","v":0},{"$f":"IF($M23=$I23,'18'!C$14,IF(Resultate!$M23=Resultate!$K23,'18'!C$17))","v":0},{"$f":"IF($M23=$I23,'18'!D$14,IF(Resultate!$M23=Resultate!$K23,'18'!D$17))","v":0},{"$f":"IF($M23=$I23,'18'!E$14,IF(Resultate!$M23=Resultate!$K23,'18'!E$17))","v":0},{"$f":"IF($M23=$I23,'18'!F$14,IF(Resultate!$M23=Resultate!$K23,'18'!F$17))","v":0},{"$f":"IF($M23=$I23,'18'!G$14,IF(Resultate!$M23=Resultate!$K23,'18'!G$17))","v":0},{"$f":"IF($M23=$I23,'18'!H$14,IF(Resultate!$M23=Resultate!$K23,'18'!H$17))","v":0},{"$f":"IF($M23=$I23,'18'!I$14,IF(Resultate!$M23=Resultate!$K23,'18'!I$17))","v":0},{"$f":"IF($M23=$I23,'18'!J$14,IF(Resultate!$M23=Resultate!$K23,'18'!J$17))","v":0},{"$f":"IF($M23=$I23,'18'!K$14,IF(Resultate!$M23=Resultate!$K23,'18'!K$17))","v":0}]
[{"$f":"'19'!M$6","v":19},{"$f":"'19'!B$5","v":0},{"$f":"'19'!G$5","v":0},{"$f":"'19'!$B$6","v":0},{"$f":"'19'!G$6","v":0},{"$f":"'19'!K$5","v":0},{"$f":"'19'!K6","v":0},null,{"$f":"'19'!M$9","v":0},null,{"$f":"'19'!M$11","v":0},null,0,null,{"$f":"IF($M24=$I24,'19'!B$14,IF(Resultate!$M24=Resultate!$K24,'19'!B$17))","v":0},{"$f":"IF($M24=$I24,'19'!C$14,IF(Resultate!$M24=Resultate!$K24,'19'!C$17))","v":0},{"$f":"IF($M24=$I24,'19'!D$14,IF(Resultate!$M24=Resultate!$K24,'19'!D$17))","v":0},{"$f":"IF($M24=$I24,'19'!E$14,IF(Resultate!$M24=Resultate!$K24,'19'!E$17))","v":0},{"$f":"IF($M24=$I24,'19'!F$14,IF(Resultate!$M24=Resultate!$K24,'19'!F$17))","v":0},{"$f":"IF($M24=$I24,'19'!G$14,IF(Resultate!$M24=Resultate!$K24,'19'!G$17))","v":0},{"$f":"IF($M24=$I24,'19'!H$14,IF(Resultate!$M24=Resultate!$K24,'19'!H$17))","v":0},{"$f":"IF($M24=$I24,'19'!I$14,IF(Resultate!$M24=Resultate!$K24,'19'!I$17))","v":0},{"$f":"IF($M24=$I24,'19'!J$14,IF(Resultate!$M24=Resultate!$K24,'19'!J$17))","v":0},{"$f":"IF($M24=$I24,'19'!K$14,IF(Resultate!$M24=Resultate!$K24,'19'!K$17))","v":0}]
[{"$f":"'20'!M$6","v":20},{"$f":"'20'!B$5","v":0},{"$f":"'20'!G$5","v":0},{"$f":"'20'!$B$6","v":0},{"$f":"'20'!G$6","v":0},{"$f":"'20'!K$5","v":0},{"$f":"'20'!K6","v":0},null,{"$f":"'20'!M$9","v":0},null,{"$f":"'20'!M$11","v":0},null,0,null,{"$f":"IF($M25=$I25,'20'!B$14,IF(Resultate!$M25=Resultate!$K25,'20'!B$17))","v":0},{"$f":"IF($M25=$I25,'20'!C$14,IF(Resultate!$M25=Resultate!$K25,'20'!C$17))","v":0},{"$f":"IF($M25=$I25,'20'!D$14,IF(Resultate!$M25=Resultate!$K25,'20'!D$17))","v":0},{"$f":"IF($M25=$I25,'20'!E$14,IF(Resultate!$M25=Resultate!$K25,'20'!E$17))","v":0},{"$f":"IF($M25=$I25,'20'!F$14,IF(Resultate!$M25=Resultate!$K25,'20'!F$17))","v":0},{"$f":"IF($M25=$I25,'20'!G$14,IF(Resultate!$M25=Resultate!$K25,'20'!G$17))","v":0},{"$f":"IF($M25=$I25,'20'!H$14,IF(Resultate!$M25=Resultate!$K25,'20'!H$17))","v":0},{"$f":"IF($M25=$I25,'20'!I$14,IF(Resultate!$M25=Resultate!$K25,'20'!I$17))","v":0},{"$f":"IF($M25=$I25,'20'!J$14,IF(Resultate!$M25=Resultate!$K25,'20'!J$17))","v":0},{"$f":"IF($M25=$I25,'20'!K$14,IF(Resultate!$M25=Resultate!$K25,'20'!K$17))","v":0}]