{"text_format":"1","workbook":"xlsx","n_sheets":43,"sheets":["Startliste","1","2","3","4","5","6","7","8","9","10","11","12","13","14","15","16","17","18","19","20","21","22","23","24","25","26","27","28","29","30","31","32","33","34","35","36","37","38","39","40","Resultate","Tabelle1"],"not_rendered":{"charts":0,"images":2,"macros":1,"external_links":0,"defined_names":9,"comments":0,"pivot_tables":0},"unopened":[],"bounds":{"document_bytes":16777216,"sheet_cells":100000,"rows_first":2000,"rows_last":500,"rows_between":2000,"halvings":0,"cell_chars":16384,"cell_head_chars":4096},"cells_cut":0,"cells_raw":0,"read":"whole","date_system":"1900"}

{"sheet":"Startliste","index":0,"n_rows":54,"n_cols":14,"rows_kept":54,"cut":false,"hidden":false,"merged":[[1,7,1,8],[11,0,11,2],[4,3,4,8],[5,3,5,8],[6,3,6,8],[8,3,8,8],[9,3,9,8],[7,3,7,8],[10,3,10,8]]}
[null,null,null,"Qualifikation"]
[null,null,null,"Meisterschaft der Veteranen",null,null,null,"2025-12-31"]
[]
[]
[null,null,"Sektion"]
[null,null,"Zuständig"]
[null,null,"Adresse"]
[null,null,"PLZ/Wohnort"]
[null,null,"Mail"]
[null,null,"Telefon"]
[null,null,null,"Ausgefüllte Datei zurücksenden an salvo.trapani@outlook.com\nEinsendetermin: Bis spätestens 8. Juni 2025"]
[null,null,null,"Startliste"]
[]
["Schütze-Nr.","Lizenz-Nr.","Name","Vorname","Geburtstdatum","Sektion","Stlg.\nF oder a",null,"Kat.\n",null,"Berechnung Alter"]
[1,null,null,null,null,null,null,null,{"$f":"IF(AND(YEAR($H$2)-YEAR(E15)>=55,YEAR($H$2)-YEAR(E15)<=69,G15=\"f\"),\"V f\",IF(AND(YEAR($H$2)-YEAR(E15)>=55,YEAR($H$2)-YEAR(E15)<=69,G15=\"a\"),\"V a\",IF(AND(YEAR($H$2)-YEAR(E15)>=70,G15=\"f\"),\"Ev f\",IF(AND(YEAR($H$2)-YEAR(E15)>=70,G15=\"a\"),\"Ev a\",0))))","v":0},null,{"$f":"$H$2-E15","v":46022},null,null,{"$f":"IFERROR(INDEX(blaetter_auflisten,ROW(A1)),\"\")","v":""}]
[2,null,null,null,null,null,null,null,{"$f":"IF(AND(YEAR($H$2)-YEAR(E16)>=55,YEAR($H$2)-YEAR(E16)<=69,G16=\"f\"),\"V f\",IF(AND(YEAR($H$2)-YEAR(E16)>=55,YEAR($H$2)-YEAR(E16)<=69,G16=\"a\"),\"V a\",IF(AND(YEAR($H$2)-YEAR(E16)>=70,G16=\"f\"),\"Ev f\",IF(AND(YEAR($H$2)-YEAR(E16)>=70,G16=\"a\"),\"Ev a\",0))))","v":0},null,{"$f":"$H$2-E16","v":46022},null,null,{"$f":"IFERROR(INDEX(blaetter_auflisten,ROW(A2)),\"\")","v":""}]
[3,null,null,null,null,null,null,null,0,null,46022,null,null,{"$f":"IFERROR(INDEX(blaetter_auflisten,ROW(A3)),\"\")","v":""}]
[4,null,null,null,null,null,null,null,0,null,46022,null,null,{"$f":"IFERROR(INDEX(blaetter_auflisten,ROW(A4)),\"\")","v":""}]
[5,null,null,null,null,null,null,null,0,null,46022,null,null,{"$f":"IFERROR(INDEX(blaetter_auflisten,ROW(A5)),\"\")","v":""}]
[6,null,null,null,null,null,null,null,0,null,46022,null,null,{"$f":"IFERROR(INDEX(blaetter_auflisten,ROW(A6)),\"\")","v":""}]
[7,null,null,null,null,null,null,null,0,null,46022,null,null,{"$f":"IFERROR(INDEX(blaetter_auflisten,ROW(A7)),\"\")","v":""}]
[8,null,null,null,null,null,null,null,0,null,46022]
[9,null,null,null,null,null,null,null,0,null,46022]
[10,null,null,null,null,null,null,null,0,null,46022]
[11,null,null,null,null,null,null,null,0,null,46022]
[12,null,null,null,null,null,null,null,0,null,46022]
[13,null,null,null,null,null,null,null,0,null,46022]
[14,null,null,null,null,null,null,null,0,null,46022]
[15,null,null,null,null,null,null,null,0,null,46022]
[16,null,null,null,null,null,null,null,0,null,46022]
[17,null,null,null,null,null,null,null,0,null,46022]
[18,null,null,null,null,null,null,null,0,null,46022]
[19,null,null,null,null,null,null,null,0,null,46022]
[20,null,null,null,null,null,null,null,0,null,46022]
[21,null,null,null,null,null,null,null,0,null,46022]
[22,null,null,null,null,null,null,null,0,null,46022]
[23,null,null,null,null,null,null,null,0,null,46022]
[24,null,null,null,null,null,null,null,0,null,46022]
[25,null,null,null,null,null,null,null,0,null,46022]
[26,null,null,null,null,null,null,null,0,null,46022]
[27,null,null,null,null,null,null,null,0,null,46022]
[28,null,null,null,null,null,null,null,0,null,46022]
[29,null,null,null,null,null,null,null,0,null,46022]
[30,null,null,null,null,null,null,null,0,null,46022]
[31,null,null,null,null,null,null,null,0,null,46022]
[32,null,null,null,null,null,null,null,0,null,46022]
[33,null,null,null,null,null,null,null,0,null,46022]
[34,null,null,null,null,null,null,null,0,null,46022]
[35,null,null,null,null,null,null,null,0,null,46022]
[36,null,null,null,null,null,null,null,0,null,46022]
[37,null,null,null,null,null,null,null,0,null,46022]
[38,null,null,null,null,null,null,null,0,null,46022]
[39,null,null,null,null,null,null,null,0,null,46022]
[40,null,null,null,null,null,null,null,0,null,46022]

{"sheet":"1","index":1,"n_rows":17,"n_cols":27,"rows_kept":17,"cut":false,"hidden":false,"merged":[[7,0,8,0],[7,14,8,14],[13,11,13,12],[4,2,4,3],[0,11,0,12],[0,5,0,10],[4,5,4,8],[7,1,7,2],[7,3,7,12]]}
[null,null,{"$f":"Startliste!D1","v":"Qualifikation"},null,null,{"$f":"Startliste!D2","v":"Meisterschaft der Veteranen"},null,null,null,null,null,{"$f":"Startliste!H2","v":"2025-12-31"}]
[null,null,"Lizenz-Nr.",{"$f":"IF(_xlfn.XLOOKUP($M$5,Startliste!$A$15:$A$60,Startliste!$B$15:$B$60)=\"\",\"\",_xlfn.XLOOKUP($M$5,Startliste!$A$15:$A$60,Startliste!$B$15:$B$60))","v":""},null,null,null,null,null,null,null,null,null,null,null,null,null,null,null,null,null,1]
[]
[null,"Name",{"$f":"IF(_xlfn.XLOOKUP(M5,Startliste!$A$15:$A$60,Startliste!$C$15:$C$60)=\"\",\"\",_xlfn.XLOOKUP($M$5,Startliste!$A$15:$A$60,Startliste!$C$15:$C$60,\"\"))","v":""},null,"Vorname",{"$f":"IF(_xlfn.XLOOKUP(M5,Startliste!$A$15:$A$60,Startliste!$C$15:$C$60)=\"\",\"\",_xlfn.XLOOKUP($M$5,Startliste!$A$15:$A$60,Startliste!$D$15:$D$60,\"\"))","v":""},null,null,null,"St.",{"$f":"IF(_xlfn.XLOOKUP(M5,Startliste!$A$15:$A$60,Startliste!$C$15:$C$60)=\"\",\"\",_xlfn.XLOOKUP($M$5,Startliste!$A$15:$A$60,Startliste!$G$15:$G$60,\"\"))","v":""},null,"Start-Nr."]
[null,"Geburtsdatum",{"$f":"IF(_xlfn.XLOOKUP(M5,Startliste!$A$15:$A$60,Startliste!$C$15:$C$60)=\"\",\"\",_xlfn.XLOOKUP($M$5,Startliste!$A$15:$A$60,Startliste!$E$15:$E$60,\"\"))","v":""},null,"Sektion",{"$f":"IF(_xlfn.XLOOKUP(M5,Startliste!$A$15:$A$60,Startliste!$C$15:$C$60)=\"\",\"\",_xlfn.XLOOKUP($M$5,Startliste!$A$15:$A$60,Startliste!$F$15:$F$60,\"\"))","v":""},null,null,null,"Kat.",{"$f":"IF(_xlfn.XLOOKUP(M5,Startliste!$A$15:$A$60,Startliste!$C$15:$C$60)=\"\",\"\",_xlfn.XLOOKUP($M$5,Startliste!$A$15:$A$60,Startliste!$I$15:$I$60,\"\"))","v":""},null,{"$f":"_xlfn.NUMBERVALUE(MID(CELL(\"dateiname\",A1),FIND(\"]\",CELL(\"dateiname\",A1))+1,255))","v":1}]
[]
[null,null,null,"Keine Mouchen erfassen, nur Werte zwischen 1-10"]
["Passen","Scheiben-Nr. ",null,"Schüsse",null,null,null,null,null,null,null,null,null,null,"Total"]
[null,"Von","Bis",1,2,3,4,5,6,7,8,9,10]
["1 - 10",null,{"$f":"IF(B10=\"\",\"\",B10+9)","v":""},null,null,null,null,null,null,null,null,null,null,null,{"$f":"SUM(D10:M10)+AA10","v":0},null,{"$f":"IF(D10=\"M\",10)","v":false},false,false,false,false,false,false,false,false,false,{"$f":"SUM(Q10:Z10)","v":0}]
["11 - 20",null,{"$f":"IF(B11=\"\",\"\",B11+9)","v":""},null,null,null,null,null,null,null,null,null,null,null,{"$f":"SUM(D11:M11)+AA11","v":0},null,{"$f":"IF(D11=\"M\",10)","v":false},false,false,false,false,false,false,false,false,false,{"$f":"SUM(Q11:Z11)","v":0}]
["21 - 30",null,{"$f":"IF(B12=\"\",\"\",B12+9)","v":""},null,null,null,null,null,null,null,null,null,null,null,{"$f":"SUM(D12:M12)+AA12","v":0},null,{"$f":"IF(D12=\"M\",10)","v":false},{"$f":"IF(E12=\"M\",10)","v":false},false,false,false,false,false,false,false,false,{"$f":"SUM(Q12:Z12)","v":0}]
[null,null,"21 - 40",null,null,null,null,null,null,null,null,null,null,3,{"$f":"SUM(D13:M13)+AA13","v":0},null,{"$f":"IF(D13=\"M\",10)","v":false},{"$f":"IF(E13=\"M\",10)","v":false},{"$f":"IF(F13=\"M\",10)","v":false},{"$f":"IF(G13=\"M\",10)","v":false},{"$f":"IF(H13=\"M\",10)","v":false},{"$f":"IF(I13=\"M\",10)","v":false},{"$f":"IF(J13=\"M\",10)","v":false},{"$f":"IF(K13=\"M\",10)","v":false},{"$f":"IF(L13=\"M\",10)","v":false},{"$f":"IF(M13=\"M\",10)","v":false},{"$f":"SUM(Q13:Z13)","v":0}]
[null,null,null,null,null,null,null,null,null,null,null,"Resultat",null,null,{"$f":"SUM(O10:O13)","v":0}]
[]
[null,null,"Wert",10,9,8,7,6,5,4,3,2,1]
[null,null,"Anzahl",{"$f":"COUNTIF($D10:$M13,\"10\")+O18","v":0},{"$f":"COUNTIF($D10:$M13,\"9\")","v":0},{"$f":"COUNTIF($D10:$M13,\"8\")","v":0},{"$f":"COUNTIF($D10:$M13,\"7\")","v":0},{"$f":"COUNTIF($D10:$M13,\"6\")","v":0},{"$f":"COUNTIF($D10:$M13,\"5\")","v":0},{"$f":"COUNTIF($D10:$M13,\"4\")","v":0},{"$f":"COUNTIF($D10:$M13,\"3\")","v":0},{"$f":"COUNTIF($D10:$M13,\"2\")","v":0},{"$f":"COUNTIF($D10:$M13,\"1\")","v":0}]

{"sheet":"2","index":2,"n_rows":17,"n_cols":27,"rows_kept":17,"cut":false,"hidden":false,"merged":[[7,0,8,0],[7,14,8,14],[13,11,13,12],[4,2,4,3],[0,11,0,12],[0,5,0,10],[4,5,4,8],[7,1,7,2],[7,3,7,12]]}
[null,null,{"$f":"Startliste!D1","v":"Qualifikation"},null,null,{"$f":"Startliste!D2&\"\"&Startliste!E2","v":"Meisterschaft der Veteranen"},null,null,null,null,null,{"$f":"Startliste!H2","v":"2025-12-31"}]
[null,null,"Lizenz-Nr.",{"$f":"IF(_xlfn.XLOOKUP($M$5,Startliste!$A$15:$A$60,Startliste!$B$15:$B$60)=\"\",\"\",_xlfn.XLOOKUP($M$5,Startliste!$A$15:$A$60,Startliste!$B$15:$B$60))","v":""},null,null,null,null,null,null,null,null,null,null,null,null,null,null,null,null,null,1]
[]
[null,"Name",{"$f":"IF(_xlfn.XLOOKUP(M5,Startliste!$A$15:$A$60,Startliste!$C$15:$C$60)=\"\",\"\",_xlfn.XLOOKUP($M$5,Startliste!$A$15:$A$60,Startliste!$C$15:$C$60,\"\"))","v":""},null,"Vorname",{"$f":"IF(_xlfn.XLOOKUP(M5,Startliste!$A$15:$A$60,Startliste!$C$15:$C$60)=\"\",\"\",_xlfn.XLOOKUP($M$5,Startliste!$A$15:$A$60,Startliste!$D$15:$D$60,\"\"))","v":""},null,null,null,"St.",{"$f":"IF(_xlfn.XLOOKUP(M5,Startliste!$A$15:$A$60,Startliste!$C$15:$C$60)=\"\",\"\",_xlfn.XLOOKUP($M$5,Startliste!$A$15:$A$60,Startliste!$G$15:$G$60,\"\"))","v":""},null,"Start-Nr."]
[null,"Geburtsdatum",{"$f":"IF(_xlfn.XLOOKUP(M5,Startliste!$A$15:$A$60,Startliste!$C$15:$C$60)=\"\",\"\",_xlfn.XLOOKUP($M$5,Startliste!$A$15:$A$60,Startliste!$E$15:$E$60,\"\"))","v":""},null,"Sektion",{"$f":"IF(_xlfn.XLOOKUP(M5,Startliste!$A$15:$A$60,Startliste!$C$15:$C$60)=\"\",\"\",_xlfn.XLOOKUP($M$5,Startliste!$A$15:$A$60,Startliste!$F$15:$F$60,\"\"))","v":""},null,null,null,"Kat.",{"$f":"IF(_xlfn.XLOOKUP(M5,Startliste!$A$15:$A$60,Startliste!$C$15:$C$60)=\"\",\"\",_xlfn.XLOOKUP($M$5,Startliste!$A$15:$A$60,Startliste!$I$15:$I$60,\"\"))","v":""},null,{"$f":"_xlfn.NUMBERVALUE(MID(CELL(\"dateiname\",A1),FIND(\"]\",CELL(\"dateiname\",A1))+1,255))","v":2}]
[]
[null,null,null,"Keine Mouchen erfassen, nur Werte zwischen 1-10"]
["Passen","Scheiben-Nr. ",null,"Schüsse",null,null,null,null,null,null,null,null,null,null,"Total"]
[null,"Von","Bis",1,2,3,4,5,6,7,8,9,10]
["1 - 10",null,{"$f":"IF(B10=\"\",\"\",B10+9)","v":""},null,null,null,null,null,null,null,null,null,null,null,{"$f":"SUM(D10:M10)+AA10","v":0},null,{"$f":"IF(D10=\"M\",10)","v":false},{"$f":"IF(E10=\"M\",10)","v":false},false,false,false,false,false,false,false,false,{"$f":"SUM(Q10:Z10)","v":0}]
["11 - 20",null,{"$f":"IF(B11=\"\",\"\",B11+9)","v":""},null,null,null,null,null,null,null,null,null,null,null,{"$f":"SUM(D11:M11)+AA11","v":0},null,{"$f":"IF(D11=\"M\",10)","v":false},{"$f":"IF(E11=\"M\",10)","v":false},false,false,false,false,false,false,false,false,{"$f":"SUM(Q11:Z11)","v":0}]
["21 - 30",null,{"$f":"IF(B12=\"\",\"\",B12+9)","v":""},null,null,null,null,null,null,null,null,null,null,null,{"$f":"SUM(D12:M12)+AA12","v":0},null,{"$f":"IF(D12=\"M\",10)","v":false},{"$f":"IF(E12=\"M\",10)","v":false},false,false,false,false,false,false,false,false,{"$f":"SUM(Q12:Z12)","v":0}]
[null,null,"21 - 40",null,null,null,null,null,null,null,null,null,null,8,{"$f":"SUM(D13:M13)+AA13","v":0},null,{"$f":"IF(D13=\"M\",10)","v":false},{"$f":"IF(E13=\"M\",10)","v":false},{"$f":"IF(F13=\"M\",10)","v":false},{"$f":"IF(G13=\"M\",10)","v":false},{"$f":"IF(H13=\"M\",10)","v":false},{"$f":"IF(I13=\"M\",10)","v":false},{"$f":"IF(J13=\"M\",10)","v":false},{"$f":"IF(K13=\"M\",10)","v":false},{"$f":"IF(L13=\"M\",10)","v":false},{"$f":"IF(M13=\"M\",10)","v":false},{"$f":"SUM(Q13:Z13)","v":0}]
[null,null,null,null,null,null,null,null,null,null,null,"Resultat",null,null,{"$f":"SUM(O10:O13)","v":0}]
[]
[null,null,"Wert",10,9,8,7,6,5,4,3,2,1]
[null,null,"Anzahl",{"$f":"COUNTIF($D10:$M13,\"10\")+O18","v":0},{"$f":"COUNTIF($D10:$M13,\"9\")","v":0},{"$f":"COUNTIF($D10:$M13,\"8\")","v":0},{"$f":"COUNTIF($D10:$M13,\"7\")","v":0},{"$f":"COUNTIF($D10:$M13,\"6\")","v":0},{"$f":"COUNTIF($D10:$M13,\"5\")","v":0},{"$f":"COUNTIF($D10:$M13,\"4\")","v":0},{"$f":"COUNTIF($D10:$M13,\"3\")","v":0},{"$f":"COUNTIF($D10:$M13,\"2\")","v":0},{"$f":"COUNTIF($D10:$M13,\"1\")","v":0}]

{"sheet":"3","index":3,"n_rows":17,"n_cols":27,"rows_kept":17,"cut":false,"hidden":false,"merged":[[7,0,8,0],[7,14,8,14],[13,11,13,12],[4,2,4,3],[0,11,0,12],[0,5,0,10],[4,5,4,8],[7,1,7,2],[7,3,7,12]]}
[null,null,{"$f":"Startliste!D1","v":"Qualifikation"},null,null,{"$f":"Startliste!D2","v":"Meisterschaft der Veteranen"},null,null,null,null,null,{"$f":"Startliste!H2","v":"2025-12-31"}]
[null,null,"Lizenz-Nr.",{"$f":"IF(_xlfn.XLOOKUP($M$5,Startliste!$A$15:$A$60,Startliste!$B$15:$B$60)=\"\",\"\",_xlfn.XLOOKUP($M$5,Startliste!$A$15:$A$60,Startliste!$B$15:$B$60))","v":""},null,null,null,null,null,null,null,null,null,null,null,null,null,null,null,null,null,1]
[]
[null,"Name",{"$f":"IF(_xlfn.XLOOKUP(M5,Startliste!$A$15:$A$60,Startliste!$C$15:$C$60)=\"\",\"\",_xlfn.XLOOKUP($M$5,Startliste!$A$15:$A$60,Startliste!$C$15:$C$60,\"\"))","v":""},null,"Vorname",{"$f":"IF(_xlfn.XLOOKUP(M5,Startliste!$A$15:$A$60,Startliste!$C$15:$C$60)=\"\",\"\",_xlfn.XLOOKUP($M$5,Startliste!$A$15:$A$60,Startliste!$D$15:$D$60,\"\"))","v":""},null,null,null,"St.",{"$f":"IF(_xlfn.XLOOKUP(M5,Startliste!$A$15:$A$60,Startliste!$C$15:$C$60)=\"\",\"\",_xlfn.XLOOKUP($M$5,Startliste!$A$15:$A$60,Startliste!$G$15:$G$60,\"\"))","v":""},null,"Start-Nr."]
[null,"Geburtsdatum",{"$f":"IF(_xlfn.XLOOKUP(M5,Startliste!$A$15:$A$60,Startliste!$C$15:$C$60)=\"\",\"\",_xlfn.XLOOKUP($M$5,Startliste!$A$15:$A$60,Startliste!$E$15:$E$60,\"\"))","v":""},null,"Sektion",{"$f":"IF(_xlfn.XLOOKUP(M5,Startliste!$A$15:$A$60,Startliste!$C$15:$C$60)=\"\",\"\",_xlfn.XLOOKUP($M$5,Startliste!$A$15:$A$60,Startliste!$F$15:$F$60,\"\"))","v":""},null,null,null,"Kat.",{"$f":"IF(_xlfn.XLOOKUP(M5,Startliste!$A$15:$A$60,Startliste!$C$15:$C$60)=\"\",\"\",_xlfn.XLOOKUP($M$5,Startliste!$A$15:$A$60,Startliste!$I$15:$I$60,\"\"))","v":""},null,{"$f":"_xlfn.NUMBERVALUE(MID(CELL(\"dateiname\",A1),FIND(\"]\",CELL(\"dateiname\",A1))+1,255))","v":3}]
[]
[null,null,null,"Keine Mouchen erfassen, nur Werte zwischen 1-10"]
["Passen","Scheiben-Nr. ",null,"Schüsse",null,null,null,null,null,null,null,null,null,null,"Total"]
[null,"Von","Bis",1,2,3,4,5,6,7,8,9,10]
["1 - 10",null,{"$f":"IF(B10=\"\",\"\",B10+9)","v":""},null,null,null,null,null,null,null,null,null,null,null,{"$f":"SUM(D10:M10)+AA10","v":0},null,{"$f":"IF(D10=\"M\",10)","v":false},{"$f":"IF(E10=\"M\",10)","v":false},false,false,false,false,false,false,false,false,{"$f":"SUM(Q10:Z10)","v":0}]
["11 - 20",null,{"$f":"IF(B11=\"\",\"\",B11+9)","v":""},null,null,null,null,null,null,null,null,null,null,null,{"$f":"SUM(D11:M11)+AA11","v":0},null,{"$f":"IF(D11=\"M\",10)","v":false},{"$f":"IF(E11=\"M\",10)","v":false},false,false,false,false,false,false,false,false,{"$f":"SUM(Q11:Z11)","v":0}]
["21 - 30",null,{"$f":"IF(B12=\"\",\"\",B12+9)","v":""},null,null,null,null,null,null,null,null,null,null,null,{"$f":"SUM(D12:M12)+AA12","v":0},null,{"$f":"IF(D12=\"M\",10)","v":false},{"$f":"IF(E12=\"M\",10)","v":false},false,false,false,false,false,false,false,false,{"$f":"SUM(Q12:Z12)","v":0}]
[null,null,"21 - 40",null,null,null,null,null,null,null,null,null,null,8,{"$f":"SUM(D13:M13)+AA13","v":0},null,{"$f":"IF(D13=\"M\",10)","v":false},{"$f":"IF(E13=\"M\",10)","v":false},{"$f":"IF(F13=\"M\",10)","v":false},{"$f":"IF(G13=\"M\",10)","v":false},{"$f":"IF(H13=\"M\",10)","v":false},{"$f":"IF(I13=\"M\",10)","v":false},{"$f":"IF(J13=\"M\",10)","v":false},{"$f":"IF(K13=\"M\",10)","v":false},{"$f":"IF(L13=\"M\",10)","v":false},{"$f":"IF(M13=\"M\",10)","v":false},{"$f":"SUM(Q13:Z13)","v":0}]
[null,null,null,null,null,null,null,null,null,null,null,"Resultat",null,null,{"$f":"SUM(O10:O13)","v":0}]
[]
[null,null,"Wert",10,9,8,7,6,5,4,3,2,1]
[null,null,"Anzahl",{"$f":"COUNTIF($D10:$M13,\"10\")+O18","v":0},{"$f":"COUNTIF($D10:$M13,\"9\")","v":0},{"$f":"COUNTIF($D10:$M13,\"8\")","v":0},{"$f":"COUNTIF($D10:$M13,\"7\")","v":0},{"$f":"COUNTIF($D10:$M13,\"6\")","v":0},{"$f":"COUNTIF($D10:$M13,\"5\")","v":0},{"$f":"COUNTIF($D10:$M13,\"4\")","v":0},{"$f":"COUNTIF($D10:$M13,\"3\")","v":0},{"$f":"COUNTIF($D10:$M13,\"2\")","v":0},{"$f":"COUNTIF($D10:$M13,\"1\")","v":0}]

{"sheet":"4","index":4,"n_rows":17,"n_cols":27,"rows_kept":17,"cut":false,"hidden":false,"merged":[[7,0,8,0],[7,14,8,14],[13,11,13,12],[4,2,4,3],[0,11,0,12],[0,5,0,10],[4,5,4,8],[7,1,7,2],[7,3,7,12]]}
[null,null,{"$f":"Startliste!D1","v":"Qualifikation"},null,null,{"$f":"Startliste!D2","v":"Meisterschaft der Veteranen"},null,null,null,null,null,{"$f":"Startliste!H2","v":"2025-12-31"}]
[null,null,"Lizenz-Nr.",{"$f":"IF(_xlfn.XLOOKUP($M$5,Startliste!$A$15:$A$60,Startliste!$B$15:$B$60)=\"\",\"\",_xlfn.XLOOKUP($M$5,Startliste!$A$15:$A$60,Startliste!$B$15:$B$60))","v":""},null,null,null,null,null,null,null,null,null,null,null,null,null,null,null,null,null,1]
[]
[null,"Name",{"$f":"IF(_xlfn.XLOOKUP(M5,Startliste!$A$15:$A$60,Startliste!$C$15:$C$60)=\"\",\"\",_xlfn.XLOOKUP($M$5,Startliste!$A$15:$A$60,Startliste!$C$15:$C$60,\"\"))","v":""},null,"Vorname",{"$f":"IF(_xlfn.XLOOKUP(M5,Startliste!$A$15:$A$60,Startliste!$C$15:$C$60)=\"\",\"\",_xlfn.XLOOKUP($M$5,Startliste!$A$15:$A$60,Startliste!$D$15:$D$60,\"\"))","v":""},null,null,null,"St.",{"$f":"IF(_xlfn.XLOOKUP(M5,Startliste!$A$15:$A$60,Startliste!$C$15:$C$60)=\"\",\"\",_xlfn.XLOOKUP($M$5,Startliste!$A$15:$A$60,Startliste!$G$15:$G$60,\"\"))","v":""},null,"Start-Nr."]
[null,"Geburtsdatum",{"$f":"IF(_xlfn.XLOOKUP(M5,Startliste!$A$15:$A$60,Startliste!$C$15:$C$60)=\"\",\"\",_xlfn.XLOOKUP($M$5,Startliste!$A$15:$A$60,Startliste!$E$15:$E$60,\"\"))","v":""},null,"Sektion",{"$f":"IF(_xlfn.XLOOKUP(M5,Startliste!$A$15:$A$60,Startliste!$C$15:$C$60)=\"\",\"\",_xlfn.XLOOKUP($M$5,Startliste!$A$15:$A$60,Startliste!$F$15:$F$60,\"\"))","v":""},null,null,null,"Kat.",{"$f":"IF(_xlfn.XLOOKUP(M5,Startliste!$A$15:$A$60,Startliste!$C$15:$C$60)=\"\",\"\",_xlfn.XLOOKUP($M$5,Startliste!$A$15:$A$60,Startliste!$I$15:$I$60,\"\"))","v":""},null,{"$f":"_xlfn.NUMBERVALUE(MID(CELL(\"dateiname\",A1),FIND(\"]\",CELL(\"dateiname\",A1))+1,255))","v":4}]
[]
[null,null,null,"Keine Mouchen erfassen, nur Werte zwischen 1-10"]
["Passen","Scheiben-Nr. ",null,"Schüsse",null,null,null,null,null,null,null,null,null,null,"Total"]
[null,"Von","Bis",1,2,3,4,5,6,7,8,9,10]
["1 - 10",null,{"$f":"IF(B10=\"\",\"\",B10+9)","v":""},null,null,null,null,null,null,null,null,null,null,null,{"$f":"SUM(D10:M10)+AA10","v":0},null,{"$f":"IF(D10=\"M\",10)","v":false},{"$f":"IF(E10=\"M\",10)","v":false},false,false,false,false,false,false,false,false,{"$f":"SUM(Q10:Z10)","v":0}]
["11 - 20",null,{"$f":"IF(B11=\"\",\"\",B11+9)","v":""},null,null,null,null,null,null,null,null,null,null,null,{"$f":"SUM(D11:M11)+AA11","v":0},null,{"$f":"IF(D11=\"M\",10)","v":false},{"$f":"IF(E11=\"M\",10)","v":false},false,false,false,false,false,false,false,false,{"$f":"SUM(Q11:Z11)","v":0}]
["21 - 30",null,{"$f":"IF(B12=\"\",\"\",B12+9)","v":""},null,null,null,null,null,null,null,null,null,null,null,{"$f":"SUM(D12:M12)+AA12","v":0},null,{"$f":"IF(D12=\"M\",10)","v":false},{"$f":"IF(E12=\"M\",10)","v":false},false,false,false,false,false,false,false,false,{"$f":"SUM(Q12:Z12)","v":0}]
[null,null,"21 - 40",null,null,null,null,null,null,null,null,null,null,8,{"$f":"SUM(D13:M13)+AA13","v":0},null,{"$f":"IF(D13=\"M\",10)","v":false},{"$f":"IF(E13=\"M\",10)","v":false},{"$f":"IF(F13=\"M\",10)","v":false},{"$f":"IF(G13=\"M\",10)","v":false},{"$f":"IF(H13=\"M\",10)","v":false},{"$f":"IF(I13=\"M\",10)","v":false},{"$f":"IF(J13=\"M\",10)","v":false},{"$f":"IF(K13=\"M\",10)","v":false},{"$f":"IF(L13=\"M\",10)","v":false},{"$f":"IF(M13=\"M\",10)","v":false},{"$f":"SUM(Q13:Z13)","v":0}]
[null,null,null,null,null,null,null,null,null,null,null,"Resultat",null,null,{"$f":"SUM(O10:O13)","v":0}]
[]
[null,null,"Wert",10,9,8,7,6,5,4,3,2,1]
[null,null,"Anzahl",{"$f":"COUNTIF($D10:$M13,\"10\")+O18","v":0},{"$f":"COUNTIF($D10:$M13,\"9\")","v":0},{"$f":"COUNTIF($D10:$M13,\"8\")","v":0},{"$f":"COUNTIF($D10:$M13,\"7\")","v":0},{"$f":"COUNTIF($D10:$M13,\"6\")","v":0},{"$f":"COUNTIF($D10:$M13,\"5\")","v":0},{"$f":"COUNTIF($D10:$M13,\"4\")","v":0},{"$f":"COUNTIF($D10:$M13,\"3\")","v":0},{"$f":"COUNTIF($D10:$M13,\"2\")","v":0},{"$f":"COUNTIF($D10:$M13,\"1\")","v":0}]

{"sheet":"5","index":5,"n_rows":17,"n_cols":27,"rows_kept":17,"cut":false,"hidden":false,"merged":[[7,0,8,0],[7,14,8,14],[13,11,13,12],[4,2,4,3],[0,11,0,12],[0,5,0,10],[4,5,4,8],[7,1,7,2],[7,3,7,12]]}
[null,null,{"$f":"Startliste!D1","v":"Qualifikation"},null,null,{"$f":"Startliste!D2","v":"Meisterschaft der Veteranen"},null,null,null,null,null,{"$f":"Startliste!H2","v":"2025-12-31"}]
[null,null,"Lizenz-Nr.",{"$f":"IF(_xlfn.XLOOKUP($M$5,Startliste!$A$15:$A$60,Startliste!$B$15:$B$60)=\"\",\"\",_xlfn.XLOOKUP($M$5,Startliste!$A$15:$A$60,Startliste!$B$15:$B$60))","v":""},null,null,null,null,null,null,null,null,null,null,null,null,null,null,null,null,null,1]
[]
[null,"Name",{"$f":"IF(_xlfn.XLOOKUP(M5,Startliste!$A$15:$A$60,Startliste!$C$15:$C$60)=\"\",\"\",_xlfn.XLOOKUP($M$5,Startliste!$A$15:$A$60,Startliste!$C$15:$C$60,\"\"))","v":""},null,"Vorname",{"$f":"IF(_xlfn.XLOOKUP(M5,Startliste!$A$15:$A$60,Startliste!$C$15:$C$60)=\"\",\"\",_xlfn.XLOOKUP($M$5,Startliste!$A$15:$A$60,Startliste!$D$15:$D$60,\"\"))","v":""},null,null,null,"St.",{"$f":"IF(_xlfn.XLOOKUP(M5,Startliste!$A$15:$A$60,Startliste!$C$15:$C$60)=\"\",\"\",_xlfn.XLOOKUP($M$5,Startliste!$A$15:$A$60,Startliste!$G$15:$G$60,\"\"))","v":""},null,"Start-Nr."]
[null,"Geburtsdatum",{"$f":"IF(_xlfn.XLOOKUP(M5,Startliste!$A$15:$A$60,Startliste!$C$15:$C$60)=\"\",\"\",_xlfn.XLOOKUP($M$5,Startliste!$A$15:$A$60,Startliste!$E$15:$E$60,\"\"))","v":""},null,"Sektion",{"$f":"IF(_xlfn.XLOOKUP(M5,Startliste!$A$15:$A$60,Startliste!$C$15:$C$60)=\"\",\"\",_xlfn.XLOOKUP($M$5,Startliste!$A$15:$A$60,Startliste!$F$15:$F$60,\"\"))","v":""},null,null,null,"Kat.",{"$f":"IF(_xlfn.XLOOKUP(M5,Startliste!$A$15:$A$60,Startliste!$C$15:$C$60)=\"\",\"\",_xlfn.XLOOKUP($M$5,Startliste!$A$15:$A$60,Startliste!$I$15:$I$60,\"\"))","v":""},null,{"$f":"_xlfn.NUMBERVALUE(MID(CELL(\"dateiname\",A1),FIND(\"]\",CELL(\"dateiname\",A1))+1,255))","v":5}]
[]
[null,null,null,"Keine Mouchen erfassen, nur Werte zwischen 1-10"]
["Passen","Scheiben-Nr. ",null,"Schüsse",null,null,null,null,null,null,null,null,null,null,"Total"]
[null,"Von","Bis",1,2,3,4,5,6,7,8,9,10]
["1 - 10",null,{"$f":"IF(B10=\"\",\"\",B10+9)","v":""},null,null,null,null,null,null,null,null,null,null,null,{"$f":"SUM(D10:M10)+AA10","v":0},null,{"$f":"IF(D10=\"M\",10)","v":false},{"$f":"IF(E10=\"M\",10)","v":false},false,false,false,false,false,false,false,false,{"$f":"SUM(Q10:Z10)","v":0}]
["11 - 20",null,{"$f":"IF(B11=\"\",\"\",B11+9)","v":""},null,null,null,null,null,null,null,null,null,null,null,{"$f":"SUM(D11:M11)+AA11","v":0},null,{"$f":"IF(D11=\"M\",10)","v":false},{"$f":"IF(E11=\"M\",10)","v":false},false,false,false,false,false,false,false,false,{"$f":"SUM(Q11:Z11)","v":0}]
["21 - 30",null,{"$f":"IF(B12=\"\",\"\",B12+9)","v":""},null,null,null,null,null,null,null,null,null,null,null,{"$f":"SUM(D12:M12)+AA12","v":0},null,{"$f":"IF(D12=\"M\",10)","v":false},{"$f":"IF(E12=\"M\",10)","v":false},false,false,false,false,false,false,false,false,{"$f":"SUM(Q12:Z12)","v":0}]
[null,null,"21 - 40",null,null,null,null,null,null,null,null,null,null,8,{"$f":"SUM(D13:M13)+AA13","v":0},null,{"$f":"IF(D13=\"M\",10)","v":false},{"$f":"IF(E13=\"M\",10)","v":false},{"$f":"IF(F13=\"M\",10)","v":false},{"$f":"IF(G13=\"M\",10)","v":false},{"$f":"IF(H13=\"M\",10)","v":false},{"$f":"IF(I13=\"M\",10)","v":false},{"$f":"IF(J13=\"M\",10)","v":false},{"$f":"IF(K13=\"M\",10)","v":false},{"$f":"IF(L13=\"M\",10)","v":false},{"$f":"IF(M13=\"M\",10)","v":false},{"$f":"SUM(Q13:Z13)","v":0}]
[null,null,null,null,null,null,null,null,null,null,null,"Resultat",null,null,{"$f":"SUM(O10:O13)","v":0}]
[]
[null,null,"Wert",10,9,8,7,6,5,4,3,2,1]
[null,null,"Anzahl",{"$f":"COUNTIF($D10:$M13,\"10\")+O18","v":0},{"$f":"COUNTIF($D10:$M13,\"9\")","v":0},{"$f":"COUNTIF($D10:$M13,\"8\")","v":0},{"$f":"COUNTIF($D10:$M13,\"7\")","v":0},{"$f":"COUNTIF($D10:$M13,\"6\")","v":0},{"$f":"COUNTIF($D10:$M13,\"5\")","v":0},{"$f":"COUNTIF($D10:$M13,\"4\")","v":0},{"$f":"COUNTIF($D10:$M13,\"3\")","v":0},{"$f":"COUNTIF($D10:$M13,\"2\")","v":0},{"$f":"COUNTIF($D10:$M13,\"1\")","v":0}]

{"sheet":"6","index":6,"n_rows":17,"n_cols":27,"rows_kept":17,"cut":false,"hidden":false,"merged":[[7,0,8,0],[7,14,8,14],[13,11,13,12],[4,2,4,3],[0,11,0,12],[0,5,0,10],[4,5,4,8],[7,1,7,2],[7,3,7,12]]}
[null,null,{"$f":"Startliste!D1","v":"Qualifikation"},null,null,{"$f":"Startliste!D2","v":"Meisterschaft der Veteranen"},null,null,null,null,null,{"$f":"Startliste!H2","v":"2025-12-31"}]
[null,null,"Lizenz-Nr.",{"$f":"IF(_xlfn.XLOOKUP($M$5,Startliste!$A$15:$A$60,Startliste!$B$15:$B$60)=\"\",\"\",_xlfn.XLOOKUP($M$5,Startliste!$A$15:$A$60,Startliste!$B$15:$B$60))","v":""},null,null,null,null,null,null,null,null,null,null,null,null,null,null,null,null,null,1]
[]
[null,"Name",{"$f":"IF(_xlfn.XLOOKUP(M5,Startliste!$A$15:$A$60,Startliste!$C$15:$C$60)=\"\",\"\",_xlfn.XLOOKUP($M$5,Startliste!$A$15:$A$60,Startliste!$C$15:$C$60,\"\"))","v":""},null,"Vorname",{"$f":"IF(_xlfn.XLOOKUP(M5,Startliste!$A$15:$A$60,Startliste!$C$15:$C$60)=\"\",\"\",_xlfn.XLOOKUP($M$5,Startliste!$A$15:$A$60,Startliste!$D$15:$D$60,\"\"))","v":""},null,null,null,"St.",{"$f":"IF(_xlfn.XLOOKUP(M5,Startliste!$A$15:$A$60,Startliste!$C$15:$C$60)=\"\",\"\",_xlfn.XLOOKUP($M$5,Startliste!$A$15:$A$60,Startliste!$G$15:$G$60,\"\"))","v":""},null,"Start-Nr."]
[null,"Geburtsdatum",{"$f":"IF(_xlfn.XLOOKUP(M5,Startliste!$A$15:$A$60,Startliste!$C$15:$C$60)=\"\",\"\",_xlfn.XLOOKUP($M$5,Startliste!$A$15:$A$60,Startliste!$E$15:$E$60,\"\"))","v":""},null,"Sektion",{"$f":"IF(_xlfn.XLOOKUP(M5,Startliste!$A$15:$A$60,Startliste!$C$15:$C$60)=\"\",\"\",_xlfn.XLOOKUP($M$5,Startliste!$A$15:$A$60,Startliste!$F$15:$F$60,\"\"))","v":""},null,null,null,"Kat.",{"$f":"IF(_xlfn.XLOOKUP(M5,Startliste!$A$15:$A$60,Startliste!$C$15:$C$60)=\"\",\"\",_xlfn.XLOOKUP($M$5,Startliste!$A$15:$A$60,Startliste!$I$15:$I$60,\"\"))","v":""},null,{"$f":"_xlfn.NUMBERVALUE(MID(CELL(\"dateiname\",A1),FIND(\"]\",CELL(\"dateiname\",A1))+1,255))","v":6}]
[]
[null,null,null,"Keine Mouchen erfassen, nur Werte zwischen 1-10"]
["Passen","Scheiben-Nr. ",null,"Schüsse",null,null,null,null,null,null,null,null,null,null,"Total"]
[null,"Von","Bis",1,2,3,4,5,6,7,8,9,10]
["1 - 10",null,{"$f":"IF(B10=\"\",\"\",B10+9)","v":""},null,null,null,null,null,null,null,null,null,null,null,{"$f":"SUM(D10:M10)+AA10","v":0},null,{"$f":"IF(D10=\"M\",10)","v":false},{"$f":"IF(E10=\"M\",10)","v":false},false,false,false,false,false,false,false,false,{"$f":"SUM(Q10:Z10)","v":0}]
["11 - 20",null,{"$f":"IF(B11=\"\",\"\",B11+9)","v":""},null,null,null,null,null,null,null,null,null,null,null,{"$f":"SUM(D11:M11)+AA11","v":0},null,{"$f":"IF(D11=\"M\",10)","v":false},{"$f":"IF(E11=\"M\",10)","v":false},false,false,false,false,false,false,false,false,{"$f":"SUM(Q11:Z11)","v":0}]
["21 - 30",null,{"$f":"IF(B12=\"\",\"\",B12+9)","v":""},null,null,null,null,null,null,null,null,null,null,null,{"$f":"SUM(D12:M12)+AA12","v":0},null,{"$f":"IF(D12=\"M\",10)","v":false},{"$f":"IF(E12=\"M\",10)","v":false},false,false,false,false,false,false,false,false,{"$f":"SUM(Q12:Z12)","v":0}]
[null,null,"21 - 40",null,null,null,null,null,null,null,null,null,null,8,{"$f":"SUM(D13:M13)+AA13","v":0},null,{"$f":"IF(D13=\"M\",10)","v":false},{"$f":"IF(E13=\"M\",10)","v":false},{"$f":"IF(F13=\"M\",10)","v":false},{"$f":"IF(G13=\"M\",10)","v":false},{"$f":"IF(H13=\"M\",10)","v":false},{"$f":"IF(I13=\"M\",10)","v":false},{"$f":"IF(J13=\"M\",10)","v":false},{"$f":"IF(K13=\"M\",10)","v":false},{"$f":"IF(L13=\"M\",10)","v":false},{"$f":"IF(M13=\"M\",10)","v":false},{"$f":"SUM(Q13:Z13)","v":0}]
[null,null,null,null,null,null,null,null,null,null,null,"Resultat",null,null,{"$f":"SUM(O10:O13)","v":0}]
[]
[null,null,"Wert",10,9,8,7,6,5,4,3,2,1]
[null,null,"Anzahl",{"$f":"COUNTIF($D10:$M13,\"10\")+O18","v":0},{"$f":"COUNTIF($D10:$M13,\"9\")","v":0},{"$f":"COUNTIF($D10:$M13,\"8\")","v":0},{"$f":"COUNTIF($D10:$M13,\"7\")","v":0},{"$f":"COUNTIF($D10:$M13,\"6\")","v":0},{"$f":"COUNTIF($D10:$M13,\"5\")","v":0},{"$f":"COUNTIF($D10:$M13,\"4\")","v":0},{"$f":"COUNTIF($D10:$M13,\"3\")","v":0},{"$f":"COUNTIF($D10:$M13,\"2\")","v":0},{"$f":"COUNTIF($D10:$M13,\"1\")","v":0}]

{"sheet":"7","index":7,"n_rows":17,"n_cols":27,"rows_kept":17,"cut":false,"hidden":false,"merged":[[7,0,8,0],[7,14,8,14],[13,11,13,12],[4,2,4,3],[0,11,0,12],[0,5,0,10],[4,5,4,8],[7,1,7,2],[7,3,7,12]]}
[null,null,{"$f":"Startliste!D1","v":"Qualifikation"},null,null,{"$f":"Startliste!D2","v":"Meisterschaft der Veteranen"},null,null,null,null,null,{"$f":"Startliste!H2","v":"2025-12-31"}]
[null,null,"Lizenz-Nr.",{"$f":"IF(_xlfn.XLOOKUP($M$5,Startliste!$A$15:$A$60,Startliste!$B$15:$B$60)=\"\",\"\",_xlfn.XLOOKUP($M$5,Startliste!$A$15:$A$60,Startliste!$B$15:$B$60))","v":""},null,null,null,null,null,null,null,null,null,null,null,null,null,null,null,null,null,1]
[]
[null,"Name",{"$f":"IF(_xlfn.XLOOKUP(M5,Startliste!$A$15:$A$60,Startliste!$C$15:$C$60)=\"\",\"\",_xlfn.XLOOKUP($M$5,Startliste!$A$15:$A$60,Startliste!$C$15:$C$60,\"\"))","v":""},null,"Vorname",{"$f":"IF(_xlfn.XLOOKUP(M5,Startliste!$A$15:$A$60,Startliste!$C$15:$C$60)=\"\",\"\",_xlfn.XLOOKUP($M$5,Startliste!$A$15:$A$60,Startliste!$D$15:$D$60,\"\"))","v":""},null,null,null,"St.",{"$f":"IF(_xlfn.XLOOKUP(M5,Startliste!$A$15:$A$60,Startliste!$C$15:$C$60)=\"\",\"\",_xlfn.XLOOKUP($M$5,Startliste!$A$15:$A$60,Startliste!$G$15:$G$60,\"\"))","v":""},null,"Start-Nr."]
[null,"Geburtsdatum",{"$f":"IF(_xlfn.XLOOKUP(M5,Startliste!$A$15:$A$60,Startliste!$C$15:$C$60)=\"\",\"\",_xlfn.XLOOKUP($M$5,Startliste!$A$15:$A$60,Startliste!$E$15:$E$60,\"\"))","v":""},null,"Sektion",{"$f":"IF(_xlfn.XLOOKUP(M5,Startliste!$A$15:$A$60,Startliste!$C$15:$C$60)=\"\",\"\",_xlfn.XLOOKUP($M$5,Startliste!$A$15:$A$60,Startliste!$F$15:$F$60,\"\"))","v":""},null,null,null,"Kat.",{"$f":"IF(_xlfn.XLOOKUP(M5,Startliste!$A$15:$A$60,Startliste!$C$15:$C$60)=\"\",\"\",_xlfn.XLOOKUP($M$5,Startliste!$A$15:$A$60,Startliste!$I$15:$I$60,\"\"))","v":""},null,{"$f":"_xlfn.NUMBERVALUE(MID(CELL(\"dateiname\",A1),FIND(\"]\",CELL(\"dateiname\",A1))+1,255))","v":7}]
[]
[null,null,null,"Keine Mouchen erfassen, nur Werte zwischen 1-10"]
["Passen","Scheiben-Nr. ",null,"Schüsse",null,null,null,null,null,null,null,null,null,null,"Total"]
[null,"Von","Bis",1,2,3,4,5,6,7,8,9,10]
["1 - 10",null,{"$f":"IF(B10=\"\",\"\",B10+9)","v":""},null,null,null,null,null,null,null,null,null,null,null,{"$f":"SUM(D10:M10)+AA10","v":0},null,{"$f":"IF(D10=\"M\",10)","v":false},{"$f":"IF(E10=\"M\",10)","v":false},false,false,false,false,false,false,false,false,{"$f":"SUM(Q10:Z10)","v":0}]
["11 - 20",null,{"$f":"IF(B11=\"\",\"\",B11+9)","v":""},null,null,null,null,null,null,null,null,null,null,null,{"$f":"SUM(D11:M11)+AA11","v":0},null,{"$f":"IF(D11=\"M\",10)","v":false},{"$f":"IF(E11=\"M\",10)","v":false},false,false,false,false,false,false,false,false,{"$f":"SUM(Q11:Z11)","v":0}]
["21 - 30",null,{"$f":"IF(B12=\"\",\"\",B12+9)","v":""},null,null,null,null,null,null,null,null,null,null,null,{"$f":"SUM(D12:M12)+AA12","v":0},null,{"$f":"IF(D12=\"M\",10)","v":false},{"$f":"IF(E12=\"M\",10)","v":false},false,false,false,false,false,false,false,false,{"$f":"SUM(Q12:Z12)","v":0}]
[null,null,"21 - 40",null,null,null,null,null,null,null,null,null,null,8,{"$f":"SUM(D13:M13)+AA13","v":0},null,{"$f":"IF(D13=\"M\",10)","v":false},{"$f":"IF(E13=\"M\",10)","v":false},{"$f":"IF(F13=\"M\",10)","v":false},{"$f":"IF(G13=\"M\",10)","v":false},{"$f":"IF(H13=\"M\",10)","v":false},{"$f":"IF(I13=\"M\",10)","v":false},{"$f":"IF(J13=\"M\",10)","v":false},{"$f":"IF(K13=\"M\",10)","v":false},{"$f":"IF(L13=\"M\",10)","v":false},{"$f":"IF(M13=\"M\",10)","v":false},{"$f":"SUM(Q13:Z13)","v":0}]
[null,null,null,null,null,null,null,null,null,null,null,"Resultat",null,null,{"$f":"SUM(O10:O13)","v":0}]
[]
[null,null,"Wert",10,9,8,7,6,5,4,3,2,1]
[null,null,"Anzahl",{"$f":"COUNTIF($D10:$M13,\"10\")+O18","v":0},{"$f":"COUNTIF($D10:$M13,\"9\")","v":0},{"$f":"COUNTIF($D10:$M13,\"8\")","v":0},{"$f":"COUNTIF($D10:$M13,\"7\")","v":0},{"$f":"COUNTIF($D10:$M13,\"6\")","v":0},{"$f":"COUNTIF($D10:$M13,\"5\")","v":0},{"$f":"COUNTIF($D10:$M13,\"4\")","v":0},{"$f":"COUNTIF($D10:$M13,\"3\")","v":0},{"$f":"COUNTIF($D10:$M13,\"2\")","v":0},{"$f":"COUNTIF($D10:$M13,\"1\")","v":0}]

{"sheet":"8","index":8,"n_rows":17,"n_cols":27,"rows_kept":17,"cut":false,"hidden":false,"merged":[[7,0,8,0],[7,14,8,14],[13,11,13,12],[4,2,4,3],[0,11,0,12],[0,5,0,10],[4,5,4,8],[7,1,7,2],[7,3,7,12]]}
[null,null,{"$f":"Startliste!D1","v":"Qualifikation"},null,null,{"$f":"Startliste!D2","v":"Meisterschaft der Veteranen"},null,null,null,null,null,{"$f":"Startliste!H2","v":"2025-12-31"}]
[null,null,"Lizenz-Nr.",{"$f":"IF(_xlfn.XLOOKUP($M$5,Startliste!$A$15:$A$60,Startliste!$B$15:$B$60)=\"\",\"\",_xlfn.XLOOKUP($M$5,Startliste!$A$15:$A$60,Startliste!$B$15:$B$60))","v":""},null,null,null,null,null,null,null,null,null,null,null,null,null,null,null,null,null,1]
[]
[null,"Name",{"$f":"IF(_xlfn.XLOOKUP(M5,Startliste!$A$15:$A$60,Startliste!$C$15:$C$60)=\"\",\"\",_xlfn.XLOOKUP($M$5,Startliste!$A$15:$A$60,Startliste!$C$15:$C$60,\"\"))","v":""},null,"Vorname",{"$f":"IF(_xlfn.XLOOKUP(M5,Startliste!$A$15:$A$60,Startliste!$C$15:$C$60)=\"\",\"\",_xlfn.XLOOKUP($M$5,Startliste!$A$15:$A$60,Startliste!$D$15:$D$60,\"\"))","v":""},null,null,null,"St.",{"$f":"IF(_xlfn.XLOOKUP(M5,Startliste!$A$15:$A$60,Startliste!$C$15:$C$60)=\"\",\"\",_xlfn.XLOOKUP($M$5,Startliste!$A$15:$A$60,Startliste!$G$15:$G$60,\"\"))","v":""},null,"Start-Nr."]
[null,"Geburtsdatum",{"$f":"IF(_xlfn.XLOOKUP(M5,Startliste!$A$15:$A$60,Startliste!$C$15:$C$60)=\"\",\"\",_xlfn.XLOOKUP($M$5,Startliste!$A$15:$A$60,Startliste!$E$15:$E$60,\"\"))","v":""},null,"Sektion",{"$f":"IF(_xlfn.XLOOKUP(M5,Startliste!$A$15:$A$60,Startliste!$C$15:$C$60)=\"\",\"\",_xlfn.XLOOKUP($M$5,Startliste!$A$15:$A$60,Startliste!$F$15:$F$60,\"\"))","v":""},null,null,null,"Kat.",{"$f":"IF(_xlfn.XLOOKUP(M5,Startliste!$A$15:$A$60,Startliste!$C$15:$C$60)=\"\",\"\",_xlfn.XLOOKUP($M$5,Startliste!$A$15:$A$60,Startliste!$I$15:$I$60,\"\"))","v":""},null,{"$f":"_xlfn.NUMBERVALUE(MID(CELL(\"dateiname\",A1),FIND(\"]\",CELL(\"dateiname\",A1))+1,255))","v":8}]
[]
[null,null,null,"Keine Mouchen erfassen, nur Werte zwischen 1-10"]
["Passen","Scheiben-Nr. ",null,"Schüsse",null,null,null,null,null,null,null,null,null,null,"Total"]
[null,"Von","Bis",1,2,3,4,5,6,7,8,9,10]
["1 - 10",null,{"$f":"IF(B10=\"\",\"\",B10+9)","v":""},null,null,null,null,null,null,null,null,null,null,null,{"$f":"SUM(D10:M10)+AA10","v":0},null,{"$f":"IF(D10=\"M\",10)","v":false},{"$f":"IF(E10=\"M\",10)","v":false},false,false,false,false,false,false,false,false,{"$f":"SUM(Q10:Z10)","v":0}]
["11 - 20",null,{"$f":"IF(B11=\"\",\"\",B11+9)","v":""},null,null,null,null,null,null,null,null,null,null,null,{"$f":"SUM(D11:M11)+AA11","v":0},null,{"$f":"IF(D11=\"M\",10)","v":false},{"$f":"IF(E11=\"M\",10)","v":false},false,false,false,false,false,false,false,false,{"$f":"SUM(Q11:Z11)","v":0}]
["21 - 30",null,{"$f":"IF(B12=\"\",\"\",B12+9)","v":""},null,null,null,null,null,null,null,null,null,null,null,{"$f":"SUM(D12:M12)+AA12","v":0},null,{"$f":"IF(D12=\"M\",10)","v":false},{"$f":"IF(E12=\"M\",10)","v":false},false,false,false,false,false,false,false,false,{"$f":"SUM(Q12:Z12)","v":0}]
[null,null,"21 - 40",null,null,null,null,null,null,null,null,null,null,8,{"$f":"SUM(D13:M13)+AA13","v":0},null,{"$f":"IF(D13=\"M\",10)","v":false},{"$f":"IF(E13=\"M\",10)","v":false},{"$f":"IF(F13=\"M\",10)","v":false},{"$f":"IF(G13=\"M\",10)","v":false},{"$f":"IF(H13=\"M\",10)","v":false},{"$f":"IF(I13=\"M\",10)","v":false},{"$f":"IF(J13=\"M\",10)","v":false},{"$f":"IF(K13=\"M\",10)","v":false},{"$f":"IF(L13=\"M\",10)","v":false},{"$f":"IF(M13=\"M\",10)","v":false},{"$f":"SUM(Q13:Z13)","v":0}]
[null,null,null,null,null,null,null,null,null,null,null,"Resultat",null,null,{"$f":"SUM(O10:O13)","v":0}]
[]
[null,null,"Wert",10,9,8,7,6,5,4,3,2,1]
[null,null,"Anzahl",{"$f":"COUNTIF($D10:$M13,\"10\")+O18","v":0},{"$f":"COUNTIF($D10:$M13,\"9\")","v":0},{"$f":"COUNTIF($D10:$M13,\"8\")","v":0},{"$f":"COUNTIF($D10:$M13,\"7\")","v":0},{"$f":"COUNTIF($D10:$M13,\"6\")","v":0},{"$f":"COUNTIF($D10:$M13,\"5\")","v":0},{"$f":"COUNTIF($D10:$M13,\"4\")","v":0},{"$f":"COUNTIF($D10:$M13,\"3\")","v":0},{"$f":"COUNTIF($D10:$M13,\"2\")","v":0},{"$f":"COUNTIF($D10:$M13,\"1\")","v":0}]

{"sheet":"9","index":9,"n_rows":17,"n_cols":27,"rows_kept":17,"cut":false,"hidden":false,"merged":[[7,0,8,0],[7,14,8,14],[13,11,13,12],[4,2,4,3],[0,11,0,12],[0,5,0,10],[4,5,4,8],[7,1,7,2],[7,3,7,12]]}
[null,null,{"$f":"Startliste!D1","v":"Qualifikation"},null,null,{"$f":"Startliste!D2","v":"Meisterschaft der Veteranen"},null,null,null,null,null,{"$f":"Startliste!H2","v":"2025-12-31"}]
[null,null,"Lizenz-Nr.",{"$f":"IF(_xlfn.XLOOKUP($M$5,Startliste!$A$15:$A$60,Startliste!$B$15:$B$60)=\"\",\"\",_xlfn.XLOOKUP($M$5,Startliste!$A$15:$A$60,Startliste!$B$15:$B$60))","v":""},null,null,null,null,null,null,null,null,null,null,null,null,null,null,null,null,null,1]
[]
[null,"Name",{"$f":"IF(_xlfn.XLOOKUP(M5,Startliste!$A$15:$A$60,Startliste!$C$15:$C$60)=\"\",\"\",_xlfn.XLOOKUP($M$5,Startliste!$A$15:$A$60,Startliste!$C$15:$C$60,\"\"))","v":""},null,"Vorname",{"$f":"IF(_xlfn.XLOOKUP(M5,Startliste!$A$15:$A$60,Startliste!$C$15:$C$60)=\"\",\"\",_xlfn.XLOOKUP($M$5,Startliste!$A$15:$A$60,Startliste!$D$15:$D$60,\"\"))","v":""},null,null,null,"St.",{"$f":"IF(_xlfn.XLOOKUP(M5,Startliste!$A$15:$A$60,Startliste!$C$15:$C$60)=\"\",\"\",_xlfn.XLOOKUP($M$5,Startliste!$A$15:$A$60,Startliste!$G$15:$G$60,\"\"))","v":""},null,"Start-Nr."]
[null,"Geburtsdatum",{"$f":"IF(_xlfn.XLOOKUP(M5,Startliste!$A$15:$A$60,Startliste!$C$15:$C$60)=\"\",\"\",_xlfn.XLOOKUP($M$5,Startliste!$A$15:$A$60,Startliste!$E$15:$E$60,\"\"))","v":""},null,"Sektion",{"$f":"IF(_xlfn.XLOOKUP(M5,Startliste!$A$15:$A$60,Startliste!$C$15:$C$60)=\"\",\"\",_xlfn.XLOOKUP($M$5,Startliste!$A$15:$A$60,Startliste!$F$15:$F$60,\"\"))","v":""},null,null,null,"Kat.",{"$f":"IF(_xlfn.XLOOKUP(M5,Startliste!$A$15:$A$60,Startliste!$C$15:$C$60)=\"\",\"\",_xlfn.XLOOKUP($M$5,Startliste!$A$15:$A$60,Startliste!$I$15:$I$60,\"\"))","v":""},null,{"$f":"_xlfn.NUMBERVALUE(MID(CELL(\"dateiname\",A1),FIND(\"]\",CELL(\"dateiname\",A1))+1,255))","v":9}]
[]
[null,null,null,"Keine Mouchen erfassen, nur Werte zwischen 1-10"]
["Passen","Scheiben-Nr. ",null,"Schüsse",null,null,null,null,null,null,null,null,null,null,"Total"]
[null,"Von","Bis",1,2,3,4,5,6,7,8,9,10]
["1 - 10",null,{"$f":"IF(B10=\"\",\"\",B10+9)","v":""},null,null,null,null,null,null,null,null,null,null,null,{"$f":"SUM(D10:M10)+AA10","v":0},null,{"$f":"IF(D10=\"M\",10)","v":false},{"$f":"IF(E10=\"M\",10)","v":false},false,false,false,false,false,false,false,false,{"$f":"SUM(Q10:Z10)","v":0}]
["11 - 20",null,{"$f":"IF(B11=\"\",\"\",B11+9)","v":""},null,null,null,null,null,null,null,null,null,null,null,{"$f":"SUM(D11:M11)+AA11","v":0},null,{"$f":"IF(D11=\"M\",10)","v":false},{"$f":"IF(E11=\"M\",10)","v":false},false,false,false,false,false,false,false,false,{"$f":"SUM(Q11:Z11)","v":0}]
["21 - 30",null,{"$f":"IF(B12=\"\",\"\",B12+9)","v":""},null,null,null,null,null,null,null,null,null,null,null,{"$f":"SUM(D12:M12)+AA12","v":0},null,{"$f":"IF(D12=\"M\",10)","v":false},{"$f":"IF(E12=\"M\",10)","v":false},false,false,false,false,false,false,false,false,{"$f":"SUM(Q12:Z12)","v":0}]
[null,null,"21 - 40",null,null,null,null,null,null,null,null,null,null,8,{"$f":"SUM(D13:M13)+AA13","v":0},null,{"$f":"IF(D13=\"M\",10)","v":false},{"$f":"IF(E13=\"M\",10)","v":false},{"$f":"IF(F13=\"M\",10)","v":false},{"$f":"IF(G13=\"M\",10)","v":false},{"$f":"IF(H13=\"M\",10)","v":false},{"$f":"IF(I13=\"M\",10)","v":false},{"$f":"IF(J13=\"M\",10)","v":false},{"$f":"IF(K13=\"M\",10)","v":false},{"$f":"IF(L13=\"M\",10)","v":false},{"$f":"IF(M13=\"M\",10)","v":false},{"$f":"SUM(Q13:Z13)","v":0}]
[null,null,null,null,null,null,null,null,null,null,null,"Resultat",null,null,{"$f":"SUM(O10:O13)","v":0}]
[]
[null,null,"Wert",10,9,8,7,6,5,4,3,2,1]
[null,null,"Anzahl",{"$f":"COUNTIF($D10:$M13,\"10\")+O18","v":0},{"$f":"COUNTIF($D10:$M13,\"9\")","v":0},{"$f":"COUNTIF($D10:$M13,\"8\")","v":0},{"$f":"COUNTIF($D10:$M13,\"7\")","v":0},{"$f":"COUNTIF($D10:$M13,\"6\")","v":0},{"$f":"COUNTIF($D10:$M13,\"5\")","v":0},{"$f":"COUNTIF($D10:$M13,\"4\")","v":0},{"$f":"COUNTIF($D10:$M13,\"3\")","v":0},{"$f":"COUNTIF($D10:$M13,\"2\")","v":0},{"$f":"COUNTIF($D10:$M13,\"1\")","v":0}]

{"sheet":"10","index":10,"n_rows":17,"n_cols":27,"rows_kept":17,"cut":false,"hidden":false,"merged":[[7,0,8,0],[7,14,8,14],[13,11,13,12],[4,2,4,3],[0,11,0,12],[0,5,0,10],[4,5,4,8],[7,1,7,2],[7,3,7,12]]}
[null,null,{"$f":"Startliste!D1","v":"Qualifikation"},null,null,{"$f":"Startliste!D2","v":"Meisterschaft der Veteranen"},null,null,null,null,null,{"$f":"Startliste!H2","v":"2025-12-31"}]
[null,null,"Lizenz-Nr.",{"$f":"IF(_xlfn.XLOOKUP($M$5,Startliste!$A$15:$A$60,Startliste!$B$15:$B$60)=\"\",\"\",_xlfn.XLOOKUP($M$5,Startliste!$A$15:$A$60,Startliste!$B$15:$B$60))","v":""},null,null,null,null,null,null,null,null,null,null,null,null,null,null,null,null,null,1]
[]
[null,"Name",{"$f":"IF(_xlfn.XLOOKUP(M5,Startliste!$A$15:$A$60,Startliste!$C$15:$C$60)=\"\",\"\",_xlfn.XLOOKUP($M$5,Startliste!$A$15:$A$60,Startliste!$C$15:$C$60,\"\"))","v":""},null,"Vorname",{"$f":"IF(_xlfn.XLOOKUP(M5,Startliste!$A$15:$A$60,Startliste!$C$15:$C$60)=\"\",\"\",_xlfn.XLOOKUP($M$5,Startliste!$A$15:$A$60,Startliste!$D$15:$D$60,\"\"))","v":""},null,null,null,"St.",{"$f":"IF(_xlfn.XLOOKUP(M5,Startliste!$A$15:$A$60,Startliste!$C$15:$C$60)=\"\",\"\",_xlfn.XLOOKUP($M$5,Startliste!$A$15:$A$60,Startliste!$G$15:$G$60,\"\"))","v":""},null,"Start-Nr."]
[null,"Geburtsdatum",{"$f":"IF(_xlfn.XLOOKUP(M5,Startliste!$A$15:$A$60,Startliste!$C$15:$C$60)=\"\",\"\",_xlfn.XLOOKUP($M$5,Startliste!$A$15:$A$60,Startliste!$E$15:$E$60,\"\"))","v":""},null,"Sektion",{"$f":"IF(_xlfn.XLOOKUP(M5,Startliste!$A$15:$A$60,Startliste!$C$15:$C$60)=\"\",\"\",_xlfn.XLOOKUP($M$5,Startliste!$A$15:$A$60,Startliste!$F$15:$F$60,\"\"))","v":""},null,null,null,"Kat.",{"$f":"IF(_xlfn.XLOOKUP(M5,Startliste!$A$15:$A$60,Startliste!$C$15:$C$60)=\"\",\"\",_xlfn.XLOOKUP($M$5,Startliste!$A$15:$A$60,Startliste!$I$15:$I$60,\"\"))","v":""},null,{"$f":"_xlfn.NUMBERVALUE(MID(CELL(\"dateiname\",A1),FIND(\"]\",CELL(\"dateiname\",A1))+1,255))","v":10}]
[]
[null,null,null,"Keine Mouchen erfassen, nur Werte zwischen 1-10"]
["Passen","Scheiben-Nr. ",null,"Schüsse",null,null,null,null,null,null,null,null,null,null,"Total"]
[null,"Von","Bis",1,2,3,4,5,6,7,8,9,10]
["1 - 10",null,{"$f":"IF(B10=\"\",\"\",B10+9)","v":""},null,null,null,null,null,null,null,null,null,null,null,{"$f":"SUM(D10:M10)+AA10","v":0},null,{"$f":"IF(D10=\"M\",10)","v":false},{"$f":"IF(E10=\"M\",10)","v":false},false,false,false,false,false,false,false,false,{"$f":"SUM(Q10:Z10)","v":0}]
["11 - 20",null,{"$f":"IF(B11=\"\",\"\",B11+9)","v":""},null,null,null,null,null,null,null,null,null,null,null,{"$f":"SUM(D11:M11)+AA11","v":0},null,{"$f":"IF(D11=\"M\",10)","v":false},{"$f":"IF(E11=\"M\",10)","v":false},false,false,false,false,false,false,false,false,{"$f":"SUM(Q11:Z11)","v":0}]
["21 - 30",null,{"$f":"IF(B12=\"\",\"\",B12+9)","v":""},null,null,null,null,null,null,null,null,null,null,null,{"$f":"SUM(D12:M12)+AA12","v":0},null,{"$f":"IF(D12=\"M\",10)","v":false},{"$f":"IF(E12=\"M\",10)","v":false},false,false,false,false,false,false,false,false,{"$f":"SUM(Q12:Z12)","v":0}]
[null,null,"21 - 40",null,null,null,null,null,null,null,null,null,null,8,{"$f":"SUM(D13:M13)+AA13","v":0},null,{"$f":"IF(D13=\"M\",10)","v":false},{"$f":"IF(E13=\"M\",10)","v":false},{"$f":"IF(F13=\"M\",10)","v":false},{"$f":"IF(G13=\"M\",10)","v":false},{"$f":"IF(H13=\"M\",10)","v":false},{"$f":"IF(I13=\"M\",10)","v":false},{"$f":"IF(J13=\"M\",10)","v":false},{"$f":"IF(K13=\"M\",10)","v":false},{"$f":"IF(L13=\"M\",10)","v":false},{"$f":"IF(M13=\"M\",10)","v":false},{"$f":"SUM(Q13:Z13)","v":0}]
[null,null,null,null,null,null,null,null,null,null,null,"Resultat",null,null,{"$f":"SUM(O10:O13)","v":0}]
[]
[null,null,"Wert",10,9,8,7,6,5,4,3,2,1]
[null,null,"Anzahl",{"$f":"COUNTIF($D10:$M13,\"10\")+O18","v":0},{"$f":"COUNTIF($D10:$M13,\"9\")","v":0},{"$f":"COUNTIF($D10:$M13,\"8\")","v":0},{"$f":"COUNTIF($D10:$M13,\"7\")","v":0},{"$f":"COUNTIF($D10:$M13,\"6\")","v":0},{"$f":"COUNTIF($D10:$M13,\"5\")","v":0},{"$f":"COUNTIF($D10:$M13,\"4\")","v":0},{"$f":"COUNTIF($D10:$M13,\"3\")","v":0},{"$f":"COUNTIF($D10:$M13,\"2\")","v":0},{"$f":"COUNTIF($D10:$M13,\"1\")","v":0}]

{"sheet":"11","index":11,"n_rows":17,"n_cols":27,"rows_kept":17,"cut":false,"hidden":false,"merged":[[7,0,8,0],[7,14,8,14],[13,11,13,12],[4,2,4,3],[0,11,0,12],[0,5,0,10],[4,5,4,8],[7,1,7,2],[7,3,7,12]]}
[null,null,{"$f":"Startliste!D1","v":"Qualifikation"},null,null,{"$f":"Startliste!D2","v":"Meisterschaft der Veteranen"},null,null,null,null,null,{"$f":"Startliste!H2","v":"2025-12-31"}]
[null,null,"Lizenz-Nr.",{"$f":"IF(_xlfn.XLOOKUP($M$5,Startliste!$A$15:$A$60,Startliste!$B$15:$B$60)=\"\",\"\",_xlfn.XLOOKUP($M$5,Startliste!$A$15:$A$60,Startliste!$B$15:$B$60))","v":""},null,null,null,null,null,null,null,null,null,null,null,null,null,null,null,null,null,1]
[]
[null,"Name",{"$f":"IF(_xlfn.XLOOKUP(M5,Startliste!$A$15:$A$60,Startliste!$C$15:$C$60)=\"\",\"\",_xlfn.XLOOKUP($M$5,Startliste!$A$15:$A$60,Startliste!$C$15:$C$60,\"\"))","v":""},null,"Vorname",{"$f":"IF(_xlfn.XLOOKUP(M5,Startliste!$A$15:$A$60,Startliste!$C$15:$C$60)=\"\",\"\",_xlfn.XLOOKUP($M$5,Startliste!$A$15:$A$60,Startliste!$D$15:$D$60,\"\"))","v":""},null,null,null,"St.",{"$f":"IF(_xlfn.XLOOKUP(M5,Startliste!$A$15:$A$60,Startliste!$C$15:$C$60)=\"\",\"\",_xlfn.XLOOKUP($M$5,Startliste!$A$15:$A$60,Startliste!$G$15:$G$60,\"\"))","v":""},null,"Start-Nr."]
[null,"Geburtsdatum",{"$f":"IF(_xlfn.XLOOKUP(M5,Startliste!$A$15:$A$60,Startliste!$C$15:$C$60)=\"\",\"\",_xlfn.XLOOKUP($M$5,Startliste!$A$15:$A$60,Startliste!$E$15:$E$60,\"\"))","v":""},null,"Sektion",{"$f":"IF(_xlfn.XLOOKUP(M5,Startliste!$A$15:$A$60,Startliste!$C$15:$C$60)=\"\",\"\",_xlfn.XLOOKUP($M$5,Startliste!$A$15:$A$60,Startliste!$F$15:$F$60,\"\"))","v":""},null,null,null,"Kat.",{"$f":"IF(_xlfn.XLOOKUP(M5,Startliste!$A$15:$A$60,Startliste!$C$15:$C$60)=\"\",\"\",_xlfn.XLOOKUP($M$5,Startliste!$A$15:$A$60,Startliste!$I$15:$I$60,\"\"))","v":""},null,{"$f":"_xlfn.NUMBERVALUE(MID(CELL(\"dateiname\",A1),FIND(\"]\",CELL(\"dateiname\",A1))+1,255))","v":11}]
[]
[null,null,null,"Keine Mouchen erfassen, nur Werte zwischen 1-10"]
["Passen","Scheiben-Nr. ",null,"Schüsse",null,null,null,null,null,null,null,null,null,null,"Total"]
[null,"Von","Bis",1,2,3,4,5,6,7,8,9,10]
["1 - 10",null,{"$f":"IF(B10=\"\",\"\",B10+9)","v":""},null,null,null,null,null,null,null,null,null,null,null,{"$f":"SUM(D10:M10)+AA10","v":0},null,{"$f":"IF(D10=\"M\",10)","v":false},{"$f":"IF(E10=\"M\",10)","v":false},false,false,false,false,false,false,false,false,{"$f":"SUM(Q10:Z10)","v":0}]
["11 - 20",null,{"$f":"IF(B11=\"\",\"\",B11+9)","v":""},null,null,null,null,null,null,null,null,null,null,null,{"$f":"SUM(D11:M11)+AA11","v":0},null,{"$f":"IF(D11=\"M\",10)","v":false},{"$f":"IF(E11=\"M\",10)","v":false},false,false,false,false,false,false,false,false,{"$f":"SUM(Q11:Z11)","v":0}]
["21 - 30",null,{"$f":"IF(B12=\"\",\"\",B12+9)","v":""},null,null,null,null,null,null,null,null,null,null,null,{"$f":"SUM(D12:M12)+AA12","v":0},null,{"$f":"IF(D12=\"M\",10)","v":false},{"$f":"IF(E12=\"M\",10)","v":false},false,false,false,false,false,false,false,false,{"$f":"SUM(Q12:Z12)","v":0}]
[null,null,"21 - 40",null,null,null,null,null,null,null,null,null,null,8,{"$f":"SUM(D13:M13)+AA13","v":0},null,{"$f":"IF(D13=\"M\",10)","v":false},{"$f":"IF(E13=\"M\",10)","v":false},{"$f":"IF(F13=\"M\",10)","v":false},{"$f":"IF(G13=\"M\",10)","v":false},{"$f":"IF(H13=\"M\",10)","v":false},{"$f":"IF(I13=\"M\",10)","v":false},{"$f":"IF(J13=\"M\",10)","v":false},{"$f":"IF(K13=\"M\",10)","v":false},{"$f":"IF(L13=\"M\",10)","v":false},{"$f":"IF(M13=\"M\",10)","v":false},{"$f":"SUM(Q13:Z13)","v":0}]
[null,null,null,null,null,null,null,null,null,null,null,"Resultat",null,null,{"$f":"SUM(O10:O13)","v":0}]
[]
[null,null,"Wert",10,9,8,7,6,5,4,3,2,1]
[null,null,"Anzahl",{"$f":"COUNTIF($D10:$M13,\"10\")+O18","v":0},{"$f":"COUNTIF($D10:$M13,\"9\")","v":0},{"$f":"COUNTIF($D10:$M13,\"8\")","v":0},{"$f":"COUNTIF($D10:$M13,\"7\")","v":0},{"$f":"COUNTIF($D10:$M13,\"6\")","v":0},{"$f":"COUNTIF($D10:$M13,\"5\")","v":0},{"$f":"COUNTIF($D10:$M13,\"4\")","v":0},{"$f":"COUNTIF($D10:$M13,\"3\")","v":0},{"$f":"COUNTIF($D10:$M13,\"2\")","v":0},{"$f":"COUNTIF($D10:$M13,\"1\")","v":0}]

{"sheet":"12","index":12,"n_rows":17,"n_cols":27,"rows_kept":17,"cut":false,"hidden":false,"merged":[[7,0,8,0],[7,14,8,14],[13,11,13,12],[4,2,4,3],[0,11,0,12],[0,5,0,10],[4,5,4,8],[7,1,7,2],[7,3,7,12]]}
[null,null,{"$f":"Startliste!D1","v":"Qualifikation"},null,null,{"$f":"Startliste!D2","v":"Meisterschaft der Veteranen"},null,null,null,null,null,{"$f":"Startliste!H2","v":"2025-12-31"}]
[null,null,"Lizenz-Nr.",{"$f":"IF(_xlfn.XLOOKUP($M$5,Startliste!$A$15:$A$60,Startliste!$B$15:$B$60)=\"\",\"\",_xlfn.XLOOKUP($M$5,Startliste!$A$15:$A$60,Startliste!$B$15:$B$60))","v":""},null,null,null,null,null,null,null,null,null,null,null,null,null,null,null,null,null,1]
[]
[null,"Name",{"$f":"IF(_xlfn.XLOOKUP(M5,Startliste!$A$15:$A$60,Startliste!$C$15:$C$60)=\"\",\"\",_xlfn.XLOOKUP($M$5,Startliste!$A$15:$A$60,Startliste!$C$15:$C$60,\"\"))","v":""},null,"Vorname",{"$f":"IF(_xlfn.XLOOKUP(M5,Startliste!$A$15:$A$60,Startliste!$C$15:$C$60)=\"\",\"\",_xlfn.XLOOKUP($M$5,Startliste!$A$15:$A$60,Startliste!$D$15:$D$60,\"\"))","v":""},null,null,null,"St.",{"$f":"IF(_xlfn.XLOOKUP(M5,Startliste!$A$15:$A$60,Startliste!$C$15:$C$60)=\"\",\"\",_xlfn.XLOOKUP($M$5,Startliste!$A$15:$A$60,Startliste!$G$15:$G$60,\"\"))","v":""},null,"Start-Nr."]
[null,"Geburtsdatum",{"$f":"IF(_xlfn.XLOOKUP(M5,Startliste!$A$15:$A$60,Startliste!$C$15:$C$60)=\"\",\"\",_xlfn.XLOOKUP($M$5,Startliste!$A$15:$A$60,Startliste!$E$15:$E$60,\"\"))","v":""},null,"Sektion",{"$f":"IF(_xlfn.XLOOKUP(M5,Startliste!$A$15:$A$60,Startliste!$C$15:$C$60)=\"\",\"\",_xlfn.XLOOKUP($M$5,Startliste!$A$15:$A$60,Startliste!$F$15:$F$60,\"\"))","v":""},null,null,null,"Kat.",{"$f":"IF(_xlfn.XLOOKUP(M5,Startliste!$A$15:$A$60,Startliste!$C$15:$C$60)=\"\",\"\",_xlfn.XLOOKUP($M$5,Startliste!$A$15:$A$60,Startliste!$I$15:$I$60,\"\"))","v":""},null,{"$f":"_xlfn.NUMBERVALUE(MID(CELL(\"dateiname\",A1),FIND(\"]\",CELL(\"dateiname\",A1))+1,255))","v":12}]
[]
[null,null,null,"Keine Mouchen erfassen, nur Werte zwischen 1-10"]
["Passen","Scheiben-Nr. ",null,"Schüsse",null,null,null,null,null,null,null,null,null,null,"Total"]
[null,"Von","Bis",1,2,3,4,5,6,7,8,9,10]
["1 - 10",null,{"$f":"IF(B10=\"\",\"\",B10+9)","v":""},null,null,null,null,null,null,null,null,null,null,null,{"$f":"SUM(D10:M10)+AA10","v":0},null,{"$f":"IF(D10=\"M\",10)","v":false},{"$f":"IF(E10=\"M\",10)","v":false},false,false,false,false,false,false,false,false,{"$f":"SUM(Q10:Z10)","v":0}]
["11 - 20",null,{"$f":"IF(B11=\"\",\"\",B11+9)","v":""},null,null,null,null,null,null,null,null,null,null,null,{"$f":"SUM(D11:M11)+AA11","v":0},null,{"$f":"IF(D11=\"M\",10)","v":false},{"$f":"IF(E11=\"M\",10)","v":false},false,false,false,false,false,false,false,false,{"$f":"SUM(Q11:Z11)","v":0}]
["21 - 30",null,{"$f":"IF(B12=\"\",\"\",B12+9)","v":""},null,null,null,null,null,null,null,null,null,null,null,{"$f":"SUM(D12:M12)+AA12","v":0},null,{"$f":"IF(D12=\"M\",10)","v":false},{"$f":"IF(E12=\"M\",10)","v":false},false,false,false,false,false,false,false,false,{"$f":"SUM(Q12:Z12)","v":0}]
[null,null,"21 - 40",null,null,null,null,null,null,null,null,null,null,8,{"$f":"SUM(D13:M13)+AA13","v":0},null,{"$f":"IF(D13=\"M\",10)","v":false},{"$f":"IF(E13=\"M\",10)","v":false},{"$f":"IF(F13=\"M\",10)","v":false},{"$f":"IF(G13=\"M\",10)","v":false},{"$f":"IF(H13=\"M\",10)","v":false},{"$f":"IF(I13=\"M\",10)","v":false},{"$f":"IF(J13=\"M\",10)","v":false},{"$f":"IF(K13=\"M\",10)","v":false},{"$f":"IF(L13=\"M\",10)","v":false},{"$f":"IF(M13=\"M\",10)","v":false},{"$f":"SUM(Q13:Z13)","v":0}]
[null,null,null,null,null,null,null,null,null,null,null,"Resultat",null,null,{"$f":"SUM(O10:O13)","v":0}]
[]
[null,null,"Wert",10,9,8,7,6,5,4,3,2,1]
[null,null,"Anzahl",{"$f":"COUNTIF($D10:$M13,\"10\")+O18","v":0},{"$f":"COUNTIF($D10:$M13,\"9\")","v":0},{"$f":"COUNTIF($D10:$M13,\"8\")","v":0},{"$f":"COUNTIF($D10:$M13,\"7\")","v":0},{"$f":"COUNTIF($D10:$M13,\"6\")","v":0},{"$f":"COUNTIF($D10:$M13,\"5\")","v":0},{"$f":"COUNTIF($D10:$M13,\"4\")","v":0},{"$f":"COUNTIF($D10:$M13,\"3\")","v":0},{"$f":"COUNTIF($D10:$M13,\"2\")","v":0},{"$f":"COUNTIF($D10:$M13,\"1\")","v":0}]

{"sheet":"13","index":13,"n_rows":17,"n_cols":27,"rows_kept":17,"cut":false,"hidden":false,"merged":[[7,0,8,0],[7,14,8,14],[13,11,13,12],[4,2,4,3],[0,11,0,12],[0,5,0,10],[4,5,4,8],[7,1,7,2],[7,3,7,12]]}
[null,null,{"$f":"Startliste!D1","v":"Qualifikation"},null,null,{"$f":"Startliste!D2","v":"Meisterschaft der Veteranen"},null,null,null,null,null,{"$f":"Startliste!H2","v":"2025-12-31"}]
[null,null,"Lizenz-Nr.",{"$f":"IF(_xlfn.XLOOKUP($M$5,Startliste!$A$15:$A$60,Startliste!$B$15:$B$60)=\"\",\"\",_xlfn.XLOOKUP($M$5,Startliste!$A$15:$A$60,Startliste!$B$15:$B$60))","v":""},null,null,null,null,null,null,null,null,null,null,null,null,null,null,null,null,null,1]
[]
[null,"Name",{"$f":"IF(_xlfn.XLOOKUP(M5,Startliste!$A$15:$A$60,Startliste!$C$15:$C$60)=\"\",\"\",_xlfn.XLOOKUP($M$5,Startliste!$A$15:$A$60,Startliste!$C$15:$C$60,\"\"))","v":""},null,"Vorname",{"$f":"IF(_xlfn.XLOOKUP(M5,Startliste!$A$15:$A$60,Startliste!$C$15:$C$60)=\"\",\"\",_xlfn.XLOOKUP($M$5,Startliste!$A$15:$A$60,Startliste!$D$15:$D$60,\"\"))","v":""},null,null,null,"St.",{"$f":"IF(_xlfn.XLOOKUP(M5,Startliste!$A$15:$A$60,Startliste!$C$15:$C$60)=\"\",\"\",_xlfn.XLOOKUP($M$5,Startliste!$A$15:$A$60,Startliste!$G$15:$G$60,\"\"))","v":""},null,"Start-Nr."]
[null,"Geburtsdatum",{"$f":"IF(_xlfn.XLOOKUP(M5,Startliste!$A$15:$A$60,Startliste!$C$15:$C$60)=\"\",\"\",_xlfn.XLOOKUP($M$5,Startliste!$A$15:$A$60,Startliste!$E$15:$E$60,\"\"))","v":""},null,"Sektion",{"$f":"IF(_xlfn.XLOOKUP(M5,Startliste!$A$15:$A$60,Startliste!$C$15:$C$60)=\"\",\"\",_xlfn.XLOOKUP($M$5,Startliste!$A$15:$A$60,Startliste!$F$15:$F$60,\"\"))","v":""},null,null,null,"Kat.",{"$f":"IF(_xlfn.XLOOKUP(M5,Startliste!$A$15:$A$60,Startliste!$C$15:$C$60)=\"\",\"\",_xlfn.XLOOKUP($M$5,Startliste!$A$15:$A$60,Startliste!$I$15:$I$60,\"\"))","v":""},null,{"$f":"_xlfn.NUMBERVALUE(MID(CELL(\"dateiname\",A1),FIND(\"]\",CELL(\"dateiname\",A1))+1,255))","v":13}]
[]
[null,null,null,"Keine Mouchen erfassen, nur Werte zwischen 1-10"]
["Passen","Scheiben-Nr. ",null,"Schüsse",null,null,null,null,null,null,null,null,null,null,"Total"]
[null,"Von","Bis",1,2,3,4,5,6,7,8,9,10]
["1 - 10",null,{"$f":"IF(B10=\"\",\"\",B10+9)","v":""},null,null,null,null,null,null,null,null,null,null,null,{"$f":"SUM(D10:M10)+AA10","v":0},null,{"$f":"IF(D10=\"M\",10)","v":false},{"$f":"IF(E10=\"M\",10)","v":false},false,false,false,false,false,false,false,false,{"$f":"SUM(Q10:Z10)","v":0}]
["11 - 20",null,{"$f":"IF(B11=\"\",\"\",B11+9)","v":""},null,null,null,null,null,null,null,null,null,null,null,{"$f":"SUM(D11:M11)+AA11","v":0},null,{"$f":"IF(D11=\"M\",10)","v":false},{"$f":"IF(E11=\"M\",10)","v":false},false,false,false,false,false,false,false,false,{"$f":"SUM(Q11:Z11)","v":0}]
["21 - 30",null,{"$f":"IF(B12=\"\",\"\",B12+9)","v":""},null,null,null,null,null,null,null,null,null,null,null,{"$f":"SUM(D12:M12)+AA12","v":0},null,{"$f":"IF(D12=\"M\",10)","v":false},{"$f":"IF(E12=\"M\",10)","v":false},false,false,false,false,false,false,false,false,{"$f":"SUM(Q12:Z12)","v":0}]
[null,null,"21 - 40",null,null,null,null,null,null,null,null,null,null,8,{"$f":"SUM(D13:M13)+AA13","v":0},null,{"$f":"IF(D13=\"M\",10)","v":false},{"$f":"IF(E13=\"M\",10)","v":false},{"$f":"IF(F13=\"M\",10)","v":false},{"$f":"IF(G13=\"M\",10)","v":false},{"$f":"IF(H13=\"M\",10)","v":false},{"$f":"IF(I13=\"M\",10)","v":false},{"$f":"IF(J13=\"M\",10)","v":false},{"$f":"IF(K13=\"M\",10)","v":false},{"$f":"IF(L13=\"M\",10)","v":false},{"$f":"IF(M13=\"M\",10)","v":false},{"$f":"SUM(Q13:Z13)","v":0}]
[null,null,null,null,null,null,null,null,null,null,null,"Resultat",null,null,{"$f":"SUM(O10:O13)","v":0}]
[]
[null,null,"Wert",10,9,8,7,6,5,4,3,2,1]
[null,null,"Anzahl",{"$f":"COUNTIF($D10:$M13,\"10\")+O18","v":0},{"$f":"COUNTIF($D10:$M13,\"9\")","v":0},{"$f":"COUNTIF($D10:$M13,\"8\")","v":0},{"$f":"COUNTIF($D10:$M13,\"7\")","v":0},{"$f":"COUNTIF($D10:$M13,\"6\")","v":0},{"$f":"COUNTIF($D10:$M13,\"5\")","v":0},{"$f":"COUNTIF($D10:$M13,\"4\")","v":0},{"$f":"COUNTIF($D10:$M13,\"3\")","v":0},{"$f":"COUNTIF($D10:$M13,\"2\")","v":0},{"$f":"COUNTIF($D10:$M13,\"1\")","v":0}]

{"sheet":"14","index":14,"n_rows":17,"n_cols":27,"rows_kept":17,"cut":false,"hidden":false,"merged":[[7,0,8,0],[7,14,8,14],[13,11,13,12],[4,2,4,3],[0,11,0,12],[0,5,0,10],[4,5,4,8],[7,1,7,2],[7,3,7,12]]}
[null,null,{"$f":"Startliste!D1","v":"Qualifikation"},null,null,{"$f":"Startliste!D2","v":"Meisterschaft der Veteranen"},null,null,null,null,null,{"$f":"Startliste!H2","v":"2025-12-31"}]
[null,null,"Lizenz-Nr.",{"$f":"IF(_xlfn.XLOOKUP($M$5,Startliste!$A$15:$A$60,Startliste!$B$15:$B$60)=\"\",\"\",_xlfn.XLOOKUP($M$5,Startliste!$A$15:$A$60,Startliste!$B$15:$B$60))","v":""},null,null,null,null,null,null,null,null,null,null,null,null,null,null,null,null,null,1]
[]
[null,"Name",{"$f":"IF(_xlfn.XLOOKUP(M5,Startliste!$A$15:$A$60,Startliste!$C$15:$C$60)=\"\",\"\",_xlfn.XLOOKUP($M$5,Startliste!$A$15:$A$60,Startliste!$C$15:$C$60,\"\"))","v":""},null,"Vorname",{"$f":"IF(_xlfn.XLOOKUP(M5,Startliste!$A$15:$A$60,Startliste!$C$15:$C$60)=\"\",\"\",_xlfn.XLOOKUP($M$5,Startliste!$A$15:$A$60,Startliste!$D$15:$D$60,\"\"))","v":""},null,null,null,"St.",{"$f":"IF(_xlfn.XLOOKUP(M5,Startliste!$A$15:$A$60,Startliste!$C$15:$C$60)=\"\",\"\",_xlfn.XLOOKUP($M$5,Startliste!$A$15:$A$60,Startliste!$G$15:$G$60,\"\"))","v":""},null,"Start-Nr."]
[null,"Geburtsdatum",{"$f":"IF(_xlfn.XLOOKUP(M5,Startliste!$A$15:$A$60,Startliste!$C$15:$C$60)=\"\",\"\",_xlfn.XLOOKUP($M$5,Startliste!$A$15:$A$60,Startliste!$E$15:$E$60,\"\"))","v":""},null,"Sektion",{"$f":"IF(_xlfn.XLOOKUP(M5,Startliste!$A$15:$A$60,Startliste!$C$15:$C$60)=\"\",\"\",_xlfn.XLOOKUP($M$5,Startliste!$A$15:$A$60,Startliste!$F$15:$F$60,\"\"))","v":""},null,null,null,"Kat.",{"$f":"IF(_xlfn.XLOOKUP(M5,Startliste!$A$15:$A$60,Startliste!$C$15:$C$60)=\"\",\"\",_xlfn.XLOOKUP($M$5,Startliste!$A$15:$A$60,Startliste!$I$15:$I$60,\"\"))","v":""},null,{"$f":"_xlfn.NUMBERVALUE(MID(CELL(\"dateiname\",A1),FIND(\"]\",CELL(\"dateiname\",A1))+1,255))","v":14}]
[]
[null,null,null,"Keine Mouchen erfassen, nur Werte zwischen 1-10"]
["Passen","Scheiben-Nr. ",null,"Schüsse",null,null,null,null,null,null,null,null,null,null,"Total"]
[null,"Von","Bis",1,2,3,4,5,6,7,8,9,10]
["1 - 10",null,{"$f":"IF(B10=\"\",\"\",B10+9)","v":""},null,null,null,null,null,null,null,null,null,null,null,{"$f":"SUM(D10:M10)+AA10","v":0},null,{"$f":"IF(D10=\"M\",10)","v":false},{"$f":"IF(E10=\"M\",10)","v":false},false,false,false,false,false,false,false,false,{"$f":"SUM(Q10:Z10)","v":0}]
["11 - 20",null,{"$f":"IF(B11=\"\",\"\",B11+9)","v":""},null,null,null,null,null,null,null,null,null,null,null,{"$f":"SUM(D11:M11)+AA11","v":0},null,{"$f":"IF(D11=\"M\",10)","v":false},{"$f":"IF(E11=\"M\",10)","v":false},false,false,false,false,false,false,false,false,{"$f":"SUM(Q11:Z11)","v":0}]
["21 - 30",null,{"$f":"IF(B12=\"\",\"\",B12+9)","v":""},null,null,null,null,null,null,null,null,null,null,null,{"$f":"SUM(D12:M12)+AA12","v":0},null,{"$f":"IF(D12=\"M\",10)","v":false},{"$f":"IF(E12=\"M\",10)","v":false},false,false,false,false,false,false,false,false,{"$f":"SUM(Q12:Z12)","v":0}]
[null,null,"21 - 40",null,null,null,null,null,null,null,null,null,null,8,{"$f":"SUM(D13:M13)+AA13","v":0},null,{"$f":"IF(D13=\"M\",10)","v":false},{"$f":"IF(E13=\"M\",10)","v":false},{"$f":"IF(F13=\"M\",10)","v":false},{"$f":"IF(G13=\"M\",10)","v":false},{"$f":"IF(H13=\"M\",10)","v":false},{"$f":"IF(I13=\"M\",10)","v":false},{"$f":"IF(J13=\"M\",10)","v":false},{"$f":"IF(K13=\"M\",10)","v":false},{"$f":"IF(L13=\"M\",10)","v":false},{"$f":"IF(M13=\"M\",10)","v":false},{"$f":"SUM(Q13:Z13)","v":0}]
[null,null,null,null,null,null,null,null,null,null,null,"Resultat",null,null,{"$f":"SUM(O10:O13)","v":0}]
[]
[null,null,"Wert",10,9,8,7,6,5,4,3,2,1]
[null,null,"Anzahl",{"$f":"COUNTIF($D10:$M13,\"10\")+O18","v":0},{"$f":"COUNTIF($D10:$M13,\"9\")","v":0},{"$f":"COUNTIF($D10:$M13,\"8\")","v":0},{"$f":"COUNTIF($D10:$M13,\"7\")","v":0},{"$f":"COUNTIF($D10:$M13,\"6\")","v":0},{"$f":"COUNTIF($D10:$M13,\"5\")","v":0},{"$f":"COUNTIF($D10:$M13,\"4\")","v":0},{"$f":"COUNTIF($D10:$M13,\"3\")","v":0},{"$f":"COUNTIF($D10:$M13,\"2\")","v":0},{"$f":"COUNTIF($D10:$M13,\"1\")","v":0}]

{"sheet":"15","index":15,"n_rows":17,"n_cols":27,"rows_kept":17,"cut":false,"hidden":false,"merged":[[7,0,8,0],[7,14,8,14],[13,11,13,12],[4,2,4,3],[0,11,0,12],[0,5,0,10],[4,5,4,8],[7,1,7,2],[7,3,7,12]]}
[null,null,{"$f":"Startliste!D1","v":"Qualifikation"},null,null,{"$f":"Startliste!D2","v":"Meisterschaft der Veteranen"},null,null,null,null,null,{"$f":"Startliste!H2","v":"2025-12-31"}]
[null,null,"Lizenz-Nr.",{"$f":"IF(_xlfn.XLOOKUP($M$5,Startliste!$A$15:$A$60,Startliste!$B$15:$B$60)=\"\",\"\",_xlfn.XLOOKUP($M$5,Startliste!$A$15:$A$60,Startliste!$B$15:$B$60))","v":""},null,null,null,null,null,null,null,null,null,null,null,null,null,null,null,null,null,1]
[]
[null,"Name",{"$f":"IF(_xlfn.XLOOKUP(M5,Startliste!$A$15:$A$60,Startliste!$C$15:$C$60)=\"\",\"\",_xlfn.XLOOKUP($M$5,Startliste!$A$15:$A$60,Startliste!$C$15:$C$60,\"\"))","v":""},null,"Vorname",{"$f":"IF(_xlfn.XLOOKUP(M5,Startliste!$A$15:$A$60,Startliste!$C$15:$C$60)=\"\",\"\",_xlfn.XLOOKUP($M$5,Startliste!$A$15:$A$60,Startliste!$D$15:$D$60,\"\"))","v":""},null,null,null,"St.",{"$f":"IF(_xlfn.XLOOKUP(M5,Startliste!$A$15:$A$60,Startliste!$C$15:$C$60)=\"\",\"\",_xlfn.XLOOKUP($M$5,Startliste!$A$15:$A$60,Startliste!$G$15:$G$60,\"\"))","v":""},null,"Start-Nr."]
[null,"Geburtsdatum",{"$f":"IF(_xlfn.XLOOKUP(M5,Startliste!$A$15:$A$60,Startliste!$C$15:$C$60)=\"\",\"\",_xlfn.XLOOKUP($M$5,Startliste!$A$15:$A$60,Startliste!$E$15:$E$60,\"\"))","v":""},null,"Sektion",{"$f":"IF(_xlfn.XLOOKUP(M5,Startliste!$A$15:$A$60,Startliste!$C$15:$C$60)=\"\",\"\",_xlfn.XLOOKUP($M$5,Startliste!$A$15:$A$60,Startliste!$F$15:$F$60,\"\"))","v":""},null,null,null,"Kat.",{"$f":"IF(_xlfn.XLOOKUP(M5,Startliste!$A$15:$A$60,Startliste!$C$15:$C$60)=\"\",\"\",_xlfn.XLOOKUP($M$5,Startliste!$A$15:$A$60,Startliste!$I$15:$I$60,\"\"))","v":""},null,{"$f":"_xlfn.NUMBERVALUE(MID(CELL(\"dateiname\",A1),FIND(\"]\",CELL(\"dateiname\",A1))+1,255))","v":15}]
[]
[null,null,null,"Keine Mouchen erfassen, nur Werte zwischen 1-10"]
["Passen","Scheiben-Nr. ",null,"Schüsse",null,null,null,null,null,null,null,null,null,null,"Total"]
[null,"Von","Bis",1,2,3,4,5,6,7,8,9,10]
["1 - 10",null,{"$f":"IF(B10=\"\",\"\",B10+9)","v":""},null,null,null,null,null,null,null,null,null,null,null,{"$f":"SUM(D10:M10)+AA10","v":0},null,{"$f":"IF(D10=\"M\",10)","v":false},{"$f":"IF(E10=\"M\",10)","v":false},false,false,false,false,false,false,false,false,{"$f":"SUM(Q10:Z10)","v":0}]
["11 - 20",null,{"$f":"IF(B11=\"\",\"\",B11+9)","v":""},null,null,null,null,null,null,null,null,null,null,null,{"$f":"SUM(D11:M11)+AA11","v":0},null,{"$f":"IF(D11=\"M\",10)","v":false},{"$f":"IF(E11=\"M\",10)","v":false},false,false,false,false,false,false,false,false,{"$f":"SUM(Q11:Z11)","v":0}]
["21 - 30",null,{"$f":"IF(B12=\"\",\"\",B12+9)","v":""},null,null,null,null,null,null,null,null,null,null,null,{"$f":"SUM(D12:M12)+AA12","v":0},null,{"$f":"IF(D12=\"M\",10)","v":false},{"$f":"IF(E12=\"M\",10)","v":false},false,false,false,false,false,false,false,false,{"$f":"SUM(Q12:Z12)","v":0}]
[null,null,"21 - 40",null,null,null,null,null,null,null,null,null,null,8,{"$f":"SUM(D13:M13)+AA13","v":0},null,{"$f":"IF(D13=\"M\",10)","v":false},{"$f":"IF(E13=\"M\",10)","v":false},{"$f":"IF(F13=\"M\",10)","v":false},{"$f":"IF(G13=\"M\",10)","v":false},{"$f":"IF(H13=\"M\",10)","v":false},{"$f":"IF(I13=\"M\",10)","v":false},{"$f":"IF(J13=\"M\",10)","v":false},{"$f":"IF(K13=\"M\",10)","v":false},{"$f":"IF(L13=\"M\",10)","v":false},{"$f":"IF(M13=\"M\",10)","v":false},{"$f":"SUM(Q13:Z13)","v":0}]
[null,null,null,null,null,null,null,null,null,null,null,"Resultat",null,null,{"$f":"SUM(O10:O13)","v":0}]
[]
[null,null,"Wert",10,9,8,7,6,5,4,3,2,1]
[null,null,"Anzahl",{"$f":"COUNTIF($D10:$M13,\"10\")+O18","v":0},{"$f":"COUNTIF($D10:$M13,\"9\")","v":0},{"$f":"COUNTIF($D10:$M13,\"8\")","v":0},{"$f":"COUNTIF($D10:$M13,\"7\")","v":0},{"$f":"COUNTIF($D10:$M13,\"6\")","v":0},{"$f":"COUNTIF($D10:$M13,\"5\")","v":0},{"$f":"COUNTIF($D10:$M13,\"4\")","v":0},{"$f":"COUNTIF($D10:$M13,\"3\")","v":0},{"$f":"COUNTIF($D10:$M13,\"2\")","v":0},{"$f":"COUNTIF($D10:$M13,\"1\")","v":0}]

{"sheet":"16","index":16,"n_rows":17,"n_cols":27,"rows_kept":17,"cut":false,"hidden":false,"merged":[[7,0,8,0],[7,14,8,14],[13,11,13,12],[4,2,4,3],[0,11,0,12],[0,5,0,10],[4,5,4,8],[7,1,7,2],[7,3,7,12]]}
[null,null,{"$f":"Startliste!D1","v":"Qualifikation"},null,null,{"$f":"Startliste!D2","v":"Meisterschaft der Veteranen"},null,null,null,null,null,{"$f":"Startliste!H2","v":"2025-12-31"}]
[null,null,"Lizenz-Nr.",{"$f":"IF(_xlfn.XLOOKUP($M$5,Startliste!$A$15:$A$60,Startliste!$B$15:$B$60)=\"\",\"\",_xlfn.XLOOKUP($M$5,Startliste!$A$15:$A$60,Startliste!$B$15:$B$60))","v":""},null,null,null,null,null,null,null,null,null,null,null,null,null,null,null,null,null,1]
[]
[null,"Name",{"$f":"IF(_xlfn.XLOOKUP(M5,Startliste!$A$15:$A$60,Startliste!$C$15:$C$60)=\"\",\"\",_xlfn.XLOOKUP($M$5,Startliste!$A$15:$A$60,Startliste!$C$15:$C$60,\"\"))","v":""},null,"Vorname",{"$f":"IF(_xlfn.XLOOKUP(M5,Startliste!$A$15:$A$60,Startliste!$C$15:$C$60)=\"\",\"\",_xlfn.XLOOKUP($M$5,Startliste!$A$15:$A$60,Startliste!$D$15:$D$60,\"\"))","v":""},null,null,null,"St.",{"$f":"IF(_xlfn.XLOOKUP(M5,Startliste!$A$15:$A$60,Startliste!$C$15:$C$60)=\"\",\"\",_xlfn.XLOOKUP($M$5,Startliste!$A$15:$A$60,Startliste!$G$15:$G$60,\"\"))","v":""},null,"Start-Nr."]
[null,"Geburtsdatum",{"$f":"IF(_xlfn.XLOOKUP(M5,Startliste!$A$15:$A$60,Startliste!$C$15:$C$60)=\"\",\"\",_xlfn.XLOOKUP($M$5,Startliste!$A$15:$A$60,Startliste!$E$15:$E$60,\"\"))","v":""},null,"Sektion",{"$f":"IF(_xlfn.XLOOKUP(M5,Startliste!$A$15:$A$60,Startliste!$C$15:$C$60)=\"\",\"\",_xlfn.XLOOKUP($M$5,Startliste!$A$15:$A$60,Startliste!$F$15:$F$60,\"\"))","v":""},null,null,null,"Kat.",{"$f":"IF(_xlfn.XLOOKUP(M5,Startliste!$A$15:$A$60,Startliste!$C$15:$C$60)=\"\",\"\",_xlfn.XLOOKUP($M$5,Startliste!$A$15:$A$60,Startliste!$I$15:$I$60,\"\"))","v":""},null,{"$f":"_xlfn.NUMBERVALUE(MID(CELL(\"dateiname\",A1),FIND(\"]\",CELL(\"dateiname\",A1))+1,255))","v":16}]
[]
[null,null,null,"Keine Mouchen erfassen, nur Werte zwischen 1-10"]
["Passen","Scheiben-Nr. ",null,"Schüsse",null,null,null,null,null,null,null,null,null,null,"Total"]
[null,"Von","Bis",1,2,3,4,5,6,7,8,9,10]
["1 - 10",null,{"$f":"IF(B10=\"\",\"\",B10+9)","v":""},null,null,null,null,null,null,null,null,null,null,null,{"$f":"SUM(D10:M10)+AA10","v":0},null,{"$f":"IF(D10=\"M\",10)","v":false},{"$f":"IF(E10=\"M\",10)","v":false},false,false,false,false,false,false,false,false,{"$f":"SUM(Q10:Z10)","v":0}]
["11 - 20",null,{"$f":"IF(B11=\"\",\"\",B11+9)","v":""},null,null,null,null,null,null,null,null,null,null,null,{"$f":"SUM(D11:M11)+AA11","v":0},null,{"$f":"IF(D11=\"M\",10)","v":false},{"$f":"IF(E11=\"M\",10)","v":false},false,false,false,false,false,false,false,false,{"$f":"SUM(Q11:Z11)","v":0}]
["21 - 30",null,{"$f":"IF(B12=\"\",\"\",B12+9)","v":""},null,null,null,null,null,null,null,null,null,null,null,{"$f":"SUM(D12:M12)+AA12","v":0},null,{"$f":"IF(D12=\"M\",10)","v":false},{"$f":"IF(E12=\"M\",10)","v":false},false,false,false,false,false,false,false,false,{"$f":"SUM(Q12:Z12)","v":0}]
[null,null,"21 - 40",null,null,null,null,null,null,null,null,null,null,8,{"$f":"SUM(D13:M13)+AA13","v":0},null,{"$f":"IF(D13=\"M\",10)","v":false},{"$f":"IF(E13=\"M\",10)","v":false},{"$f":"IF(F13=\"M\",10)","v":false},{"$f":"IF(G13=\"M\",10)","v":false},{"$f":"IF(H13=\"M\",10)","v":false},{"$f":"IF(I13=\"M\",10)","v":false},{"$f":"IF(J13=\"M\",10)","v":false},{"$f":"IF(K13=\"M\",10)","v":false},{"$f":"IF(L13=\"M\",10)","v":false},{"$f":"IF(M13=\"M\",10)","v":false},{"$f":"SUM(Q13:Z13)","v":0}]
[null,null,null,null,null,null,null,null,null,null,null,"Resultat",null,null,{"$f":"SUM(O10:O13)","v":0}]
[]
[null,null,"Wert",10,9,8,7,6,5,4,3,2,1]
[null,null,"Anzahl",{"$f":"COUNTIF($D10:$M13,\"10\")+O18","v":0},{"$f":"COUNTIF($D10:$M13,\"9\")","v":0},{"$f":"COUNTIF($D10:$M13,\"8\")","v":0},{"$f":"COUNTIF($D10:$M13,\"7\")","v":0},{"$f":"COUNTIF($D10:$M13,\"6\")","v":0},{"$f":"COUNTIF($D10:$M13,\"5\")","v":0},{"$f":"COUNTIF($D10:$M13,\"4\")","v":0},{"$f":"COUNTIF($D10:$M13,\"3\")","v":0},{"$f":"COUNTIF($D10:$M13,\"2\")","v":0},{"$f":"COUNTIF($D10:$M13,\"1\")","v":0}]

{"sheet":"17","index":17,"n_rows":17,"n_cols":27,"rows_kept":17,"cut":false,"hidden":false,"merged":[[7,0,8,0],[7,14,8,14],[13,11,13,12],[4,2,4,3],[0,11,0,12],[0,5,0,10],[4,5,4,8],[7,1,7,2],[7,3,7,12]]}
[null,null,{"$f":"Startliste!D1","v":"Qualifikation"},null,null,{"$f":"Startliste!D2","v":"Meisterschaft der Veteranen"},null,null,null,null,null,{"$f":"Startliste!H2","v":"2025-12-31"}]
[null,null,"Lizenz-Nr.",{"$f":"IF(_xlfn.XLOOKUP($M$5,Startliste!$A$15:$A$60,Startliste!$B$15:$B$60)=\"\",\"\",_xlfn.XLOOKUP($M$5,Startliste!$A$15:$A$60,Startliste!$B$15:$B$60))","v":""},null,null,null,null,null,null,null,null,null,null,null,null,null,null,null,null,null,1]
[]
[null,"Name",{"$f":"IF(_xlfn.XLOOKUP(M5,Startliste!$A$15:$A$60,Startliste!$C$15:$C$60)=\"\",\"\",_xlfn.XLOOKUP($M$5,Startliste!$A$15:$A$60,Startliste!$C$15:$C$60,\"\"))","v":""},null,"Vorname",{"$f":"IF(_xlfn.XLOOKUP(M5,Startliste!$A$15:$A$60,Startliste!$C$15:$C$60)=\"\",\"\",_xlfn.XLOOKUP($M$5,Startliste!$A$15:$A$60,Startliste!$D$15:$D$60,\"\"))","v":""},null,null,null,"St.",{"$f":"IF(_xlfn.XLOOKUP(M5,Startliste!$A$15:$A$60,Startliste!$C$15:$C$60)=\"\",\"\",_xlfn.XLOOKUP($M$5,Startliste!$A$15:$A$60,Startliste!$G$15:$G$60,\"\"))","v":""},null,"Start-Nr."]
[null,"Geburtsdatum",{"$f":"IF(_xlfn.XLOOKUP(M5,Startliste!$A$15:$A$60,Startliste!$C$15:$C$60)=\"\",\"\",_xlfn.XLOOKUP($M$5,Startliste!$A$15:$A$60,Startliste!$E$15:$E$60,\"\"))","v":""},null,"Sektion",{"$f":"IF(_xlfn.XLOOKUP(M5,Startliste!$A$15:$A$60,Startliste!$C$15:$C$60)=\"\",\"\",_xlfn.XLOOKUP($M$5,Startliste!$A$15:$A$60,Startliste!$F$15:$F$60,\"\"))","v":""},null,null,null,"Kat.",{"$f":"IF(_xlfn.XLOOKUP(M5,Startliste!$A$15:$A$60,Startliste!$C$15:$C$60)=\"\",\"\",_xlfn.XLOOKUP($M$5,Startliste!$A$15:$A$60,Startliste!$I$15:$I$60,\"\"))","v":""},null,{"$f":"_xlfn.NUMBERVALUE(MID(CELL(\"dateiname\",A1),FIND(\"]\",CELL(\"dateiname\",A1))+1,255))","v":17}]
[]
[null,null,null,"Keine Mouchen erfassen, nur Werte zwischen 1-10"]
["Passen","Scheiben-Nr. ",null,"Schüsse",null,null,null,null,null,null,null,null,null,null,"Total"]
[null,"Von","Bis",1,2,3,4,5,6,7,8,9,10]
["1 - 10",null,{"$f":"IF(B10=\"\",\"\",B10+9)","v":""},null,null,null,null,null,null,null,null,null,null,null,{"$f":"SUM(D10:M10)+AA10","v":0},null,{"$f":"IF(D10=\"M\",10)","v":false},{"$f":"IF(E10=\"M\",10)","v":false},false,false,false,false,false,false,false,false,{"$f":"SUM(Q10:Z10)","v":0}]
["11 - 20",null,{"$f":"IF(B11=\"\",\"\",B11+9)","v":""},null,null,null,null,null,null,null,null,null,null,null,{"$f":"SUM(D11:M11)+AA11","v":0},null,{"$f":"IF(D11=\"M\",10)","v":false},{"$f":"IF(E11=\"M\",10)","v":false},false,false,false,false,false,false,false,false,{"$f":"SUM(Q11:Z11)","v":0}]
["21 - 30",null,{"$f":"IF(B12=\"\",\"\",B12+9)","v":""},null,null,null,null,null,null,null,null,null,null,null,{"$f":"SUM(D12:M12)+AA12","v":0},null,{"$f":"IF(D12=\"M\",10)","v":false},{"$f":"IF(E12=\"M\",10)","v":false},false,false,false,false,false,false,false,false,{"$f":"SUM(Q12:Z12)","v":0}]
[null,null,"21 - 40",null,null,null,null,null,null,null,null,null,null,8,{"$f":"SUM(D13:M13)+AA13","v":0},null,{"$f":"IF(D13=\"M\",10)","v":false},{"$f":"IF(E13=\"M\",10)","v":false},{"$f":"IF(F13=\"M\",10)","v":false},{"$f":"IF(G13=\"M\",10)","v":false},{"$f":"IF(H13=\"M\",10)","v":false},{"$f":"IF(I13=\"M\",10)","v":false},{"$f":"IF(J13=\"M\",10)","v":false},{"$f":"IF(K13=\"M\",10)","v":false},{"$f":"IF(L13=\"M\",10)","v":false},{"$f":"IF(M13=\"M\",10)","v":false},{"$f":"SUM(Q13:Z13)","v":0}]
[null,null,null,null,null,null,null,null,null,null,null,"Resultat",null,null,{"$f":"SUM(O10:O13)","v":0}]
[]
[null,null,"Wert",10,9,8,7,6,5,4,3,2,1]
[null,null,"Anzahl",{"$f":"COUNTIF($D10:$M13,\"10\")+O18","v":0},{"$f":"COUNTIF($D10:$M13,\"9\")","v":0},{"$f":"COUNTIF($D10:$M13,\"8\")","v":0},{"$f":"COUNTIF($D10:$M13,\"7\")","v":0},{"$f":"COUNTIF($D10:$M13,\"6\")","v":0},{"$f":"COUNTIF($D10:$M13,\"5\")","v":0},{"$f":"COUNTIF($D10:$M13,\"4\")","v":0},{"$f":"COUNTIF($D10:$M13,\"3\")","v":0},{"$f":"COUNTIF($D10:$M13,\"2\")","v":0},{"$f":"COUNTIF($D10:$M13,\"1\")","v":0}]

{"sheet":"18","index":18,"n_rows":17,"n_cols":27,"rows_kept":17,"cut":false,"hidden":false,"merged":[[7,0,8,0],[7,14,8,14],[13,11,13,12],[4,2,4,3],[0,11,0,12],[0,5,0,10],[4,5,4,8],[7,1,7,2],[7,3,7,12]]}
[null,null,{"$f":"Startliste!D1","v":"Qualifikation"},null,null,{"$f":"Startliste!D2","v":"Meisterschaft der Veteranen"},null,null,null,null,null,{"$f":"Startliste!H2","v":"2025-12-31"}]
[null,null,"Lizenz-Nr.",{"$f":"IF(_xlfn.XLOOKUP($M$5,Startliste!$A$15:$A$60,Startliste!$B$15:$B$60)=\"\",\"\",_xlfn.XLOOKUP($M$5,Startliste!$A$15:$A$60,Startliste!$B$15:$B$60))","v":""},null,null,null,null,null,null,null,null,null,null,null,null,null,null,null,null,null,1]
[]
[null,"Name",{"$f":"IF(_xlfn.XLOOKUP(M5,Startliste!$A$15:$A$60,Startliste!$C$15:$C$60)=\"\",\"\",_xlfn.XLOOKUP($M$5,Startliste!$A$15:$A$60,Startliste!$C$15:$C$60,\"\"))","v":""},null,"Vorname",{"$f":"IF(_xlfn.XLOOKUP(M5,Startliste!$A$15:$A$60,Startliste!$C$15:$C$60)=\"\",\"\",_xlfn.XLOOKUP($M$5,Startliste!$A$15:$A$60,Startliste!$D$15:$D$60,\"\"))","v":""},null,null,null,"St.",{"$f":"IF(_xlfn.XLOOKUP(M5,Startliste!$A$15:$A$60,Startliste!$C$15:$C$60)=\"\",\"\",_xlfn.XLOOKUP($M$5,Startliste!$A$15:$A$60,Startliste!$G$15:$G$60,\"\"))","v":""},null,"Start-Nr."]
[null,"Geburtsdatum",{"$f":"IF(_xlfn.XLOOKUP(M5,Startliste!$A$15:$A$60,Startliste!$C$15:$C$60)=\"\",\"\",_xlfn.XLOOKUP($M$5,Startliste!$A$15:$A$60,Startliste!$E$15:$E$60,\"\"))","v":""},null,"Sektion",{"$f":"IF(_xlfn.XLOOKUP(M5,Startliste!$A$15:$A$60,Startliste!$C$15:$C$60)=\"\",\"\",_xlfn.XLOOKUP($M$5,Startliste!$A$15:$A$60,Startliste!$F$15:$F$60,\"\"))","v":""},null,null,null,"Kat.",{"$f":"IF(_xlfn.XLOOKUP(M5,Startliste!$A$15:$A$60,Startliste!$C$15:$C$60)=\"\",\"\",_xlfn.XLOOKUP($M$5,Startliste!$A$15:$A$60,Startliste!$I$15:$I$60,\"\"))","v":""},null,{"$f":"_xlfn.NUMBERVALUE(MID(CELL(\"dateiname\",A1),FIND(\"]\",CELL(\"dateiname\",A1))+1,255))","v":18}]
[]
[null,null,null,"Keine Mouchen erfassen, nur Werte zwischen 1-10"]
["Passen","Scheiben-Nr. ",null,"Schüsse",null,null,null,null,null,null,null,null,null,null,"Total"]
[null,"Von","Bis",1,2,3,4,5,6,7,8,9,10]
["1 - 10",null,{"$f":"IF(B10=\"\",\"\",B10+9)","v":""},null,null,null,null,null,null,null,null,null,null,null,{"$f":"SUM(D10:M10)+AA10","v":0},null,{"$f":"IF(D10=\"M\",10)","v":false},{"$f":"IF(E10=\"M\",10)","v":false},false,false,false,false,false,false,false,false,{"$f":"SUM(Q10:Z10)","v":0}]
["11 - 20",null,{"$f":"IF(B11=\"\",\"\",B11+9)","v":""},null,null,null,null,null,null,null,null,null,null,null,{"$f":"SUM(D11:M11)+AA11","v":0},null,{"$f":"IF(D11=\"M\",10)","v":false},{"$f":"IF(E11=\"M\",10)","v":false},false,false,false,false,false,false,false,false,{"$f":"SUM(Q11:Z11)","v":0}]
["21 - 30",null,{"$f":"IF(B12=\"\",\"\",B12+9)","v":""},null,null,null,null,null,null,null,null,null,null,null,{"$f":"SUM(D12:M12)+AA12","v":0},null,{"$f":"IF(D12=\"M\",10)","v":false},{"$f":"IF(E12=\"M\",10)","v":false},false,false,false,false,false,false,false,false,{"$f":"SUM(Q12:Z12)","v":0}]
[null,null,"21 - 40",null,null,null,null,null,null,null,null,null,null,8,{"$f":"SUM(D13:M13)+AA13","v":0},null,{"$f":"IF(D13=\"M\",10)","v":false},{"$f":"IF(E13=\"M\",10)","v":false},{"$f":"IF(F13=\"M\",10)","v":false},{"$f":"IF(G13=\"M\",10)","v":false},{"$f":"IF(H13=\"M\",10)","v":false},{"$f":"IF(I13=\"M\",10)","v":false},{"$f":"IF(J13=\"M\",10)","v":false},{"$f":"IF(K13=\"M\",10)","v":false},{"$f":"IF(L13=\"M\",10)","v":false},{"$f":"IF(M13=\"M\",10)","v":false},{"$f":"SUM(Q13:Z13)","v":0}]
[null,null,null,null,null,null,null,null,null,null,null,"Resultat",null,null,{"$f":"SUM(O10:O13)","v":0}]
[]
[null,null,"Wert",10,9,8,7,6,5,4,3,2,1]
[null,null,"Anzahl",{"$f":"COUNTIF($D10:$M13,\"10\")+O18","v":0},{"$f":"COUNTIF($D10:$M13,\"9\")","v":0},{"$f":"COUNTIF($D10:$M13,\"8\")","v":0},{"$f":"COUNTIF($D10:$M13,\"7\")","v":0},{"$f":"COUNTIF($D10:$M13,\"6\")","v":0},{"$f":"COUNTIF($D10:$M13,\"5\")","v":0},{"$f":"COUNTIF($D10:$M13,\"4\")","v":0},{"$f":"COUNTIF($D10:$M13,\"3\")","v":0},{"$f":"COUNTIF($D10:$M13,\"2\")","v":0},{"$f":"COUNTIF($D10:$M13,\"1\")","v":0}]

{"sheet":"19","index":19,"n_rows":17,"n_cols":27,"rows_kept":17,"cut":false,"hidden":false,"merged":[[7,0,8,0],[7,14,8,14],[13,11,13,12],[4,2,4,3],[0,11,0,12],[0,5,0,10],[4,5,4,8],[7,1,7,2],[7,3,7,12]]}
[null,null,{"$f":"Startliste!D1","v":"Qualifikation"},null,null,{"$f":"Startliste!D2","v":"Meisterschaft der Veteranen"},null,null,null,null,null,{"$f":"Startliste!H2","v":"2025-12-31"}]
[null,null,"Lizenz-Nr.",{"$f":"IF(_xlfn.XLOOKUP($M$5,Startliste!$A$15:$A$60,Startliste!$B$15:$B$60)=\"\",\"\",_xlfn.XLOOKUP($M$5,Startliste!$A$15:$A$60,Startliste!$B$15:$B$60))","v":""},null,null,null,null,null,null,null,null,null,null,null,null,null,null,null,null,null,1]
[]
[null,"Name",{"$f":"IF(_xlfn.XLOOKUP(M5,Startliste!$A$15:$A$60,Startliste!$C$15:$C$60)=\"\",\"\",_xlfn.XLOOKUP($M$5,Startliste!$A$15:$A$60,Startliste!$C$15:$C$60,\"\"))","v":""},null,"Vorname",{"$f":"IF(_xlfn.XLOOKUP(M5,Startliste!$A$15:$A$60,Startliste!$C$15:$C$60)=\"\",\"\",_xlfn.XLOOKUP($M$5,Startliste!$A$15:$A$60,Startliste!$D$15:$D$60,\"\"))","v":""},null,null,null,"St.",{"$f":"IF(_xlfn.XLOOKUP(M5,Startliste!$A$15:$A$60,Startliste!$C$15:$C$60)=\"\",\"\",_xlfn.XLOOKUP($M$5,Startliste!$A$15:$A$60,Startliste!$G$15:$G$60,\"\"))","v":""},null,"Start-Nr."]
[null,"Geburtsdatum",{"$f":"IF(_xlfn.XLOOKUP(M5,Startliste!$A$15:$A$60,Startliste!$C$15:$C$60)=\"\",\"\",_xlfn.XLOOKUP($M$5,Startliste!$A$15:$A$60,Startliste!$E$15:$E$60,\"\"))","v":""},null,"Sektion",{"$f":"IF(_xlfn.XLOOKUP(M5,Startliste!$A$15:$A$60,Startliste!$C$15:$C$60)=\"\",\"\",_xlfn.XLOOKUP($M$5,Startliste!$A$15:$A$60,Startliste!$F$15:$F$60,\"\"))","v":""},null,null,null,"Kat.",{"$f":"IF(_xlfn.XLOOKUP(M5,Startliste!$A$15:$A$60,Startliste!$C$15:$C$60)=\"\",\"\",_xlfn.XLOOKUP($M$5,Startliste!$A$15:$A$60,Startliste!$I$15:$I$60,\"\"))","v":""},null,{"$f":"_xlfn.NUMBERVALUE(MID(CELL(\"dateiname\",A1),FIND(\"]\",CELL(\"dateiname\",A1))+1,255))","v":19}]
[]
[null,null,null,"Keine Mouchen erfassen, nur Werte zwischen 1-10"]
["Passen","Scheiben-Nr. ",null,"Schüsse",null,null,null,null,null,null,null,null,null,null,"Total"]
[null,"Von","Bis",1,2,3,4,5,6,7,8,9,10]
["1 - 10",null,{"$f":"IF(B10=\"\",\"\",B10+9)","v":""},null,null,null,null,null,null,null,null,null,null,null,{"$f":"SUM(D10:M10)+AA10","v":0},null,{"$f":"IF(D10=\"M\",10)","v":false},{"$f":"IF(E10=\"M\",10)","v":false},false,false,false,false,false,false,false,false,{"$f":"SUM(Q10:Z10)","v":0}]
["11 - 20",null,{"$f":"IF(B11=\"\",\"\",B11+9)","v":""},null,null,null,null,null,null,null,null,null,null,null,{"$f":"SUM(D11:M11)+AA11","v":0},null,{"$f":"IF(D11=\"M\",10)","v":false},{"$f":"IF(E11=\"M\",10)","v":false},false,false,false,false,false,false,false,false,{"$f":"SUM(Q11:Z11)","v":0}]
["21 - 30",null,{"$f":"IF(B12=\"\",\"\",B12+9)","v":""},null,null,null,null,null,null,null,null,null,null,null,{"$f":"SUM(D12:M12)+AA12","v":0},null,{"$f":"IF(D12=\"M\",10)","v":false},{"$f":"IF(E12=\"M\",10)","v":false},false,false,false,false,false,false,false,false,{"$f":"SUM(Q12:Z12)","v":0}]
[null,null,"21 - 40",null,null,null,null,null,null,null,null,null,null,8,{"$f":"SUM(D13:M13)+AA13","v":0},null,{"$f":"IF(D13=\"M\",10)","v":false},{"$f":"IF(E13=\"M\",10)","v":false},{"$f":"IF(F13=\"M\",10)","v":false},{"$f":"IF(G13=\"M\",10)","v":false},{"$f":"IF(H13=\"M\",10)","v":false},{"$f":"IF(I13=\"M\",10)","v":false},{"$f":"IF(J13=\"M\",10)","v":false},{"$f":"IF(K13=\"M\",10)","v":false},{"$f":"IF(L13=\"M\",10)","v":false},{"$f":"IF(M13=\"M\",10)","v":false},{"$f":"SUM(Q13:Z13)","v":0}]
[null,null,null,null,null,null,null,null,null,null,null,"Resultat",null,null,{"$f":"SUM(O10:O13)","v":0}]
[]
[null,null,"Wert",10,9,8,7,6,5,4,3,2,1]
[null,null,"Anzahl",{"$f":"COUNTIF($D10:$M13,\"10\")+O18","v":0},{"$f":"COUNTIF($D10:$M13,\"9\")","v":0},{"$f":"COUNTIF($D10:$M13,\"8\")","v":0},{"$f":"COUNTIF($D10:$M13,\"7\")","v":0},{"$f":"COUNTIF($D10:$M13,\"6\")","v":0},{"$f":"COUNTIF($D10:$M13,\"5\")","v":0},{"$f":"COUNTIF($D10:$M13,\"4\")","v":0},{"$f":"COUNTIF($D10:$M13,\"3\")","v":0},{"$f":"COUNTIF($D10:$M13,\"2\")","v":0},{"$f":"COUNTIF($D10:$M13,\"1\")","v":0}]

{"sheet":"20","index":20,"n_rows":17,"n_cols":27,"rows_kept":17,"cut":false,"hidden":false,"merged":[[7,0,8,0],[7,14,8,14],[13,11,13,12],[4,2,4,3],[0,11,0,12],[0,5,0,10],[4,5,4,8],[7,1,7,2],[7,3,7,12]]}
[null,null,{"$f":"Startliste!D1","v":"Qualifikation"},null,null,{"$f":"Startliste!D2","v":"Meisterschaft der Veteranen"},null,null,null,null,null,{"$f":"Startliste!H2","v":"2025-12-31"}]
[null,null,"Lizenz-Nr.",{"$f":"IF(_xlfn.XLOOKUP($M$5,Startliste!$A$15:$A$60,Startliste!$B$15:$B$60)=\"\",\"\",_xlfn.XLOOKUP($M$5,Startliste!$A$15:$A$60,Startliste!$B$15:$B$60))","v":""},null,null,null,null,null,null,null,null,null,null,null,null,null,null,null,null,null,1]
[]
[null,"Name",{"$f":"IF(_xlfn.XLOOKUP(M5,Startliste!$A$15:$A$60,Startliste!$C$15:$C$60)=\"\",\"\",_xlfn.XLOOKUP($M$5,Startliste!$A$15:$A$60,Startliste!$C$15:$C$60,\"\"))","v":""},null,"Vorname",{"$f":"IF(_xlfn.XLOOKUP(M5,Startliste!$A$15:$A$60,Startliste!$C$15:$C$60)=\"\",\"\",_xlfn.XLOOKUP($M$5,Startliste!$A$15:$A$60,Startliste!$D$15:$D$60,\"\"))","v":""},null,null,null,"St.",{"$f":"IF(_xlfn.XLOOKUP(M5,Startliste!$A$15:$A$60,Startliste!$C$15:$C$60)=\"\",\"\",_xlfn.XLOOKUP($M$5,Startliste!$A$15:$A$60,Startliste!$G$15:$G$60,\"\"))","v":""},null,"Start-Nr."]
[null,"Geburtsdatum",{"$f":"IF(_xlfn.XLOOKUP(M5,Startliste!$A$15:$A$60,Startliste!$C$15:$C$60)=\"\",\"\",_xlfn.XLOOKUP($M$5,Startliste!$A$15:$A$60,Startliste!$E$15:$E$60,\"\"))","v":""},null,"Sektion",{"$f":"IF(_xlfn.XLOOKUP(M5,Startliste!$A$15:$A$60,Startliste!$C$15:$C$60)=\"\",\"\",_xlfn.XLOOKUP($M$5,Startliste!$A$15:$A$60,Startliste!$F$15:$F$60,\"\"))","v":""},null,null,null,"Kat.",{"$f":"IF(_xlfn.XLOOKUP(M5,Startliste!$A$15:$A$60,Startliste!$C$15:$C$60)=\"\",\"\",_xlfn.XLOOKUP($M$5,Startliste!$A$15:$A$60,Startliste!$I$15:$I$60,\"\"))","v":""},null,{"$f":"_xlfn.NUMBERVALUE(MID(CELL(\"dateiname\",A1),FIND(\"]\",CELL(\"dateiname\",A1))+1,255))","v":20}]
[]
[null,null,null,"Keine Mouchen erfassen, nur Werte zwischen 1-10"]
["Passen","Scheiben-Nr. ",null,"Schüsse",null,null,null,null,null,null,null,null,null,null,"Total"]
[null,"Von","Bis",1,2,3,4,5,6,7,8,9,10]
["1 - 10",null,{"$f":"IF(B10=\"\",\"\",B10+9)","v":""},null,null,null,null,null,null,null,null,null,null,null,{"$f":"SUM(D10:M10)+AA10","v":0},null,{"$f":"IF(D10=\"M\",10)","v":false},{"$f":"IF(E10=\"M\",10)","v":false},false,false,false,false,false,false,false,false,{"$f":"SUM(Q10:Z10)","v":0}]
["11 - 20",null,{"$f":"IF(B11=\"\",\"\",B11+9)","v":""},null,null,null,null,null,null,null,null,null,null,null,{"$f":"SUM(D11:M11)+AA11","v":0},null,{"$f":"IF(D11=\"M\",10)","v":false},{"$f":"IF(E11=\"M\",10)","v":false},false,false,false,false,false,false,false,false,{"$f":"SUM(Q11:Z11)","v":0}]
["21 - 30",null,{"$f":"IF(B12=\"\",\"\",B12+9)","v":""},null,null,null,null,null,null,null,null,null,null,null,{"$f":"SUM(D12:M12)+AA12","v":0},null,{"$f":"IF(D12=\"M\",10)","v":false},{"$f":"IF(E12=\"M\",10)","v":false},false,false,false,false,false,false,false,false,{"$f":"SUM(Q12:Z12)","v":0}]
[null,null,"21 - 40",null,null,null,null,null,null,null,null,null,null,8,{"$f":"SUM(D13:M13)+AA13","v":0},null,{"$f":"IF(D13=\"M\",10)","v":false},{"$f":"IF(E13=\"M\",10)","v":false},{"$f":"IF(F13=\"M\",10)","v":false},{"$f":"IF(G13=\"M\",10)","v":false},{"$f":"IF(H13=\"M\",10)","v":false},{"$f":"IF(I13=\"M\",10)","v":false},{"$f":"IF(J13=\"M\",10)","v":false},{"$f":"IF(K13=\"M\",10)","v":false},{"$f":"IF(L13=\"M\",10)","v":false},{"$f":"IF(M13=\"M\",10)","v":false},{"$f":"SUM(Q13:Z13)","v":0}]
[null,null,null,null,null,null,null,null,null,null,null,"Resultat",null,null,{"$f":"SUM(O10:O13)","v":0}]
[]
[null,null,"Wert",10,9,8,7,6,5,4,3,2,1]
[null,null,"Anzahl",{"$f":"COUNTIF($D10:$M13,\"10\")+O18","v":0},{"$f":"COUNTIF($D10:$M13,\"9\")","v":0},{"$f":"COUNTIF($D10:$M13,\"8\")","v":0},{"$f":"COUNTIF($D10:$M13,\"7\")","v":0},{"$f":"COUNTIF($D10:$M13,\"6\")","v":0},{"$f":"COUNTIF($D10:$M13,\"5\")","v":0},{"$f":"COUNTIF($D10:$M13,\"4\")","v":0},{"$f":"COUNTIF($D10:$M13,\"3\")","v":0},{"$f":"COUNTIF($D10:$M13,\"2\")","v":0},{"$f":"COUNTIF($D10:$M13,\"1\")","v":0}]

{"sheet":"21","index":21,"n_rows":17,"n_cols":27,"rows_kept":17,"cut":false,"hidden":true,"merged":[[7,0,8,0],[7,14,8,14],[13,11,13,12],[4,2,4,3],[0,11,0,12],[0,5,0,10],[4,5,4,8],[7,1,7,2],[7,3,7,12]]}
[null,null,{"$f":"Startliste!D1","v":"Qualifikation"},null,null,{"$f":"Startliste!D2","v":"Meisterschaft der Veteranen"},null,null,null,null,null,{"$f":"Startliste!H2","v":"2025-12-31"}]
[null,null,"Lizenz-Nr.",{"$f":"IF(_xlfn.XLOOKUP($M$5,Startliste!$A$15:$A$60,Startliste!$B$15:$B$60)=\"\",\"\",_xlfn.XLOOKUP($M$5,Startliste!$A$15:$A$60,Startliste!$B$15:$B$60))","v":""},null,null,null,null,null,null,null,null,null,null,null,null,null,null,null,null,null,1]
[]
[null,"Name",{"$f":"IF(_xlfn.XLOOKUP(M5,Startliste!$A$15:$A$60,Startliste!$C$15:$C$60)=\"\",\"\",_xlfn.XLOOKUP($M$5,Startliste!$A$15:$A$60,Startliste!$C$15:$C$60,\"\"))","v":""},null,"Vorname",{"$f":"IF(_xlfn.XLOOKUP(M5,Startliste!$A$15:$A$60,Startliste!$C$15:$C$60)=\"\",\"\",_xlfn.XLOOKUP($M$5,Startliste!$A$15:$A$60,Startliste!$D$15:$D$60,\"\"))","v":""},null,null,null,"St.",{"$f":"IF(_xlfn.XLOOKUP(M5,Startliste!$A$15:$A$60,Startliste!$C$15:$C$60)=\"\",\"\",_xlfn.XLOOKUP($M$5,Startliste!$A$15:$A$60,Startliste!$G$15:$G$60,\"\"))","v":""},null,"Start-Nr."]
[null,"Geburtsdatum",{"$f":"IF(_xlfn.XLOOKUP(M5,Startliste!$A$15:$A$60,Startliste!$C$15:$C$60)=\"\",\"\",_xlfn.XLOOKUP($M$5,Startliste!$A$15:$A$60,Startliste!$E$15:$E$60,\"\"))","v":""},null,"Sektion",{"$f":"IF(_xlfn.XLOOKUP(M5,Startliste!$A$15:$A$60,Startliste!$C$15:$C$60)=\"\",\"\",_xlfn.XLOOKUP($M$5,Startliste!$A$15:$A$60,Startliste!$F$15:$F$60,\"\"))","v":""},null,null,null,"Kat.",{"$f":"IF(_xlfn.XLOOKUP(M5,Startliste!$A$15:$A$60,Startliste!$C$15:$C$60)=\"\",\"\",_xlfn.XLOOKUP($M$5,Startliste!$A$15:$A$60,Startliste!$I$15:$I$60,\"\"))","v":""},null,{"$f":"_xlfn.NUMBERVALUE(MID(CELL(\"dateiname\",A1),FIND(\"]\",CELL(\"dateiname\",A1))+1,255))","v":21}]
[]
[null,null,null,"Keine Mouchen erfassen, nur Werte zwischen 1-10"]
["Passen","Scheiben-Nr. ",null,"Schüsse",null,null,null,null,null,null,null,null,null,null,"Total"]
[null,"Von","Bis",1,2,3,4,5,6,7,8,9,10]
["1 - 10",null,{"$f":"IF(B10=\"\",\"\",B10+9)","v":""},null,null,null,null,null,null,null,null,null,null,null,{"$f":"SUM(D10:M10)+AA10","v":0},null,{"$f":"IF(D10=\"M\",10)","v":false},{"$f":"IF(E10=\"M\",10)","v":false},false,false,false,false,false,false,false,false,{"$f":"SUM(Q10:Z10)","v":0}]
["11 - 20",null,{"$f":"IF(B11=\"\",\"\",B11+9)","v":""},null,null,null,null,null,null,null,null,null,null,null,{"$f":"SUM(D11:M11)+AA11","v":0},null,{"$f":"IF(D11=\"M\",10)","v":false},{"$f":"IF(E11=\"M\",10)","v":false},false,false,false,false,false,false,false,false,{"$f":"SUM(Q11:Z11)","v":0}]
["21 - 30",null,{"$f":"IF(B12=\"\",\"\",B12+9)","v":""},null,null,null,null,null,null,null,null,null,null,null,{"$f":"SUM(D12:M12)+AA12","v":0},null,{"$f":"IF(D12=\"M\",10)","v":false},{"$f":"IF(E12=\"M\",10)","v":false},false,false,false,false,false,false,false,false,{"$f":"SUM(Q12:Z12)","v":0}]
[null,null,"21 - 40",null,null,null,null,null,null,null,null,null,null,8,{"$f":"SUM(D13:M13)+AA13","v":0},null,{"$f":"IF(D13=\"M\",10)","v":false},{"$f":"IF(E13=\"M\",10)","v":false},{"$f":"IF(F13=\"M\",10)","v":false},{"$f":"IF(G13=\"M\",10)","v":false},{"$f":"IF(H13=\"M\",10)","v":false},{"$f":"IF(I13=\"M\",10)","v":false},{"$f":"IF(J13=\"M\",10)","v":false},{"$f":"IF(K13=\"M\",10)","v":false},{"$f":"IF(L13=\"M\",10)","v":false},{"$f":"IF(M13=\"M\",10)","v":false},{"$f":"SUM(Q13:Z13)","v":0}]
[null,null,null,null,null,null,null,null,null,null,null,"Resultat",null,null,{"$f":"SUM(O10:O13)","v":0}]
[]
[null,null,"Wert",10,9,8,7,6,5,4,3,2,1]
[null,null,"Anzahl",{"$f":"COUNTIF($D10:$M13,\"10\")+O18","v":0},{"$f":"COUNTIF($D10:$M13,\"9\")","v":0},{"$f":"COUNTIF($D10:$M13,\"8\")","v":0},{"$f":"COUNTIF($D10:$M13,\"7\")","v":0},{"$f":"COUNTIF($D10:$M13,\"6\")","v":0},{"$f":"COUNTIF($D10:$M13,\"5\")","v":0},{"$f":"COUNTIF($D10:$M13,\"4\")","v":0},{"$f":"COUNTIF($D10:$M13,\"3\")","v":0},{"$f":"COUNTIF($D10:$M13,\"2\")","v":0},{"$f":"COUNTIF($D10:$M13,\"1\")","v":0}]

{"sheet":"22","index":22,"n_rows":17,"n_cols":27,"rows_kept":17,"cut":false,"hidden":true,"merged":[[7,0,8,0],[7,14,8,14],[13,11,13,12],[4,2,4,3],[0,11,0,12],[0,5,0,10],[4,5,4,8],[7,1,7,2],[7,3,7,12]]}
[null,null,{"$f":"Startliste!D1","v":"Qualifikation"},null,null,{"$f":"Startliste!D2","v":"Meisterschaft der Veteranen"},null,null,null,null,null,{"$f":"Startliste!H2","v":"2025-12-31"}]
[null,null,"Lizenz-Nr.",{"$f":"IF(_xlfn.XLOOKUP($M$5,Startliste!$A$15:$A$60,Startliste!$B$15:$B$60)=\"\",\"\",_xlfn.XLOOKUP($M$5,Startliste!$A$15:$A$60,Startliste!$B$15:$B$60))","v":""},null,null,null,null,null,null,null,null,null,null,null,null,null,null,null,null,null,1]
[]
[null,"Name",{"$f":"IF(_xlfn.XLOOKUP(M5,Startliste!$A$15:$A$60,Startliste!$C$15:$C$60)=\"\",\"\",_xlfn.XLOOKUP($M$5,Startliste!$A$15:$A$60,Startliste!$C$15:$C$60,\"\"))","v":""},null,"Vorname",{"$f":"IF(_xlfn.XLOOKUP(M5,Startliste!$A$15:$A$60,Startliste!$C$15:$C$60)=\"\",\"\",_xlfn.XLOOKUP($M$5,Startliste!$A$15:$A$60,Startliste!$D$15:$D$60,\"\"))","v":""},null,null,null,"St.",{"$f":"IF(_xlfn.XLOOKUP(M5,Startliste!$A$15:$A$60,Startliste!$C$15:$C$60)=\"\",\"\",_xlfn.XLOOKUP($M$5,Startliste!$A$15:$A$60,Startliste!$G$15:$G$60,\"\"))","v":""},null,"Start-Nr."]
[null,"Geburtsdatum",{"$f":"IF(_xlfn.XLOOKUP(M5,Startliste!$A$15:$A$60,Startliste!$C$15:$C$60)=\"\",\"\",_xlfn.XLOOKUP($M$5,Startliste!$A$15:$A$60,Startliste!$E$15:$E$60,\"\"))","v":""},null,"Sektion",{"$f":"IF(_xlfn.XLOOKUP(M5,Startliste!$A$15:$A$60,Startliste!$C$15:$C$60)=\"\",\"\",_xlfn.XLOOKUP($M$5,Startliste!$A$15:$A$60,Startliste!$F$15:$F$60,\"\"))","v":""},null,null,null,"Kat.",{"$f":"IF(_xlfn.XLOOKUP(M5,Startliste!$A$15:$A$60,Startliste!$C$15:$C$60)=\"\",\"\",_xlfn.XLOOKUP($M$5,Startliste!$A$15:$A$60,Startliste!$I$15:$I$60,\"\"))","v":""},null,{"$f":"_xlfn.NUMBERVALUE(MID(CELL(\"dateiname\",A1),FIND(\"]\",CELL(\"dateiname\",A1))+1,255))","v":22}]
[]
[null,null,null,"Keine Mouchen erfassen, nur Werte zwischen 1-10"]
["Passen","Scheiben-Nr. ",null,"Schüsse",null,null,null,null,null,null,null,null,null,null,"Total"]
[null,"Von","Bis",1,2,3,4,5,6,7,8,9,10]
["1 - 10",null,{"$f":"IF(B10=\"\",\"\",B10+9)","v":""},null,null,null,null,null,null,null,null,null,null,null,{"$f":"SUM(D10:M10)+AA10","v":0},null,{"$f":"IF(D10=\"M\",10)","v":false},{"$f":"IF(E10=\"M\",10)","v":false},false,false,false,false,false,false,false,false,{"$f":"SUM(Q10:Z10)","v":0}]
["11 - 20",null,{"$f":"IF(B11=\"\",\"\",B11+9)","v":""},null,null,null,null,null,null,null,null,null,null,null,{"$f":"SUM(D11:M11)+AA11","v":0},null,{"$f":"IF(D11=\"M\",10)","v":false},{"$f":"IF(E11=\"M\",10)","v":false},false,false,false,false,false,false,false,false,{"$f":"SUM(Q11:Z11)","v":0}]
["21 - 30",null,{"$f":"IF(B12=\"\",\"\",B12+9)","v":""},null,null,null,null,null,null,null,null,null,null,null,{"$f":"SUM(D12:M12)+AA12","v":0},null,{"$f":"IF(D12=\"M\",10)","v":false},{"$f":"IF(E12=\"M\",10)","v":false},false,false,false,false,false,false,false,false,{"$f":"SUM(Q12:Z12)","v":0}]
[null,null,"21 - 40",null,null,null,null,null,null,null,null,null,null,8,{"$f":"SUM(D13:M13)+AA13","v":0},null,{"$f":"IF(D13=\"M\",10)","v":false},{"$f":"IF(E13=\"M\",10)","v":false},{"$f":"IF(F13=\"M\",10)","v":false},{"$f":"IF(G13=\"M\",10)","v":false},{"$f":"IF(H13=\"M\",10)","v":false},{"$f":"IF(I13=\"M\",10)","v":false},{"$f":"IF(J13=\"M\",10)","v":false},{"$f":"IF(K13=\"M\",10)","v":false},{"$f":"IF(L13=\"M\",10)","v":false},{"$f":"IF(M13=\"M\",10)","v":false},{"$f":"SUM(Q13:Z13)","v":0}]
[null,null,null,null,null,null,null,null,null,null,null,"Resultat",null,null,{"$f":"SUM(O10:O13)","v":0}]
[]
[null,null,"Wert",10,9,8,7,6,5,4,3,2,1]
[null,null,"Anzahl",{"$f":"COUNTIF($D10:$M13,\"10\")+O18","v":0},{"$f":"COUNTIF($D10:$M13,\"9\")","v":0},{"$f":"COUNTIF($D10:$M13,\"8\")","v":0},{"$f":"COUNTIF($D10:$M13,\"7\")","v":0},{"$f":"COUNTIF($D10:$M13,\"6\")","v":0},{"$f":"COUNTIF($D10:$M13,\"5\")","v":0},{"$f":"COUNTIF($D10:$M13,\"4\")","v":0},{"$f":"COUNTIF($D10:$M13,\"3\")","v":0},{"$f":"COUNTIF($D10:$M13,\"2\")","v":0},{"$f":"COUNTIF($D10:$M13,\"1\")","v":0}]

{"sheet":"23","index":23,"n_rows":17,"n_cols":27,"rows_kept":17,"cut":false,"hidden":true,"merged":[[7,0,8,0],[7,14,8,14],[13,11,13,12],[4,2,4,3],[0,11,0,12],[0,5,0,10],[4,5,4,8],[7,1,7,2],[7,3,7,12]]}
[null,null,{"$f":"Startliste!D1","v":"Qualifikation"},null,null,{"$f":"Startliste!D2","v":"Meisterschaft der Veteranen"},null,null,null,null,null,{"$f":"Startliste!H2","v":"2025-12-31"}]
[null,null,"Lizenz-Nr.",{"$f":"IF(_xlfn.XLOOKUP($M$5,Startliste!$A$15:$A$60,Startliste!$B$15:$B$60)=\"\",\"\",_xlfn.XLOOKUP($M$5,Startliste!$A$15:$A$60,Startliste!$B$15:$B$60))","v":""},null,null,null,null,null,null,null,null,null,null,null,null,null,null,null,null,null,1]
[]
[null,"Name",{"$f":"IF(_xlfn.XLOOKUP(M5,Startliste!$A$15:$A$60,Startliste!$C$15:$C$60)=\"\",\"\",_xlfn.XLOOKUP($M$5,Startliste!$A$15:$A$60,Startliste!$C$15:$C$60,\"\"))","v":""},null,"Vorname",{"$f":"IF(_xlfn.XLOOKUP(M5,Startliste!$A$15:$A$60,Startliste!$C$15:$C$60)=\"\",\"\",_xlfn.XLOOKUP($M$5,Startliste!$A$15:$A$60,Startliste!$D$15:$D$60,\"\"))","v":""},null,null,null,"St.",{"$f":"IF(_xlfn.XLOOKUP(M5,Startliste!$A$15:$A$60,Startliste!$C$15:$C$60)=\"\",\"\",_xlfn.XLOOKUP($M$5,Startliste!$A$15:$A$60,Startliste!$G$15:$G$60,\"\"))","v":""},null,"Start-Nr."]
[null,"Geburtsdatum",{"$f":"IF(_xlfn.XLOOKUP(M5,Startliste!$A$15:$A$60,Startliste!$C$15:$C$60)=\"\",\"\",_xlfn.XLOOKUP($M$5,Startliste!$A$15:$A$60,Startliste!$E$15:$E$60,\"\"))","v":""},null,"Sektion",{"$f":"IF(_xlfn.XLOOKUP(M5,Startliste!$A$15:$A$60,Startliste!$C$15:$C$60)=\"\",\"\",_xlfn.XLOOKUP($M$5,Startliste!$A$15:$A$60,Startliste!$F$15:$F$60,\"\"))","v":""},null,null,null,"Kat.",{"$f":"IF(_xlfn.XLOOKUP(M5,Startliste!$A$15:$A$60,Startliste!$C$15:$C$60)=\"\",\"\",_xlfn.XLOOKUP($M$5,Startliste!$A$15:$A$60,Startliste!$I$15:$I$60,\"\"))","v":""},null,{"$f":"_xlfn.NUMBERVALUE(MID(CELL(\"dateiname\",A1),FIND(\"]\",CELL(\"dateiname\",A1))+1,255))","v":23}]
[]
[null,null,null,"Keine Mouchen erfassen, nur Werte zwischen 1-10"]
["Passen","Scheiben-Nr. ",null,"Schüsse",null,null,null,null,null,null,null,null,null,null,"Total"]
[null,"Von","Bis",1,2,3,4,5,6,7,8,9,10]
["1 - 10",null,{"$f":"IF(B10=\"\",\"\",B10+9)","v":""},null,null,null,null,null,null,null,null,null,null,null,{"$f":"SUM(D10:M10)+AA10","v":0},null,{"$f":"IF(D10=\"M\",10)","v":false},{"$f":"IF(E10=\"M\",10)","v":false},false,false,false,false,false,false,false,false,{"$f":"SUM(Q10:Z10)","v":0}]
["11 - 20",null,{"$f":"IF(B11=\"\",\"\",B11+9)","v":""},null,null,null,null,null,null,null,null,null,null,null,{"$f":"SUM(D11:M11)+AA11","v":0},null,{"$f":"IF(D11=\"M\",10)","v":false},{"$f":"IF(E11=\"M\",10)","v":false},false,false,false,false,false,false,false,false,{"$f":"SUM(Q11:Z11)","v":0}]
["21 - 30",null,{"$f":"IF(B12=\"\",\"\",B12+9)","v":""},null,null,null,null,null,null,null,null,null,null,null,{"$f":"SUM(D12:M12)+AA12","v":0},null,{"$f":"IF(D12=\"M\",10)","v":false},{"$f":"IF(E12=\"M\",10)","v":false},false,false,false,false,false,false,false,false,{"$f":"SUM(Q12:Z12)","v":0}]
[null,null,"21 - 40",null,null,null,null,null,null,null,null,null,null,8,{"$f":"SUM(D13:M13)+AA13","v":0},null,{"$f":"IF(D13=\"M\",10)","v":false},{"$f":"IF(E13=\"M\",10)","v":false},{"$f":"IF(F13=\"M\",10)","v":false},{"$f":"IF(G13=\"M\",10)","v":false},{"$f":"IF(H13=\"M\",10)","v":false},{"$f":"IF(I13=\"M\",10)","v":false},{"$f":"IF(J13=\"M\",10)","v":false},{"$f":"IF(K13=\"M\",10)","v":false},{"$f":"IF(L13=\"M\",10)","v":false},{"$f":"IF(M13=\"M\",10)","v":false},{"$f":"SUM(Q13:Z13)","v":0}]
[null,null,null,null,null,null,null,null,null,null,null,"Resultat",null,null,{"$f":"SUM(O10:O13)","v":0}]
[]
[null,null,"Wert",10,9,8,7,6,5,4,3,2,1]
[null,null,"Anzahl",{"$f":"COUNTIF($D10:$M13,\"10\")+O18","v":0},{"$f":"COUNTIF($D10:$M13,\"9\")","v":0},{"$f":"COUNTIF($D10:$M13,\"8\")","v":0},{"$f":"COUNTIF($D10:$M13,\"7\")","v":0},{"$f":"COUNTIF($D10:$M13,\"6\")","v":0},{"$f":"COUNTIF($D10:$M13,\"5\")","v":0},{"$f":"COUNTIF($D10:$M13,\"4\")","v":0},{"$f":"COUNTIF($D10:$M13,\"3\")","v":0},{"$f":"COUNTIF($D10:$M13,\"2\")","v":0},{"$f":"COUNTIF($D10:$M13,\"1\")","v":0}]

{"sheet":"24","index":24,"n_rows":17,"n_cols":27,"rows_kept":17,"cut":false,"hidden":true,"merged":[[7,0,8,0],[7,14,8,14],[13,11,13,12],[4,2,4,3],[0,11,0,12],[0,5,0,10],[4,5,4,8],[7,1,7,2],[7,3,7,12]]}
[null,null,{"$f":"Startliste!D1","v":"Qualifikation"},null,null,{"$f":"Startliste!D2","v":"Meisterschaft der Veteranen"},null,null,null,null,null,{"$f":"Startliste!H2","v":"2025-12-31"}]
[null,null,"Lizenz-Nr.",{"$f":"IF(_xlfn.XLOOKUP($M$5,Startliste!$A$15:$A$60,Startliste!$B$15:$B$60)=\"\",\"\",_xlfn.XLOOKUP($M$5,Startliste!$A$15:$A$60,Startliste!$B$15:$B$60))","v":""},null,null,null,null,null,null,null,null,null,null,null,null,null,null,null,null,null,1]
[]
[null,"Name",{"$f":"IF(_xlfn.XLOOKUP(M5,Startliste!$A$15:$A$60,Startliste!$C$15:$C$60)=\"\",\"\",_xlfn.XLOOKUP($M$5,Startliste!$A$15:$A$60,Startliste!$C$15:$C$60,\"\"))","v":""},null,"Vorname",{"$f":"IF(_xlfn.XLOOKUP(M5,Startliste!$A$15:$A$60,Startliste!$C$15:$C$60)=\"\",\"\",_xlfn.XLOOKUP($M$5,Startliste!$A$15:$A$60,Startliste!$D$15:$D$60,\"\"))","v":""},null,null,null,"St.",{"$f":"IF(_xlfn.XLOOKUP(M5,Startliste!$A$15:$A$60,Startliste!$C$15:$C$60)=\"\",\"\",_xlfn.XLOOKUP($M$5,Startliste!$A$15:$A$60,Startliste!$G$15:$G$60,\"\"))","v":""},null,"Start-Nr."]
[null,"Geburtsdatum",{"$f":"IF(_xlfn.XLOOKUP(M5,Startliste!$A$15:$A$60,Startliste!$C$15:$C$60)=\"\",\"\",_xlfn.XLOOKUP($M$5,Startliste!$A$15:$A$60,Startliste!$E$15:$E$60,\"\"))","v":""},null,"Sektion",{"$f":"IF(_xlfn.XLOOKUP(M5,Startliste!$A$15:$A$60,Startliste!$C$15:$C$60)=\"\",\"\",_xlfn.XLOOKUP($M$5,Startliste!$A$15:$A$60,Startliste!$F$15:$F$60,\"\"))","v":""},null,null,null,"Kat.",{"$f":"IF(_xlfn.XLOOKUP(M5,Startliste!$A$15:$A$60,Startliste!$C$15:$C$60)=\"\",\"\",_xlfn.XLOOKUP($M$5,Startliste!$A$15:$A$60,Startliste!$I$15:$I$60,\"\"))","v":""},null,{"$f":"_xlfn.NUMBERVALUE(MID(CELL(\"dateiname\",A1),FIND(\"]\",CELL(\"dateiname\",A1))+1,255))","v":24}]
[]
[null,null,null,"Keine Mouchen erfassen, nur Werte zwischen 1-10"]
["Passen","Scheiben-Nr. ",null,"Schüsse",null,null,null,null,null,null,null,null,null,null,"Total"]
[null,"Von","Bis",1,2,3,4,5,6,7,8,9,10]
["1 - 10",null,{"$f":"IF(B10=\"\",\"\",B10+9)","v":""},null,null,null,null,null,null,null,null,null,null,null,{"$f":"SUM(D10:M10)+AA10","v":0},null,{"$f":"IF(D10=\"M\",10)","v":false},{"$f":"IF(E10=\"M\",10)","v":false},false,false,false,false,false,false,false,false,{"$f":"SUM(Q10:Z10)","v":0}]
["11 - 20",null,{"$f":"IF(B11=\"\",\"\",B11+9)","v":""},null,null,null,null,null,null,null,null,null,null,null,{"$f":"SUM(D11:M11)+AA11","v":0},null,{"$f":"IF(D11=\"M\",10)","v":false},{"$f":"IF(E11=\"M\",10)","v":false},false,false,false,false,false,false,false,false,{"$f":"SUM(Q11:Z11)","v":0}]
["21 - 30",null,{"$f":"IF(B12=\"\",\"\",B12+9)","v":""},null,null,null,null,null,null,null,null,null,null,null,{"$f":"SUM(D12:M12)+AA12","v":0},null,{"$f":"IF(D12=\"M\",10)","v":false},{"$f":"IF(E12=\"M\",10)","v":false},false,false,false,false,false,false,false,false,{"$f":"SUM(Q12:Z12)","v":0}]
[null,null,"21 - 40",null,null,null,null,null,null,null,null,null,null,8,{"$f":"SUM(D13:M13)+AA13","v":0},null,{"$f":"IF(D13=\"M\",10)","v":false},{"$f":"IF(E13=\"M\",10)","v":false},{"$f":"IF(F13=\"M\",10)","v":false},{"$f":"IF(G13=\"M\",10)","v":false},{"$f":"IF(H13=\"M\",10)","v":false},{"$f":"IF(I13=\"M\",10)","v":false},{"$f":"IF(J13=\"M\",10)","v":false},{"$f":"IF(K13=\"M\",10)","v":false},{"$f":"IF(L13=\"M\",10)","v":false},{"$f":"IF(M13=\"M\",10)","v":false},{"$f":"SUM(Q13:Z13)","v":0}]
[null,null,null,null,null,null,null,null,null,null,null,"Resultat",null,null,{"$f":"SUM(O10:O13)","v":0}]
[]
[null,null,"Wert",10,9,8,7,6,5,4,3,2,1]
[null,null,"Anzahl",{"$f":"COUNTIF($D10:$M13,\"10\")+O18","v":0},{"$f":"COUNTIF($D10:$M13,\"9\")","v":0},{"$f":"COUNTIF($D10:$M13,\"8\")","v":0},{"$f":"COUNTIF($D10:$M13,\"7\")","v":0},{"$f":"COUNTIF($D10:$M13,\"6\")","v":0},{"$f":"COUNTIF($D10:$M13,\"5\")","v":0},{"$f":"COUNTIF($D10:$M13,\"4\")","v":0},{"$f":"COUNTIF($D10:$M13,\"3\")","v":0},{"$f":"COUNTIF($D10:$M13,\"2\")","v":0},{"$f":"COUNTIF($D10:$M13,\"1\")","v":0}]

{"sheet":"25","index":25,"n_rows":17,"n_cols":27,"rows_kept":17,"cut":false,"hidden":true,"merged":[[7,0,8,0],[7,14,8,14],[13,11,13,12],[4,2,4,3],[0,11,0,12],[0,5,0,10],[4,5,4,8],[7,1,7,2],[7,3,7,12]]}
[null,null,{"$f":"Startliste!D1","v":"Qualifikation"},null,null,{"$f":"Startliste!D2","v":"Meisterschaft der Veteranen"},null,null,null,null,null,{"$f":"Startliste!H2","v":"2025-12-31"}]
[null,null,"Lizenz-Nr.",{"$f":"IF(_xlfn.XLOOKUP($M$5,Startliste!$A$15:$A$60,Startliste!$B$15:$B$60)=\"\",\"\",_xlfn.XLOOKUP($M$5,Startliste!$A$15:$A$60,Startliste!$B$15:$B$60))","v":""},null,null,null,null,null,null,null,null,null,null,null,null,null,null,null,null,null,1]
[]
[null,"Name",{"$f":"IF(_xlfn.XLOOKUP(M5,Startliste!$A$15:$A$60,Startliste!$C$15:$C$60)=\"\",\"\",_xlfn.XLOOKUP($M$5,Startliste!$A$15:$A$60,Startliste!$C$15:$C$60,\"\"))","v":""},null,"Vorname",{"$f":"IF(_xlfn.XLOOKUP(M5,Startliste!$A$15:$A$60,Startliste!$C$15:$C$60)=\"\",\"\",_xlfn.XLOOKUP($M$5,Startliste!$A$15:$A$60,Startliste!$D$15:$D$60,\"\"))","v":""},null,null,null,"St.",{"$f":"IF(_xlfn.XLOOKUP(M5,Startliste!$A$15:$A$60,Startliste!$C$15:$C$60)=\"\",\"\",_xlfn.XLOOKUP($M$5,Startliste!$A$15:$A$60,Startliste!$G$15:$G$60,\"\"))","v":""},null,"Start-Nr."]
[null,"Geburtsdatum",{"$f":"IF(_xlfn.XLOOKUP(M5,Startliste!$A$15:$A$60,Startliste!$C$15:$C$60)=\"\",\"\",_xlfn.XLOOKUP($M$5,Startliste!$A$15:$A$60,Startliste!$E$15:$E$60,\"\"))","v":""},null,"Sektion",{"$f":"IF(_xlfn.XLOOKUP(M5,Startliste!$A$15:$A$60,Startliste!$C$15:$C$60)=\"\",\"\",_xlfn.XLOOKUP($M$5,Startliste!$A$15:$A$60,Startliste!$F$15:$F$60,\"\"))","v":""},null,null,null,"Kat.",{"$f":"IF(_xlfn.XLOOKUP(M5,Startliste!$A$15:$A$60,Startliste!$C$15:$C$60)=\"\",\"\",_xlfn.XLOOKUP($M$5,Startliste!$A$15:$A$60,Startliste!$I$15:$I$60,\"\"))","v":""},null,{"$f":"_xlfn.NUMBERVALUE(MID(CELL(\"dateiname\",A1),FIND(\"]\",CELL(\"dateiname\",A1))+1,255))","v":25}]
[]
[null,null,null,"Keine Mouchen erfassen, nur Werte zwischen 1-10"]
["Passen","Scheiben-Nr. ",null,"Schüsse",null,null,null,null,null,null,null,null,null,null,"Total"]
[null,"Von","Bis",1,2,3,4,5,6,7,8,9,10]
["1 - 10",null,{"$f":"IF(B10=\"\",\"\",B10+9)","v":""},null,null,null,null,null,null,null,null,null,null,null,{"$f":"SUM(D10:M10)+AA10","v":0},null,{"$f":"IF(D10=\"M\",10)","v":false},{"$f":"IF(E10=\"M\",10)","v":false},false,false,false,false,false,false,false,false,{"$f":"SUM(Q10:Z10)","v":0}]
["11 - 20",null,{"$f":"IF(B11=\"\",\"\",B11+9)","v":""},null,null,null,null,null,null,null,null,null,null,null,{"$f":"SUM(D11:M11)+AA11","v":0},null,{"$f":"IF(D11=\"M\",10)","v":false},{"$f":"IF(E11=\"M\",10)","v":false},false,false,false,false,false,false,false,false,{"$f":"SUM(Q11:Z11)","v":0}]
["21 - 30",null,{"$f":"IF(B12=\"\",\"\",B12+9)","v":""},null,null,null,null,null,null,null,null,null,null,null,{"$f":"SUM(D12:M12)+AA12","v":0},null,{"$f":"IF(D12=\"M\",10)","v":false},{"$f":"IF(E12=\"M\",10)","v":false},false,false,false,false,false,false,false,false,{"$f":"SUM(Q12:Z12)","v":0}]
[null,null,"21 - 40",null,null,null,null,null,null,null,null,null,null,8,{"$f":"SUM(D13:M13)+AA13","v":0},null,{"$f":"IF(D13=\"M\",10)","v":false},{"$f":"IF(E13=\"M\",10)","v":false},{"$f":"IF(F13=\"M\",10)","v":false},{"$f":"IF(G13=\"M\",10)","v":false},{"$f":"IF(H13=\"M\",10)","v":false},{"$f":"IF(I13=\"M\",10)","v":false},{"$f":"IF(J13=\"M\",10)","v":false},{"$f":"IF(K13=\"M\",10)","v":false},{"$f":"IF(L13=\"M\",10)","v":false},{"$f":"IF(M13=\"M\",10)","v":false},{"$f":"SUM(Q13:Z13)","v":0}]
[null,null,null,null,null,null,null,null,null,null,null,"Resultat",null,null,{"$f":"SUM(O10:O13)","v":0}]
[]
[null,null,"Wert",10,9,8,7,6,5,4,3,2,1]
[null,null,"Anzahl",{"$f":"COUNTIF($D10:$M13,\"10\")+O18","v":0},{"$f":"COUNTIF($D10:$M13,\"9\")","v":0},{"$f":"COUNTIF($D10:$M13,\"8\")","v":0},{"$f":"COUNTIF($D10:$M13,\"7\")","v":0},{"$f":"COUNTIF($D10:$M13,\"6\")","v":0},{"$f":"COUNTIF($D10:$M13,\"5\")","v":0},{"$f":"COUNTIF($D10:$M13,\"4\")","v":0},{"$f":"COUNTIF($D10:$M13,\"3\")","v":0},{"$f":"COUNTIF($D10:$M13,\"2\")","v":0},{"$f":"COUNTIF($D10:$M13,\"1\")","v":0}]

{"sheet":"26","index":26,"n_rows":17,"n_cols":27,"rows_kept":17,"cut":false,"hidden":true,"merged":[[7,0,8,0],[7,14,8,14],[13,11,13,12],[4,2,4,3],[0,11,0,12],[0,5,0,10],[4,5,4,8],[7,1,7,2],[7,3,7,12]]}
[null,null,{"$f":"Startliste!D1","v":"Qualifikation"},null,null,{"$f":"Startliste!D2","v":"Meisterschaft der Veteranen"},null,null,null,null,null,{"$f":"Startliste!H2","v":"2025-12-31"}]
[null,null,"Lizenz-Nr.",{"$f":"IF(_xlfn.XLOOKUP($M$5,Startliste!$A$15:$A$60,Startliste!$B$15:$B$60)=\"\",\"\",_xlfn.XLOOKUP($M$5,Startliste!$A$15:$A$60,Startliste!$B$15:$B$60))","v":""},null,null,null,null,null,null,null,null,null,null,null,null,null,null,null,null,null,1]
[]
[null,"Name",{"$f":"IF(_xlfn.XLOOKUP(M5,Startliste!$A$15:$A$60,Startliste!$C$15:$C$60)=\"\",\"\",_xlfn.XLOOKUP($M$5,Startliste!$A$15:$A$60,Startliste!$C$15:$C$60,\"\"))","v":""},null,"Vorname",{"$f":"IF(_xlfn.XLOOKUP(M5,Startliste!$A$15:$A$60,Startliste!$C$15:$C$60)=\"\",\"\",_xlfn.XLOOKUP($M$5,Startliste!$A$15:$A$60,Startliste!$D$15:$D$60,\"\"))","v":""},null,null,null,"St.",{"$f":"IF(_xlfn.XLOOKUP(M5,Startliste!$A$15:$A$60,Startliste!$C$15:$C$60)=\"\",\"\",_xlfn.XLOOKUP($M$5,Startliste!$A$15:$A$60,Startliste!$G$15:$G$60,\"\"))","v":""},null,"Start-Nr."]
[null,"Geburtsdatum",{"$f":"IF(_xlfn.XLOOKUP(M5,Startliste!$A$15:$A$60,Startliste!$C$15:$C$60)=\"\",\"\",_xlfn.XLOOKUP($M$5,Startliste!$A$15:$A$60,Startliste!$E$15:$E$60,\"\"))","v":""},null,"Sektion",{"$f":"IF(_xlfn.XLOOKUP(M5,Startliste!$A$15:$A$60,Startliste!$C$15:$C$60)=\"\",\"\",_xlfn.XLOOKUP($M$5,Startliste!$A$15:$A$60,Startliste!$F$15:$F$60,\"\"))","v":""},null,null,null,"Kat.",{"$f":"IF(_xlfn.XLOOKUP(M5,Startliste!$A$15:$A$60,Startliste!$C$15:$C$60)=\"\",\"\",_xlfn.XLOOKUP($M$5,Startliste!$A$15:$A$60,Startliste!$I$15:$I$60,\"\"))","v":""},null,{"$f":"_xlfn.NUMBERVALUE(MID(CELL(\"dateiname\",A1),FIND(\"]\",CELL(\"dateiname\",A1))+1,255))","v":26}]
[]
[null,null,null,"Keine Mouchen erfassen, nur Werte zwischen 1-10"]
["Passen","Scheiben-Nr. ",null,"Schüsse",null,null,null,null,null,null,null,null,null,null,"Total"]
[null,"Von","Bis",1,2,3,4,5,6,7,8,9,10]
["1 - 10",null,{"$f":"IF(B10=\"\",\"\",B10+9)","v":""},null,null,null,null,null,null,null,null,null,null,null,{"$f":"SUM(D10:M10)+AA10","v":0},null,{"$f":"IF(D10=\"M\",10)","v":false},{"$f":"IF(E10=\"M\",10)","v":false},false,false,false,false,false,false,false,false,{"$f":"SUM(Q10:Z10)","v":0}]
["11 - 20",null,{"$f":"IF(B11=\"\",\"\",B11+9)","v":""},null,null,null,null,null,null,null,null,null,null,null,{"$f":"SUM(D11:M11)+AA11","v":0},null,{"$f":"IF(D11=\"M\",10)","v":false},{"$f":"IF(E11=\"M\",10)","v":false},false,false,false,false,false,false,false,false,{"$f":"SUM(Q11:Z11)","v":0}]
["21 - 30",null,{"$f":"IF(B12=\"\",\"\",B12+9)","v":""},null,null,null,null,null,null,null,null,null,null,null,{"$f":"SUM(D12:M12)+AA12","v":0},null,{"$f":"IF(D12=\"M\",10)","v":false},{"$f":"IF(E12=\"M\",10)","v":false},false,false,false,false,false,false,false,false,{"$f":"SUM(Q12:Z12)","v":0}]
[null,null,"21 - 40",null,null,null,null,null,null,null,null,null,null,8,{"$f":"SUM(D13:M13)+AA13","v":0},null,{"$f":"IF(D13=\"M\",10)","v":false},{"$f":"IF(E13=\"M\",10)","v":false},{"$f":"IF(F13=\"M\",10)","v":false},{"$f":"IF(G13=\"M\",10)","v":false},{"$f":"IF(H13=\"M\",10)","v":false},{"$f":"IF(I13=\"M\",10)","v":false},{"$f":"IF(J13=\"M\",10)","v":false},{"$f":"IF(K13=\"M\",10)","v":false},{"$f":"IF(L13=\"M\",10)","v":false},{"$f":"IF(M13=\"M\",10)","v":false},{"$f":"SUM(Q13:Z13)","v":0}]
[null,null,null,null,null,null,null,null,null,null,null,"Resultat",null,null,{"$f":"SUM(O10:O13)","v":0}]
[]
[null,null,"Wert",10,9,8,7,6,5,4,3,2,1]
[null,null,"Anzahl",{"$f":"COUNTIF($D10:$M13,\"10\")+O18","v":0},{"$f":"COUNTIF($D10:$M13,\"9\")","v":0},{"$f":"COUNTIF($D10:$M13,\"8\")","v":0},{"$f":"COUNTIF($D10:$M13,\"7\")","v":0},{"$f":"COUNTIF($D10:$M13,\"6\")","v":0},{"$f":"COUNTIF($D10:$M13,\"5\")","v":0},{"$f":"COUNTIF($D10:$M13,\"4\")","v":0},{"$f":"COUNTIF($D10:$M13,\"3\")","v":0},{"$f":"COUNTIF($D10:$M13,\"2\")","v":0},{"$f":"COUNTIF($D10:$M13,\"1\")","v":0}]

{"sheet":"27","index":27,"n_rows":17,"n_cols":27,"rows_kept":17,"cut":false,"hidden":true,"merged":[[7,0,8,0],[7,14,8,14],[13,11,13,12],[4,2,4,3],[0,11,0,12],[0,5,0,10],[4,5,4,8],[7,1,7,2],[7,3,7,12]]}
[null,null,{"$f":"Startliste!D1","v":"Qualifikation"},null,null,{"$f":"Startliste!D2","v":"Meisterschaft der Veteranen"},null,null,null,null,null,{"$f":"Startliste!H2","v":"2025-12-31"}]
[null,null,"Lizenz-Nr.",{"$f":"IF(_xlfn.XLOOKUP($M$5,Startliste!$A$15:$A$60,Startliste!$B$15:$B$60)=\"\",\"\",_xlfn.XLOOKUP($M$5,Startliste!$A$15:$A$60,Startliste!$B$15:$B$60))","v":""},null,null,null,null,null,null,null,null,null,null,null,null,null,null,null,null,null,1]
[]
[null,"Name",{"$f":"IF(_xlfn.XLOOKUP(M5,Startliste!$A$15:$A$60,Startliste!$C$15:$C$60)=\"\",\"\",_xlfn.XLOOKUP($M$5,Startliste!$A$15:$A$60,Startliste!$C$15:$C$60,\"\"))","v":""},null,"Vorname",{"$f":"IF(_xlfn.XLOOKUP(M5,Startliste!$A$15:$A$60,Startliste!$C$15:$C$60)=\"\",\"\",_xlfn.XLOOKUP($M$5,Startliste!$A$15:$A$60,Startliste!$D$15:$D$60,\"\"))","v":""},null,null,null,"St.",{"$f":"IF(_xlfn.XLOOKUP(M5,Startliste!$A$15:$A$60,Startliste!$C$15:$C$60)=\"\",\"\",_xlfn.XLOOKUP($M$5,Startliste!$A$15:$A$60,Startliste!$G$15:$G$60,\"\"))","v":""},null,"Start-Nr."]
[null,"Geburtsdatum",{"$f":"IF(_xlfn.XLOOKUP(M5,Startliste!$A$15:$A$60,Startliste!$C$15:$C$60)=\"\",\"\",_xlfn.XLOOKUP($M$5,Startliste!$A$15:$A$60,Startliste!$E$15:$E$60,\"\"))","v":""},null,"Sektion",{"$f":"IF(_xlfn.XLOOKUP(M5,Startliste!$A$15:$A$60,Startliste!$C$15:$C$60)=\"\",\"\",_xlfn.XLOOKUP($M$5,Startliste!$A$15:$A$60,Startliste!$F$15:$F$60,\"\"))","v":""},null,null,null,"Kat.",{"$f":"IF(_xlfn.XLOOKUP(M5,Startliste!$A$15:$A$60,Startliste!$C$15:$C$60)=\"\",\"\",_xlfn.XLOOKUP($M$5,Startliste!$A$15:$A$60,Startliste!$I$15:$I$60,\"\"))","v":""},null,{"$f":"_xlfn.NUMBERVALUE(MID(CELL(\"dateiname\",A1),FIND(\"]\",CELL(\"dateiname\",A1))+1,255))","v":27}]
[]
[null,null,null,"Keine Mouchen erfassen, nur Werte zwischen 1-10"]
["Passen","Scheiben-Nr. ",null,"Schüsse",null,null,null,null,null,null,null,null,null,null,"Total"]
[null,"Von","Bis",1,2,3,4,5,6,7,8,9,10]
["1 - 10",null,{"$f":"IF(B10=\"\",\"\",B10+9)","v":""},null,null,null,null,null,null,null,null,null,null,null,{"$f":"SUM(D10:M10)+AA10","v":0},null,{"$f":"IF(D10=\"M\",10)","v":false},{"$f":"IF(E10=\"M\",10)","v":false},false,false,false,false,false,false,false,false,{"$f":"SUM(Q10:Z10)","v":0}]
["11 - 20",null,{"$f":"IF(B11=\"\",\"\",B11+9)","v":""},null,null,null,null,null,null,null,null,null,null,null,{"$f":"SUM(D11:M11)+AA11","v":0},null,{"$f":"IF(D11=\"M\",10)","v":false},{"$f":"IF(E11=\"M\",10)","v":false},false,false,false,false,false,false,false,false,{"$f":"SUM(Q11:Z11)","v":0}]
["21 - 30",null,{"$f":"IF(B12=\"\",\"\",B12+9)","v":""},null,null,null,null,null,null,null,null,null,null,null,{"$f":"SUM(D12:M12)+AA12","v":0},null,{"$f":"IF(D12=\"M\",10)","v":false},{"$f":"IF(E12=\"M\",10)","v":false},false,false,false,false,false,false,false,false,{"$f":"SUM(Q12:Z12)","v":0}]
[null,null,"21 - 40",null,null,null,null,null,null,null,null,null,null,8,{"$f":"SUM(D13:M13)+AA13","v":0},null,{"$f":"IF(D13=\"M\",10)","v":false},{"$f":"IF(E13=\"M\",10)","v":false},{"$f":"IF(F13=\"M\",10)","v":false},{"$f":"IF(G13=\"M\",10)","v":false},{"$f":"IF(H13=\"M\",10)","v":false},{"$f":"IF(I13=\"M\",10)","v":false},{"$f":"IF(J13=\"M\",10)","v":false},{"$f":"IF(K13=\"M\",10)","v":false},{"$f":"IF(L13=\"M\",10)","v":false},{"$f":"IF(M13=\"M\",10)","v":false},{"$f":"SUM(Q13:Z13)","v":0}]
[null,null,null,null,null,null,null,null,null,null,null,"Resultat",null,null,{"$f":"SUM(O10:O13)","v":0}]
[]
[null,null,"Wert",10,9,8,7,6,5,4,3,2,1]
[null,null,"Anzahl",{"$f":"COUNTIF($D10:$M13,\"10\")+O18","v":0},{"$f":"COUNTIF($D10:$M13,\"9\")","v":0},{"$f":"COUNTIF($D10:$M13,\"8\")","v":0},{"$f":"COUNTIF($D10:$M13,\"7\")","v":0},{"$f":"COUNTIF($D10:$M13,\"6\")","v":0},{"$f":"COUNTIF($D10:$M13,\"5\")","v":0},{"$f":"COUNTIF($D10:$M13,\"4\")","v":0},{"$f":"COUNTIF($D10:$M13,\"3\")","v":0},{"$f":"COUNTIF($D10:$M13,\"2\")","v":0},{"$f":"COUNTIF($D10:$M13,\"1\")","v":0}]

{"sheet":"28","index":28,"n_rows":17,"n_cols":27,"rows_kept":17,"cut":false,"hidden":true,"merged":[[7,0,8,0],[7,14,8,14],[13,11,13,12],[4,2,4,3],[0,11,0,12],[0,5,0,10],[4,5,4,8],[7,1,7,2],[7,3,7,12]]}
[null,null,{"$f":"Startliste!D1","v":"Qualifikation"},null,null,{"$f":"Startliste!D2","v":"Meisterschaft der Veteranen"},null,null,null,null,null,{"$f":"Startliste!H2","v":"2025-12-31"}]
[null,null,"Lizenz-Nr.",{"$f":"IF(_xlfn.XLOOKUP($M$5,Startliste!$A$15:$A$60,Startliste!$B$15:$B$60)=\"\",\"\",_xlfn.XLOOKUP($M$5,Startliste!$A$15:$A$60,Startliste!$B$15:$B$60))","v":""},null,null,null,null,null,null,null,null,null,null,null,null,null,null,null,null,null,1]
[]
[null,"Name",{"$f":"IF(_xlfn.XLOOKUP(M5,Startliste!$A$15:$A$60,Startliste!$C$15:$C$60)=\"\",\"\",_xlfn.XLOOKUP($M$5,Startliste!$A$15:$A$60,Startliste!$C$15:$C$60,\"\"))","v":""},null,"Vorname",{"$f":"IF(_xlfn.XLOOKUP(M5,Startliste!$A$15:$A$60,Startliste!$C$15:$C$60)=\"\",\"\",_xlfn.XLOOKUP($M$5,Startliste!$A$15:$A$60,Startliste!$D$15:$D$60,\"\"))","v":""},null,null,null,"St.",{"$f":"IF(_xlfn.XLOOKUP(M5,Startliste!$A$15:$A$60,Startliste!$C$15:$C$60)=\"\",\"\",_xlfn.XLOOKUP($M$5,Startliste!$A$15:$A$60,Startliste!$G$15:$G$60,\"\"))","v":""},null,"Start-Nr."]
[null,"Geburtsdatum",{"$f":"IF(_xlfn.XLOOKUP(M5,Startliste!$A$15:$A$60,Startliste!$C$15:$C$60)=\"\",\"\",_xlfn.XLOOKUP($M$5,Startliste!$A$15:$A$60,Startliste!$E$15:$E$60,\"\"))","v":""},null,"Sektion",{"$f":"IF(_xlfn.XLOOKUP(M5,Startliste!$A$15:$A$60,Startliste!$C$15:$C$60)=\"\",\"\",_xlfn.XLOOKUP($M$5,Startliste!$A$15:$A$60,Startliste!$F$15:$F$60,\"\"))","v":""},null,null,null,"Kat.",{"$f":"IF(_xlfn.XLOOKUP(M5,Startliste!$A$15:$A$60,Startliste!$C$15:$C$60)=\"\",\"\",_xlfn.XLOOKUP($M$5,Startliste!$A$15:$A$60,Startliste!$I$15:$I$60,\"\"))","v":""},null,{"$f":"_xlfn.NUMBERVALUE(MID(CELL(\"dateiname\",A1),FIND(\"]\",CELL(\"dateiname\",A1))+1,255))","v":28}]
[]
[null,null,null,"Keine Mouchen erfassen, nur Werte zwischen 1-10"]
["Passen","Scheiben-Nr. ",null,"Schüsse",null,null,null,null,null,null,null,null,null,null,"Total"]
[null,"Von","Bis",1,2,3,4,5,6,7,8,9,10]
["1 - 10",null,{"$f":"IF(B10=\"\",\"\",B10+9)","v":""},null,null,null,null,null,null,null,null,null,null,null,{"$f":"SUM(D10:M10)+AA10","v":0},null,{"$f":"IF(D10=\"M\",10)","v":false},{"$f":"IF(E10=\"M\",10)","v":false},false,false,false,false,false,false,false,false,{"$f":"SUM(Q10:Z10)","v":0}]
["11 - 20",null,{"$f":"IF(B11=\"\",\"\",B11+9)","v":""},null,null,null,null,null,null,null,null,null,null,null,{"$f":"SUM(D11:M11)+AA11","v":0},null,{"$f":"IF(D11=\"M\",10)","v":false},{"$f":"IF(E11=\"M\",10)","v":false},false,false,false,false,false,false,false,false,{"$f":"SUM(Q11:Z11)","v":0}]
["21 - 30",null,{"$f":"IF(B12=\"\",\"\",B12+9)","v":""},null,null,null,null,null,null,null,null,null,null,null,{"$f":"SUM(D12:M12)+AA12","v":0},null,{"$f":"IF(D12=\"M\",10)","v":false},{"$f":"IF(E12=\"M\",10)","v":false},false,false,false,false,false,false,false,false,{"$f":"SUM(Q12:Z12)","v":0}]
[null,null,"21 - 40",null,null,null,null,null,null,null,null,null,null,8,{"$f":"SUM(D13:M13)+AA13","v":0},null,{"$f":"IF(D13=\"M\",10)","v":false},{"$f":"IF(E13=\"M\",10)","v":false},{"$f":"IF(F13=\"M\",10)","v":false},{"$f":"IF(G13=\"M\",10)","v":false},{"$f":"IF(H13=\"M\",10)","v":false},{"$f":"IF(I13=\"M\",10)","v":false},{"$f":"IF(J13=\"M\",10)","v":false},{"$f":"IF(K13=\"M\",10)","v":false},{"$f":"IF(L13=\"M\",10)","v":false},{"$f":"IF(M13=\"M\",10)","v":false},{"$f":"SUM(Q13:Z13)","v":0}]
[null,null,null,null,null,null,null,null,null,null,null,"Resultat",null,null,{"$f":"SUM(O10:O13)","v":0}]
[]
[null,null,"Wert",10,9,8,7,6,5,4,3,2,1]
[null,null,"Anzahl",{"$f":"COUNTIF($D10:$M13,\"10\")+O18","v":0},{"$f":"COUNTIF($D10:$M13,\"9\")","v":0},{"$f":"COUNTIF($D10:$M13,\"8\")","v":0},{"$f":"COUNTIF($D10:$M13,\"7\")","v":0},{"$f":"COUNTIF($D10:$M13,\"6\")","v":0},{"$f":"COUNTIF($D10:$M13,\"5\")","v":0},{"$f":"COUNTIF($D10:$M13,\"4\")","v":0},{"$f":"COUNTIF($D10:$M13,\"3\")","v":0},{"$f":"COUNTIF($D10:$M13,\"2\")","v":0},{"$f":"COUNTIF($D10:$M13,\"1\")","v":0}]

{"sheet":"29","index":29,"n_rows":17,"n_cols":27,"rows_kept":17,"cut":false,"hidden":true,"merged":[[7,0,8,0],[7,14,8,14],[13,11,13,12],[4,2,4,3],[0,11,0,12],[0,5,0,10],[4,5,4,8],[7,1,7,2],[7,3,7,12]]}
[null,null,{"$f":"Startliste!D1","v":"Qualifikation"},null,null,{"$f":"Startliste!D2","v":"Meisterschaft der Veteranen"},null,null,null,null,null,{"$f":"Startliste!H2","v":"2025-12-31"}]
[null,null,"Lizenz-Nr.",{"$f":"IF(_xlfn.XLOOKUP($M$5,Startliste!$A$15:$A$60,Startliste!$B$15:$B$60)=\"\",\"\",_xlfn.XLOOKUP($M$5,Startliste!$A$15:$A$60,Startliste!$B$15:$B$60))","v":""},null,null,null,null,null,null,null,null,null,null,null,null,null,null,null,null,null,1]
[]
[null,"Name",{"$f":"IF(_xlfn.XLOOKUP(M5,Startliste!$A$15:$A$60,Startliste!$C$15:$C$60)=\"\",\"\",_xlfn.XLOOKUP($M$5,Startliste!$A$15:$A$60,Startliste!$C$15:$C$60,\"\"))","v":""},null,"Vorname",{"$f":"IF(_xlfn.XLOOKUP(M5,Startliste!$A$15:$A$60,Startliste!$C$15:$C$60)=\"\",\"\",_xlfn.XLOOKUP($M$5,Startliste!$A$15:$A$60,Startliste!$D$15:$D$60,\"\"))","v":""},null,null,null,"St.",{"$f":"IF(_xlfn.XLOOKUP(M5,Startliste!$A$15:$A$60,Startliste!$C$15:$C$60)=\"\",\"\",_xlfn.XLOOKUP($M$5,Startliste!$A$15:$A$60,Startliste!$G$15:$G$60,\"\"))","v":""},null,"Start-Nr."]
[null,"Geburtsdatum",{"$f":"IF(_xlfn.XLOOKUP(M5,Startliste!$A$15:$A$60,Startliste!$C$15:$C$60)=\"\",\"\",_xlfn.XLOOKUP($M$5,Startliste!$A$15:$A$60,Startliste!$E$15:$E$60,\"\"))","v":""},null,"Sektion",{"$f":"IF(_xlfn.XLOOKUP(M5,Startliste!$A$15:$A$60,Startliste!$C$15:$C$60)=\"\",\"\",_xlfn.XLOOKUP($M$5,Startliste!$A$15:$A$60,Startliste!$F$15:$F$60,\"\"))","v":""},null,null,null,"Kat.",{"$f":"IF(_xlfn.XLOOKUP(M5,Startliste!$A$15:$A$60,Startliste!$C$15:$C$60)=\"\",\"\",_xlfn.XLOOKUP($M$5,Startliste!$A$15:$A$60,Startliste!$I$15:$I$60,\"\"))","v":""},null,{"$f":"_xlfn.NUMBERVALUE(MID(CELL(\"dateiname\",A1),FIND(\"]\",CELL(\"dateiname\",A1))+1,255))","v":29}]
[]
[null,null,null,"Keine Mouchen erfassen, nur Werte zwischen 1-10"]
["Passen","Scheiben-Nr. ",null,"Schüsse",null,null,null,null,null,null,null,null,null,null,"Total"]
[null,"Von","Bis",1,2,3,4,5,6,7,8,9,10]
["1 - 10",null,{"$f":"IF(B10=\"\",\"\",B10+9)","v":""},null,null,null,null,null,null,null,null,null,null,null,{"$f":"SUM(D10:M10)+AA10","v":0},null,{"$f":"IF(D10=\"M\",10)","v":false},{"$f":"IF(E10=\"M\",10)","v":false},false,false,false,false,false,false,false,false,{"$f":"SUM(Q10:Z10)","v":0}]
["11 - 20",null,{"$f":"IF(B11=\"\",\"\",B11+9)","v":""},null,null,null,null,null,null,null,null,null,null,null,{"$f":"SUM(D11:M11)+AA11","v":0},null,{"$f":"IF(D11=\"M\",10)","v":false},{"$f":"IF(E11=\"M\",10)","v":false},false,false,false,false,false,false,false,false,{"$f":"SUM(Q11:Z11)","v":0}]
["21 - 30",null,{"$f":"IF(B12=\"\",\"\",B12+9)","v":""},null,null,null,null,null,null,null,null,null,null,null,{"$f":"SUM(D12:M12)+AA12","v":0},null,{"$f":"IF(D12=\"M\",10)","v":false},{"$f":"IF(E12=\"M\",10)","v":false},false,false,false,false,false,false,false,false,{"$f":"SUM(Q12:Z12)","v":0}]
[null,null,"21 - 40",null,null,null,null,null,null,null,null,null,null,8,{"$f":"SUM(D13:M13)+AA13","v":0},null,{"$f":"IF(D13=\"M\",10)","v":false},{"$f":"IF(E13=\"M\",10)","v":false},{"$f":"IF(F13=\"M\",10)","v":false},{"$f":"IF(G13=\"M\",10)","v":false},{"$f":"IF(H13=\"M\",10)","v":false},{"$f":"IF(I13=\"M\",10)","v":false},{"$f":"IF(J13=\"M\",10)","v":false},{"$f":"IF(K13=\"M\",10)","v":false},{"$f":"IF(L13=\"M\",10)","v":false},{"$f":"IF(M13=\"M\",10)","v":false},{"$f":"SUM(Q13:Z13)","v":0}]
[null,null,null,null,null,null,null,null,null,null,null,"Resultat",null,null,{"$f":"SUM(O10:O13)","v":0}]
[]
[null,null,"Wert",10,9,8,7,6,5,4,3,2,1]
[null,null,"Anzahl",{"$f":"COUNTIF($D10:$M13,\"10\")+O18","v":0},{"$f":"COUNTIF($D10:$M13,\"9\")","v":0},{"$f":"COUNTIF($D10:$M13,\"8\")","v":0},{"$f":"COUNTIF($D10:$M13,\"7\")","v":0},{"$f":"COUNTIF($D10:$M13,\"6\")","v":0},{"$f":"COUNTIF($D10:$M13,\"5\")","v":0},{"$f":"COUNTIF($D10:$M13,\"4\")","v":0},{"$f":"COUNTIF($D10:$M13,\"3\")","v":0},{"$f":"COUNTIF($D10:$M13,\"2\")","v":0},{"$f":"COUNTIF($D10:$M13,\"1\")","v":0}]

{"sheet":"30","index":30,"n_rows":17,"n_cols":27,"rows_kept":17,"cut":false,"hidden":true,"merged":[[7,0,8,0],[7,14,8,14],[13,11,13,12],[4,2,4,3],[0,11,0,12],[0,5,0,10],[4,5,4,8],[7,1,7,2],[7,3,7,12]]}
[null,null,{"$f":"Startliste!D1","v":"Qualifikation"},null,null,{"$f":"Startliste!D2","v":"Meisterschaft der Veteranen"},null,null,null,null,null,{"$f":"Startliste!H2","v":"2025-12-31"}]
[null,null,"Lizenz-Nr.",{"$f":"IF(_xlfn.XLOOKUP($M$5,Startliste!$A$15:$A$60,Startliste!$B$15:$B$60)=\"\",\"\",_xlfn.XLOOKUP($M$5,Startliste!$A$15:$A$60,Startliste!$B$15:$B$60))","v":""},null,null,null,null,null,null,null,null,null,null,null,null,null,null,null,null,null,1]
[]
[null,"Name",{"$f":"IF(_xlfn.XLOOKUP(M5,Startliste!$A$15:$A$60,Startliste!$C$15:$C$60)=\"\",\"\",_xlfn.XLOOKUP($M$5,Startliste!$A$15:$A$60,Startliste!$C$15:$C$60,\"\"))","v":""},null,"Vorname",{"$f":"IF(_xlfn.XLOOKUP(M5,Startliste!$A$15:$A$60,Startliste!$C$15:$C$60)=\"\",\"\",_xlfn.XLOOKUP($M$5,Startliste!$A$15:$A$60,Startliste!$D$15:$D$60,\"\"))","v":""},null,null,null,"St.",{"$f":"IF(_xlfn.XLOOKUP(M5,Startliste!$A$15:$A$60,Startliste!$C$15:$C$60)=\"\",\"\",_xlfn.XLOOKUP($M$5,Startliste!$A$15:$A$60,Startliste!$G$15:$G$60,\"\"))","v":""},null,"Start-Nr."]
[null,"Geburtsdatum",{"$f":"IF(_xlfn.XLOOKUP(M5,Startliste!$A$15:$A$60,Startliste!$C$15:$C$60)=\"\",\"\",_xlfn.XLOOKUP($M$5,Startliste!$A$15:$A$60,Startliste!$E$15:$E$60,\"\"))","v":""},null,"Sektion",{"$f":"IF(_xlfn.XLOOKUP(M5,Startliste!$A$15:$A$60,Startliste!$C$15:$C$60)=\"\",\"\",_xlfn.XLOOKUP($M$5,Startliste!$A$15:$A$60,Startliste!$F$15:$F$60,\"\"))","v":""},null,null,null,"Kat.",{"$f":"IF(_xlfn.XLOOKUP(M5,Startliste!$A$15:$A$60,Startliste!$C$15:$C$60)=\"\",\"\",_xlfn.XLOOKUP($M$5,Startliste!$A$15:$A$60,Startliste!$I$15:$I$60,\"\"))","v":""},null,{"$f":"_xlfn.NUMBERVALUE(MID(CELL(\"dateiname\",A1),FIND(\"]\",CELL(\"dateiname\",A1))+1,255))","v":30}]
[]
[null,null,null,"Keine Mouchen erfassen, nur Werte zwischen 1-10"]
["Passen","Scheiben-Nr. ",null,"Schüsse",null,null,null,null,null,null,null,null,null,null,"Total"]
[null,"Von","Bis",1,2,3,4,5,6,7,8,9,10]
["1 - 10",null,{"$f":"IF(B10=\"\",\"\",B10+9)","v":""},null,null,null,null,null,null,null,null,null,null,null,{"$f":"SUM(D10:M10)+AA10","v":0},null,{"$f":"IF(D10=\"M\",10)","v":false},{"$f":"IF(E10=\"M\",10)","v":false},false,false,false,false,false,false,false,false,{"$f":"SUM(Q10:Z10)","v":0}]
["11 - 20",null,{"$f":"IF(B11=\"\",\"\",B11+9)","v":""},null,null,null,null,null,null,null,null,null,null,null,{"$f":"SUM(D11:M11)+AA11","v":0},null,{"$f":"IF(D11=\"M\",10)","v":false},{"$f":"IF(E11=\"M\",10)","v":false},false,false,false,false,false,false,false,false,{"$f":"SUM(Q11:Z11)","v":0}]
["21 - 30",null,{"$f":"IF(B12=\"\",\"\",B12+9)","v":""},null,null,null,null,null,null,null,null,null,null,null,{"$f":"SUM(D12:M12)+AA12","v":0},null,{"$f":"IF(D12=\"M\",10)","v":false},{"$f":"IF(E12=\"M\",10)","v":false},false,false,false,false,false,false,false,false,{"$f":"SUM(Q12:Z12)","v":0}]
[null,null,"21 - 40",null,null,null,null,null,null,null,null,null,null,8,{"$f":"SUM(D13:M13)+AA13","v":0},null,{"$f":"IF(D13=\"M\",10)","v":false},{"$f":"IF(E13=\"M\",10)","v":false},{"$f":"IF(F13=\"M\",10)","v":false},{"$f":"IF(G13=\"M\",10)","v":false},{"$f":"IF(H13=\"M\",10)","v":false},{"$f":"IF(I13=\"M\",10)","v":false},{"$f":"IF(J13=\"M\",10)","v":false},{"$f":"IF(K13=\"M\",10)","v":false},{"$f":"IF(L13=\"M\",10)","v":false},{"$f":"IF(M13=\"M\",10)","v":false},{"$f":"SUM(Q13:Z13)","v":0}]
[null,null,null,null,null,null,null,null,null,null,null,"Resultat",null,null,{"$f":"SUM(O10:O13)","v":0}]
[]
[null,null,"Wert",10,9,8,7,6,5,4,3,2,1]
[null,null,"Anzahl",{"$f":"COUNTIF($D10:$M13,\"10\")+O18","v":0},{"$f":"COUNTIF($D10:$M13,\"9\")","v":0},{"$f":"COUNTIF($D10:$M13,\"8\")","v":0},{"$f":"COUNTIF($D10:$M13,\"7\")","v":0},{"$f":"COUNTIF($D10:$M13,\"6\")","v":0},{"$f":"COUNTIF($D10:$M13,\"5\")","v":0},{"$f":"COUNTIF($D10:$M13,\"4\")","v":0},{"$f":"COUNTIF($D10:$M13,\"3\")","v":0},{"$f":"COUNTIF($D10:$M13,\"2\")","v":0},{"$f":"COUNTIF($D10:$M13,\"1\")","v":0}]

{"sheet":"31","index":31,"n_rows":17,"n_cols":27,"rows_kept":17,"cut":false,"hidden":true,"merged":[[7,0,8,0],[7,14,8,14],[13,11,13,12],[4,2,4,3],[0,11,0,12],[0,5,0,10],[4,5,4,8],[7,1,7,2],[7,3,7,12]]}
[null,null,{"$f":"Startliste!D1","v":"Qualifikation"},null,null,{"$f":"Startliste!D2","v":"Meisterschaft der Veteranen"},null,null,null,null,null,{"$f":"Startliste!H2","v":"2025-12-31"}]
[null,null,"Lizenz-Nr.",{"$f":"IF(_xlfn.XLOOKUP($M$5,Startliste!$A$15:$A$60,Startliste!$B$15:$B$60)=\"\",\"\",_xlfn.XLOOKUP($M$5,Startliste!$A$15:$A$60,Startliste!$B$15:$B$60))","v":""},null,null,null,null,null,null,null,null,null,null,null,null,null,null,null,null,null,1]
[]
[null,"Name",{"$f":"IF(_xlfn.XLOOKUP(M5,Startliste!$A$15:$A$60,Startliste!$C$15:$C$60)=\"\",\"\",_xlfn.XLOOKUP($M$5,Startliste!$A$15:$A$60,Startliste!$C$15:$C$60,\"\"))","v":""},null,"Vorname",{"$f":"IF(_xlfn.XLOOKUP(M5,Startliste!$A$15:$A$60,Startliste!$C$15:$C$60)=\"\",\"\",_xlfn.XLOOKUP($M$5,Startliste!$A$15:$A$60,Startliste!$D$15:$D$60,\"\"))","v":""},null,null,null,"St.",{"$f":"IF(_xlfn.XLOOKUP(M5,Startliste!$A$15:$A$60,Startliste!$C$15:$C$60)=\"\",\"\",_xlfn.XLOOKUP($M$5,Startliste!$A$15:$A$60,Startliste!$G$15:$G$60,\"\"))","v":""},null,"Start-Nr."]
[null,"Geburtsdatum",{"$f":"IF(_xlfn.XLOOKUP(M5,Startliste!$A$15:$A$60,Startliste!$C$15:$C$60)=\"\",\"\",_xlfn.XLOOKUP($M$5,Startliste!$A$15:$A$60,Startliste!$E$15:$E$60,\"\"))","v":""},null,"Sektion",{"$f":"IF(_xlfn.XLOOKUP(M5,Startliste!$A$15:$A$60,Startliste!$C$15:$C$60)=\"\",\"\",_xlfn.XLOOKUP($M$5,Startliste!$A$15:$A$60,Startliste!$F$15:$F$60,\"\"))","v":""},null,null,null,"Kat.",{"$f":"IF(_xlfn.XLOOKUP(M5,Startliste!$A$15:$A$60,Startliste!$C$15:$C$60)=\"\",\"\",_xlfn.XLOOKUP($M$5,Startliste!$A$15:$A$60,Startliste!$I$15:$I$60,\"\"))","v":""},null,{"$f":"_xlfn.NUMBERVALUE(MID(CELL(\"dateiname\",A1),FIND(\"]\",CELL(\"dateiname\",A1))+1,255))","v":31}]
[]
[null,null,null,"Keine Mouchen erfassen, nur Werte zwischen 1-10"]
["Passen","Scheiben-Nr. ",null,"Schüsse",null,null,null,null,null,null,null,null,null,null,"Total"]
[null,"Von","Bis",1,2,3,4,5,6,7,8,9,10]
["1 - 10",null,{"$f":"IF(B10=\"\",\"\",B10+9)","v":""},null,null,null,null,null,null,null,null,null,null,null,{"$f":"SUM(D10:M10)+AA10","v":0},null,{"$f":"IF(D10=\"M\",10)","v":false},{"$f":"IF(E10=\"M\",10)","v":false},false,false,false,false,false,false,false,false,{"$f":"SUM(Q10:Z10)","v":0}]
["11 - 20",null,{"$f":"IF(B11=\"\",\"\",B11+9)","v":""},null,null,null,null,null,null,null,null,null,null,null,{"$f":"SUM(D11:M11)+AA11","v":0},null,{"$f":"IF(D11=\"M\",10)","v":false},{"$f":"IF(E11=\"M\",10)","v":false},false,false,false,false,false,false,false,false,{"$f":"SUM(Q11:Z11)","v":0}]
["21 - 30",null,{"$f":"IF(B12=\"\",\"\",B12+9)","v":""},null,null,null,null,null,null,null,null,null,null,null,{"$f":"SUM(D12:M12)+AA12","v":0},null,{"$f":"IF(D12=\"M\",10)","v":false},{"$f":"IF(E12=\"M\",10)","v":false},false,false,false,false,false,false,false,false,{"$f":"SUM(Q12:Z12)","v":0}]
[null,null,"21 - 40",null,null,null,null,null,null,null,null,null,null,8,{"$f":"SUM(D13:M13)+AA13","v":0},null,{"$f":"IF(D13=\"M\",10)","v":false},{"$f":"IF(E13=\"M\",10)","v":false},{"$f":"IF(F13=\"M\",10)","v":false},{"$f":"IF(G13=\"M\",10)","v":false},{"$f":"IF(H13=\"M\",10)","v":false},{"$f":"IF(I13=\"M\",10)","v":false},{"$f":"IF(J13=\"M\",10)","v":false},{"$f":"IF(K13=\"M\",10)","v":false},{"$f":"IF(L13=\"M\",10)","v":false},{"$f":"IF(M13=\"M\",10)","v":false},{"$f":"SUM(Q13:Z13)","v":0}]
[null,null,null,null,null,null,null,null,null,null,null,"Resultat",null,null,{"$f":"SUM(O10:O13)","v":0}]
[]
[null,null,"Wert",10,9,8,7,6,5,4,3,2,1]
[null,null,"Anzahl",{"$f":"COUNTIF($D10:$M13,\"10\")+O18","v":0},{"$f":"COUNTIF($D10:$M13,\"9\")","v":0},{"$f":"COUNTIF($D10:$M13,\"8\")","v":0},{"$f":"COUNTIF($D10:$M13,\"7\")","v":0},{"$f":"COUNTIF($D10:$M13,\"6\")","v":0},{"$f":"COUNTIF($D10:$M13,\"5\")","v":0},{"$f":"COUNTIF($D10:$M13,\"4\")","v":0},{"$f":"COUNTIF($D10:$M13,\"3\")","v":0},{"$f":"COUNTIF($D10:$M13,\"2\")","v":0},{"$f":"COUNTIF($D10:$M13,\"1\")","v":0}]

{"sheet":"32","index":32,"n_rows":17,"n_cols":27,"rows_kept":17,"cut":false,"hidden":true,"merged":[[7,0,8,0],[7,14,8,14],[13,11,13,12],[4,2,4,3],[0,11,0,12],[0,5,0,10],[4,5,4,8],[7,1,7,2],[7,3,7,12]]}
[null,null,{"$f":"Startliste!D1","v":"Qualifikation"},null,null,{"$f":"Startliste!D2","v":"Meisterschaft der Veteranen"},null,null,null,null,null,{"$f":"Startliste!H2","v":"2025-12-31"}]
[null,null,"Lizenz-Nr.",{"$f":"IF(_xlfn.XLOOKUP($M$5,Startliste!$A$15:$A$60,Startliste!$B$15:$B$60)=\"\",\"\",_xlfn.XLOOKUP($M$5,Startliste!$A$15:$A$60,Startliste!$B$15:$B$60))","v":""},null,null,null,null,null,null,null,null,null,null,null,null,null,null,null,null,null,1]
[]
[null,"Name",{"$f":"IF(_xlfn.XLOOKUP(M5,Startliste!$A$15:$A$60,Startliste!$C$15:$C$60)=\"\",\"\",_xlfn.XLOOKUP($M$5,Startliste!$A$15:$A$60,Startliste!$C$15:$C$60,\"\"))","v":""},null,"Vorname",{"$f":"IF(_xlfn.XLOOKUP(M5,Startliste!$A$15:$A$60,Startliste!$C$15:$C$60)=\"\",\"\",_xlfn.XLOOKUP($M$5,Startliste!$A$15:$A$60,Startliste!$D$15:$D$60,\"\"))","v":""},null,null,null,"St.",{"$f":"IF(_xlfn.XLOOKUP(M5,Startliste!$A$15:$A$60,Startliste!$C$15:$C$60)=\"\",\"\",_xlfn.XLOOKUP($M$5,Startliste!$A$15:$A$60,Startliste!$G$15:$G$60,\"\"))","v":""},null,"Start-Nr."]
[null,"Geburtsdatum",{"$f":"IF(_xlfn.XLOOKUP(M5,Startliste!$A$15:$A$60,Startliste!$C$15:$C$60)=\"\",\"\",_xlfn.XLOOKUP($M$5,Startliste!$A$15:$A$60,Startliste!$E$15:$E$60,\"\"))","v":""},null,"Sektion",{"$f":"IF(_xlfn.XLOOKUP(M5,Startliste!$A$15:$A$60,Startliste!$C$15:$C$60)=\"\",\"\",_xlfn.XLOOKUP($M$5,Startliste!$A$15:$A$60,Startliste!$F$15:$F$60,\"\"))","v":""},null,null,null,"Kat.",{"$f":"IF(_xlfn.XLOOKUP(M5,Startliste!$A$15:$A$60,Startliste!$C$15:$C$60)=\"\",\"\",_xlfn.XLOOKUP($M$5,Startliste!$A$15:$A$60,Startliste!$I$15:$I$60,\"\"))","v":""},null,{"$f":"_xlfn.NUMBERVALUE(MID(CELL(\"dateiname\",A1),FIND(\"]\",CELL(\"dateiname\",A1))+1,255))","v":32}]
[]
[null,null,null,"Keine Mouchen erfassen, nur Werte zwischen 1-10"]
["Passen","Scheiben-Nr. ",null,"Schüsse",null,null,null,null,null,null,null,null,null,null,"Total"]
[null,"Von","Bis",1,2,3,4,5,6,7,8,9,10]
["1 - 10",null,{"$f":"IF(B10=\"\",\"\",B10+9)","v":""},null,null,null,null,null,null,null,null,null,null,null,{"$f":"SUM(D10:M10)+AA10","v":0},null,{"$f":"IF(D10=\"M\",10)","v":false},{"$f":"IF(E10=\"M\",10)","v":false},false,false,false,false,false,false,false,false,{"$f":"SUM(Q10:Z10)","v":0}]
["11 - 20",null,{"$f":"IF(B11=\"\",\"\",B11+9)","v":""},null,null,null,null,null,null,null,null,null,null,null,{"$f":"SUM(D11:M11)+AA11","v":0},null,{"$f":"IF(D11=\"M\",10)","v":false},{"$f":"IF(E11=\"M\",10)","v":false},false,false,false,false,false,false,false,false,{"$f":"SUM(Q11:Z11)","v":0}]
["21 - 30",null,{"$f":"IF(B12=\"\",\"\",B12+9)","v":""},null,null,null,null,null,null,null,null,null,null,null,{"$f":"SUM(D12:M12)+AA12","v":0},null,{"$f":"IF(D12=\"M\",10)","v":false},{"$f":"IF(E12=\"M\",10)","v":false},false,false,false,false,false,false,false,false,{"$f":"SUM(Q12:Z12)","v":0}]
[null,null,"21 - 40",null,null,null,null,null,null,null,null,null,null,8,{"$f":"SUM(D13:M13)+AA13","v":0},null,{"$f":"IF(D13=\"M\",10)","v":false},{"$f":"IF(E13=\"M\",10)","v":false},{"$f":"IF(F13=\"M\",10)","v":false},{"$f":"IF(G13=\"M\",10)","v":false},{"$f":"IF(H13=\"M\",10)","v":false},{"$f":"IF(I13=\"M\",10)","v":false},{"$f":"IF(J13=\"M\",10)","v":false},{"$f":"IF(K13=\"M\",10)","v":false},{"$f":"IF(L13=\"M\",10)","v":false},{"$f":"IF(M13=\"M\",10)","v":false},{"$f":"SUM(Q13:Z13)","v":0}]
[null,null,null,null,null,null,null,null,null,null,null,"Resultat",null,null,{"$f":"SUM(O10:O13)","v":0}]
[]
[null,null,"Wert",10,9,8,7,6,5,4,3,2,1]
[null,null,"Anzahl",{"$f":"COUNTIF($D10:$M13,\"10\")+O18","v":0},{"$f":"COUNTIF($D10:$M13,\"9\")","v":0},{"$f":"COUNTIF($D10:$M13,\"8\")","v":0},{"$f":"COUNTIF($D10:$M13,\"7\")","v":0},{"$f":"COUNTIF($D10:$M13,\"6\")","v":0},{"$f":"COUNTIF($D10:$M13,\"5\")","v":0},{"$f":"COUNTIF($D10:$M13,\"4\")","v":0},{"$f":"COUNTIF($D10:$M13,\"3\")","v":0},{"$f":"COUNTIF($D10:$M13,\"2\")","v":0},{"$f":"COUNTIF($D10:$M13,\"1\")","v":0}]

{"sheet":"33","index":33,"n_rows":17,"n_cols":27,"rows_kept":17,"cut":false,"hidden":true,"merged":[[7,0,8,0],[7,14,8,14],[13,11,13,12],[4,2,4,3],[0,11,0,12],[0,5,0,10],[4,5,4,8],[7,1,7,2],[7,3,7,12]]}
[null,null,{"$f":"Startliste!D1","v":"Qualifikation"},null,null,{"$f":"Startliste!D2","v":"Meisterschaft der Veteranen"},null,null,null,null,null,{"$f":"Startliste!H2","v":"2025-12-31"}]
[null,null,"Lizenz-Nr.",{"$f":"IF(_xlfn.XLOOKUP($M$5,Startliste!$A$15:$A$60,Startliste!$B$15:$B$60)=\"\",\"\",_xlfn.XLOOKUP($M$5,Startliste!$A$15:$A$60,Startliste!$B$15:$B$60))","v":""},null,null,null,null,null,null,null,null,null,null,null,null,null,null,null,null,null,1]
[]
[null,"Name",{"$f":"IF(_xlfn.XLOOKUP(M5,Startliste!$A$15:$A$60,Startliste!$C$15:$C$60)=\"\",\"\",_xlfn.XLOOKUP($M$5,Startliste!$A$15:$A$60,Startliste!$C$15:$C$60,\"\"))","v":""},null,"Vorname",{"$f":"IF(_xlfn.XLOOKUP(M5,Startliste!$A$15:$A$60,Startliste!$C$15:$C$60)=\"\",\"\",_xlfn.XLOOKUP($M$5,Startliste!$A$15:$A$60,Startliste!$D$15:$D$60,\"\"))","v":""},null,null,null,"St.",{"$f":"IF(_xlfn.XLOOKUP(M5,Startliste!$A$15:$A$60,Startliste!$C$15:$C$60)=\"\",\"\",_xlfn.XLOOKUP($M$5,Startliste!$A$15:$A$60,Startliste!$G$15:$G$60,\"\"))","v":""},null,"Start-Nr."]
[null,"Geburtsdatum",{"$f":"IF(_xlfn.XLOOKUP(M5,Startliste!$A$15:$A$60,Startliste!$C$15:$C$60)=\"\",\"\",_xlfn.XLOOKUP($M$5,Startliste!$A$15:$A$60,Startliste!$E$15:$E$60,\"\"))","v":""},null,"Sektion",{"$f":"IF(_xlfn.XLOOKUP(M5,Startliste!$A$15:$A$60,Startliste!$C$15:$C$60)=\"\",\"\",_xlfn.XLOOKUP($M$5,Startliste!$A$15:$A$60,Startliste!$F$15:$F$60,\"\"))","v":""},null,null,null,"Kat.",{"$f":"IF(_xlfn.XLOOKUP(M5,Startliste!$A$15:$A$60,Startliste!$C$15:$C$60)=\"\",\"\",_xlfn.XLOOKUP($M$5,Startliste!$A$15:$A$60,Startliste!$I$15:$I$60,\"\"))","v":""},null,{"$f":"_xlfn.NUMBERVALUE(MID(CELL(\"dateiname\",A1),FIND(\"]\",CELL(\"dateiname\",A1))+1,255))","v":33}]
[]
[null,null,null,"Keine Mouchen erfassen, nur Werte zwischen 1-10"]
["Passen","Scheiben-Nr. ",null,"Schüsse",null,null,null,null,null,null,null,null,null,null,"Total"]
[null,"Von","Bis",1,2,3,4,5,6,7,8,9,10]
["1 - 10",null,{"$f":"IF(B10=\"\",\"\",B10+9)","v":""},null,null,null,null,null,null,null,null,null,null,null,{"$f":"SUM(D10:M10)+AA10","v":0},null,{"$f":"IF(D10=\"M\",10)","v":false},{"$f":"IF(E10=\"M\",10)","v":false},false,false,false,false,false,false,false,false,{"$f":"SUM(Q10:Z10)","v":0}]
["11 - 20",null,{"$f":"IF(B11=\"\",\"\",B11+9)","v":""},null,null,null,null,null,null,null,null,null,null,null,{"$f":"SUM(D11:M11)+AA11","v":0},null,{"$f":"IF(D11=\"M\",10)","v":false},{"$f":"IF(E11=\"M\",10)","v":false},false,false,false,false,false,false,false,false,{"$f":"SUM(Q11:Z11)","v":0}]
["21 - 30",null,{"$f":"IF(B12=\"\",\"\",B12+9)","v":""},null,null,null,null,null,null,null,null,null,null,null,{"$f":"SUM(D12:M12)+AA12","v":0},null,{"$f":"IF(D12=\"M\",10)","v":false},{"$f":"IF(E12=\"M\",10)","v":false},false,false,false,false,false,false,false,false,{"$f":"SUM(Q12:Z12)","v":0}]
[null,null,"21 - 40",null,null,null,null,null,null,null,null,null,null,8,{"$f":"SUM(D13:M13)+AA13","v":0},null,{"$f":"IF(D13=\"M\",10)","v":false},{"$f":"IF(E13=\"M\",10)","v":false},{"$f":"IF(F13=\"M\",10)","v":false},{"$f":"IF(G13=\"M\",10)","v":false},{"$f":"IF(H13=\"M\",10)","v":false},{"$f":"IF(I13=\"M\",10)","v":false},{"$f":"IF(J13=\"M\",10)","v":false},{"$f":"IF(K13=\"M\",10)","v":false},{"$f":"IF(L13=\"M\",10)","v":false},{"$f":"IF(M13=\"M\",10)","v":false},{"$f":"SUM(Q13:Z13)","v":0}]
[null,null,null,null,null,null,null,null,null,null,null,"Resultat",null,null,{"$f":"SUM(O10:O13)","v":0}]
[]
[null,null,"Wert",10,9,8,7,6,5,4,3,2,1]
[null,null,"Anzahl",{"$f":"COUNTIF($D10:$M13,\"10\")+O18","v":0},{"$f":"COUNTIF($D10:$M13,\"9\")","v":0},{"$f":"COUNTIF($D10:$M13,\"8\")","v":0},{"$f":"COUNTIF($D10:$M13,\"7\")","v":0},{"$f":"COUNTIF($D10:$M13,\"6\")","v":0},{"$f":"COUNTIF($D10:$M13,\"5\")","v":0},{"$f":"COUNTIF($D10:$M13,\"4\")","v":0},{"$f":"COUNTIF($D10:$M13,\"3\")","v":0},{"$f":"COUNTIF($D10:$M13,\"2\")","v":0},{"$f":"COUNTIF($D10:$M13,\"1\")","v":0}]

{"sheet":"34","index":34,"n_rows":17,"n_cols":27,"rows_kept":17,"cut":false,"hidden":true,"merged":[[7,0,8,0],[7,14,8,14],[13,11,13,12],[4,2,4,3],[0,11,0,12],[0,5,0,10],[4,5,4,8],[7,1,7,2],[7,3,7,12]]}
[null,null,{"$f":"Startliste!D1","v":"Qualifikation"},null,null,{"$f":"Startliste!D2","v":"Meisterschaft der Veteranen"},null,null,null,null,null,{"$f":"Startliste!H2","v":"2025-12-31"}]
[null,null,"Lizenz-Nr.",{"$f":"IF(_xlfn.XLOOKUP($M$5,Startliste!$A$15:$A$60,Startliste!$B$15:$B$60)=\"\",\"\",_xlfn.XLOOKUP($M$5,Startliste!$A$15:$A$60,Startliste!$B$15:$B$60))","v":""},null,null,null,null,null,null,null,null,null,null,null,null,null,null,null,null,null,1]
[]
[null,"Name",{"$f":"IF(_xlfn.XLOOKUP(M5,Startliste!$A$15:$A$60,Startliste!$C$15:$C$60)=\"\",\"\",_xlfn.XLOOKUP($M$5,Startliste!$A$15:$A$60,Startliste!$C$15:$C$60,\"\"))","v":""},null,"Vorname",{"$f":"IF(_xlfn.XLOOKUP(M5,Startliste!$A$15:$A$60,Startliste!$C$15:$C$60)=\"\",\"\",_xlfn.XLOOKUP($M$5,Startliste!$A$15:$A$60,Startliste!$D$15:$D$60,\"\"))","v":""},null,null,null,"St.",{"$f":"IF(_xlfn.XLOOKUP(M5,Startliste!$A$15:$A$60,Startliste!$C$15:$C$60)=\"\",\"\",_xlfn.XLOOKUP($M$5,Startliste!$A$15:$A$60,Startliste!$G$15:$G$60,\"\"))","v":""},null,"Start-Nr."]
[null,"Geburtsdatum",{"$f":"IF(_xlfn.XLOOKUP(M5,Startliste!$A$15:$A$60,Startliste!$C$15:$C$60)=\"\",\"\",_xlfn.XLOOKUP($M$5,Startliste!$A$15:$A$60,Startliste!$E$15:$E$60,\"\"))","v":""},null,"Sektion",{"$f":"IF(_xlfn.XLOOKUP(M5,Startliste!$A$15:$A$60,Startliste!$C$15:$C$60)=\"\",\"\",_xlfn.XLOOKUP($M$5,Startliste!$A$15:$A$60,Startliste!$F$15:$F$60,\"\"))","v":""},null,null,null,"Kat.",{"$f":"IF(_xlfn.XLOOKUP(M5,Startliste!$A$15:$A$60,Startliste!$C$15:$C$60)=\"\",\"\",_xlfn.XLOOKUP($M$5,Startliste!$A$15:$A$60,Startliste!$I$15:$I$60,\"\"))","v":""},null,{"$f":"_xlfn.NUMBERVALUE(MID(CELL(\"dateiname\",A1),FIND(\"]\",CELL(\"dateiname\",A1))+1,255))","v":34}]
[]
[null,null,null,"Keine Mouchen erfassen, nur Werte zwischen 1-10"]
["Passen","Scheiben-Nr. ",null,"Schüsse",null,null,null,null,null,null,null,null,null,null,"Total"]
[null,"Von","Bis",1,2,3,4,5,6,7,8,9,10]
["1 - 10",null,{"$f":"IF(B10=\"\",\"\",B10+9)","v":""},null,null,null,null,null,null,null,null,null,null,null,{"$f":"SUM(D10:M10)+AA10","v":0},null,{"$f":"IF(D10=\"M\",10)","v":false},{"$f":"IF(E10=\"M\",10)","v":false},false,false,false,false,false,false,false,false,{"$f":"SUM(Q10:Z10)","v":0}]
["11 - 20",null,{"$f":"IF(B11=\"\",\"\",B11+9)","v":""},null,null,null,null,null,null,null,null,null,null,null,{"$f":"SUM(D11:M11)+AA11","v":0},null,{"$f":"IF(D11=\"M\",10)","v":false},{"$f":"IF(E11=\"M\",10)","v":false},false,false,false,false,false,false,false,false,{"$f":"SUM(Q11:Z11)","v":0}]
["21 - 30",null,{"$f":"IF(B12=\"\",\"\",B12+9)","v":""},null,null,null,null,null,null,null,null,null,null,null,{"$f":"SUM(D12:M12)+AA12","v":0},null,{"$f":"IF(D12=\"M\",10)","v":false},{"$f":"IF(E12=\"M\",10)","v":false},false,false,false,false,false,false,false,false,{"$f":"SUM(Q12:Z12)","v":0}]
[null,null,"21 - 40",null,null,null,null,null,null,null,null,null,null,8,{"$f":"SUM(D13:M13)+AA13","v":0},null,{"$f":"IF(D13=\"M\",10)","v":false},{"$f":"IF(E13=\"M\",10)","v":false},{"$f":"IF(F13=\"M\",10)","v":false},{"$f":"IF(G13=\"M\",10)","v":false},{"$f":"IF(H13=\"M\",10)","v":false},{"$f":"IF(I13=\"M\",10)","v":false},{"$f":"IF(J13=\"M\",10)","v":false},{"$f":"IF(K13=\"M\",10)","v":false},{"$f":"IF(L13=\"M\",10)","v":false},{"$f":"IF(M13=\"M\",10)","v":false},{"$f":"SUM(Q13:Z13)","v":0}]
[null,null,null,null,null,null,null,null,null,null,null,"Resultat",null,null,{"$f":"SUM(O10:O13)","v":0}]
[]
[null,null,"Wert",10,9,8,7,6,5,4,3,2,1]
[null,null,"Anzahl",{"$f":"COUNTIF($D10:$M13,\"10\")+O18","v":0},{"$f":"COUNTIF($D10:$M13,\"9\")","v":0},{"$f":"COUNTIF($D10:$M13,\"8\")","v":0},{"$f":"COUNTIF($D10:$M13,\"7\")","v":0},{"$f":"COUNTIF($D10:$M13,\"6\")","v":0},{"$f":"COUNTIF($D10:$M13,\"5\")","v":0},{"$f":"COUNTIF($D10:$M13,\"4\")","v":0},{"$f":"COUNTIF($D10:$M13,\"3\")","v":0},{"$f":"COUNTIF($D10:$M13,\"2\")","v":0},{"$f":"COUNTIF($D10:$M13,\"1\")","v":0}]

{"sheet":"35","index":35,"n_rows":17,"n_cols":27,"rows_kept":17,"cut":false,"hidden":true,"merged":[[7,0,8,0],[7,14,8,14],[13,11,13,12],[4,2,4,3],[0,11,0,12],[0,5,0,10],[4,5,4,8],[7,1,7,2],[7,3,7,12]]}
[null,null,{"$f":"Startliste!D1","v":"Qualifikation"},null,null,{"$f":"Startliste!D2","v":"Meisterschaft der Veteranen"},null,null,null,null,null,{"$f":"Startliste!H2","v":"2025-12-31"}]
[null,null,"Lizenz-Nr.",{"$f":"IF(_xlfn.XLOOKUP($M$5,Startliste!$A$15:$A$60,Startliste!$B$15:$B$60)=\"\",\"\",_xlfn.XLOOKUP($M$5,Startliste!$A$15:$A$60,Startliste!$B$15:$B$60))","v":""},null,null,null,null,null,null,null,null,null,null,null,null,null,null,null,null,null,1]
[]
[null,"Name",{"$f":"IF(_xlfn.XLOOKUP(M5,Startliste!$A$15:$A$60,Startliste!$C$15:$C$60)=\"\",\"\",_xlfn.XLOOKUP($M$5,Startliste!$A$15:$A$60,Startliste!$C$15:$C$60,\"\"))","v":""},null,"Vorname",{"$f":"IF(_xlfn.XLOOKUP(M5,Startliste!$A$15:$A$60,Startliste!$C$15:$C$60)=\"\",\"\",_xlfn.XLOOKUP($M$5,Startliste!$A$15:$A$60,Startliste!$D$15:$D$60,\"\"))","v":""},null,null,null,"St.",{"$f":"IF(_xlfn.XLOOKUP(M5,Startliste!$A$15:$A$60,Startliste!$C$15:$C$60)=\"\",\"\",_xlfn.XLOOKUP($M$5,Startliste!$A$15:$A$60,Startliste!$G$15:$G$60,\"\"))","v":""},null,"Start-Nr."]
[null,"Geburtsdatum",{"$f":"IF(_xlfn.XLOOKUP(M5,Startliste!$A$15:$A$60,Startliste!$C$15:$C$60)=\"\",\"\",_xlfn.XLOOKUP($M$5,Startliste!$A$15:$A$60,Startliste!$E$15:$E$60,\"\"))","v":""},null,"Sektion",{"$f":"IF(_xlfn.XLOOKUP(M5,Startliste!$A$15:$A$60,Startliste!$C$15:$C$60)=\"\",\"\",_xlfn.XLOOKUP($M$5,Startliste!$A$15:$A$60,Startliste!$F$15:$F$60,\"\"))","v":""},null,null,null,"Kat.",{"$f":"IF(_xlfn.XLOOKUP(M5,Startliste!$A$15:$A$60,Startliste!$C$15:$C$60)=\"\",\"\",_xlfn.XLOOKUP($M$5,Startliste!$A$15:$A$60,Startliste!$I$15:$I$60,\"\"))","v":""},null,{"$f":"_xlfn.NUMBERVALUE(MID(CELL(\"dateiname\",A1),FIND(\"]\",CELL(\"dateiname\",A1))+1,255))","v":35}]
[]
[null,null,null,"Keine Mouchen erfassen, nur Werte zwischen 1-10"]
["Passen","Scheiben-Nr. ",null,"Schüsse",null,null,null,null,null,null,null,null,null,null,"Total"]
[null,"Von","Bis",1,2,3,4,5,6,7,8,9,10]
["1 - 10",null,{"$f":"IF(B10=\"\",\"\",B10+9)","v":""},null,null,null,null,null,null,null,null,null,null,null,{"$f":"SUM(D10:M10)+AA10","v":0},null,{"$f":"IF(D10=\"M\",10)","v":false},{"$f":"IF(E10=\"M\",10)","v":false},false,false,false,false,false,false,false,false,{"$f":"SUM(Q10:Z10)","v":0}]
["11 - 20",null,{"$f":"IF(B11=\"\",\"\",B11+9)","v":""},null,null,null,null,null,null,null,null,null,null,null,{"$f":"SUM(D11:M11)+AA11","v":0},null,{"$f":"IF(D11=\"M\",10)","v":false},{"$f":"IF(E11=\"M\",10)","v":false},false,false,false,false,false,false,false,false,{"$f":"SUM(Q11:Z11)","v":0}]
["21 - 30",null,{"$f":"IF(B12=\"\",\"\",B12+9)","v":""},null,null,null,null,null,null,null,null,null,null,null,{"$f":"SUM(D12:M12)+AA12","v":0},null,{"$f":"IF(D12=\"M\",10)","v":false},{"$f":"IF(E12=\"M\",10)","v":false},false,false,false,false,false,false,false,false,{"$f":"SUM(Q12:Z12)","v":0}]
[null,null,"21 - 40",null,null,null,null,null,null,null,null,null,null,8,{"$f":"SUM(D13:M13)+AA13","v":0},null,{"$f":"IF(D13=\"M\",10)","v":false},{"$f":"IF(E13=\"M\",10)","v":false},{"$f":"IF(F13=\"M\",10)","v":false},{"$f":"IF(G13=\"M\",10)","v":false},{"$f":"IF(H13=\"M\",10)","v":false},{"$f":"IF(I13=\"M\",10)","v":false},{"$f":"IF(J13=\"M\",10)","v":false},{"$f":"IF(K13=\"M\",10)","v":false},{"$f":"IF(L13=\"M\",10)","v":false},{"$f":"IF(M13=\"M\",10)","v":false},{"$f":"SUM(Q13:Z13)","v":0}]
[null,null,null,null,null,null,null,null,null,null,null,"Resultat",null,null,{"$f":"SUM(O10:O13)","v":0}]
[]
[null,null,"Wert",10,9,8,7,6,5,4,3,2,1]
[null,null,"Anzahl",{"$f":"COUNTIF($D10:$M13,\"10\")+O18","v":0},{"$f":"COUNTIF($D10:$M13,\"9\")","v":0},{"$f":"COUNTIF($D10:$M13,\"8\")","v":0},{"$f":"COUNTIF($D10:$M13,\"7\")","v":0},{"$f":"COUNTIF($D10:$M13,\"6\")","v":0},{"$f":"COUNTIF($D10:$M13,\"5\")","v":0},{"$f":"COUNTIF($D10:$M13,\"4\")","v":0},{"$f":"COUNTIF($D10:$M13,\"3\")","v":0},{"$f":"COUNTIF($D10:$M13,\"2\")","v":0},{"$f":"COUNTIF($D10:$M13,\"1\")","v":0}]

{"sheet":"36","index":36,"n_rows":17,"n_cols":27,"rows_kept":17,"cut":false,"hidden":true,"merged":[[7,0,8,0],[7,14,8,14],[13,11,13,12],[4,2,4,3],[0,11,0,12],[0,5,0,10],[4,5,4,8],[7,1,7,2],[7,3,7,12]]}
[null,null,{"$f":"Startliste!D1","v":"Qualifikation"},null,null,{"$f":"Startliste!D2","v":"Meisterschaft der Veteranen"},null,null,null,null,null,{"$f":"Startliste!H2","v":"2025-12-31"}]
[null,null,"Lizenz-Nr.",{"$f":"IF(_xlfn.XLOOKUP($M$5,Startliste!$A$15:$A$60,Startliste!$B$15:$B$60)=\"\",\"\",_xlfn.XLOOKUP($M$5,Startliste!$A$15:$A$60,Startliste!$B$15:$B$60))","v":""},null,null,null,null,null,null,null,null,null,null,null,null,null,null,null,null,null,1]
[]
[null,"Name",{"$f":"IF(_xlfn.XLOOKUP(M5,Startliste!$A$15:$A$60,Startliste!$C$15:$C$60)=\"\",\"\",_xlfn.XLOOKUP($M$5,Startliste!$A$15:$A$60,Startliste!$C$15:$C$60,\"\"))","v":""},null,"Vorname",{"$f":"IF(_xlfn.XLOOKUP(M5,Startliste!$A$15:$A$60,Startliste!$C$15:$C$60)=\"\",\"\",_xlfn.XLOOKUP($M$5,Startliste!$A$15:$A$60,Startliste!$D$15:$D$60,\"\"))","v":""},null,null,null,"St.",{"$f":"IF(_xlfn.XLOOKUP(M5,Startliste!$A$15:$A$60,Startliste!$C$15:$C$60)=\"\",\"\",_xlfn.XLOOKUP($M$5,Startliste!$A$15:$A$60,Startliste!$G$15:$G$60,\"\"))","v":""},null,"Start-Nr."]
[null,"Geburtsdatum",{"$f":"IF(_xlfn.XLOOKUP(M5,Startliste!$A$15:$A$60,Startliste!$C$15:$C$60)=\"\",\"\",_xlfn.XLOOKUP($M$5,Startliste!$A$15:$A$60,Startliste!$E$15:$E$60,\"\"))","v":""},null,"Sektion",{"$f":"IF(_xlfn.XLOOKUP(M5,Startliste!$A$15:$A$60,Startliste!$C$15:$C$60)=\"\",\"\",_xlfn.XLOOKUP($M$5,Startliste!$A$15:$A$60,Startliste!$F$15:$F$60,\"\"))","v":""},null,null,null,"Kat.",{"$f":"IF(_xlfn.XLOOKUP(M5,Startliste!$A$15:$A$60,Startliste!$C$15:$C$60)=\"\",\"\",_xlfn.XLOOKUP($M$5,Startliste!$A$15:$A$60,Startliste!$I$15:$I$60,\"\"))","v":""},null,{"$f":"_xlfn.NUMBERVALUE(MID(CELL(\"dateiname\",A1),FIND(\"]\",CELL(\"dateiname\",A1))+1,255))","v":36}]
[]
[null,null,null,"Keine Mouchen erfassen, nur Werte zwischen 1-10"]
["Passen","Scheiben-Nr. ",null,"Schüsse",null,null,null,null,null,null,null,null,null,null,"Total"]
[null,"Von","Bis",1,2,3,4,5,6,7,8,9,10]
["1 - 10",null,{"$f":"IF(B10=\"\",\"\",B10+9)","v":""},null,null,null,null,null,null,null,null,null,null,null,{"$f":"SUM(D10:M10)+AA10","v":0},null,{"$f":"IF(D10=\"M\",10)","v":false},{"$f":"IF(E10=\"M\",10)","v":false},false,false,false,false,false,false,false,false,{"$f":"SUM(Q10:Z10)","v":0}]
["11 - 20",null,{"$f":"IF(B11=\"\",\"\",B11+9)","v":""},null,null,null,null,null,null,null,null,null,null,null,{"$f":"SUM(D11:M11)+AA11","v":0},null,{"$f":"IF(D11=\"M\",10)","v":false},{"$f":"IF(E11=\"M\",10)","v":false},false,false,false,false,false,false,false,false,{"$f":"SUM(Q11:Z11)","v":0}]
["21 - 30",null,{"$f":"IF(B12=\"\",\"\",B12+9)","v":""},null,null,null,null,null,null,null,null,null,null,null,{"$f":"SUM(D12:M12)+AA12","v":0},null,{"$f":"IF(D12=\"M\",10)","v":false},{"$f":"IF(E12=\"M\",10)","v":false},false,false,false,false,false,false,false,false,{"$f":"SUM(Q12:Z12)","v":0}]
[null,null,"21 - 40",null,null,null,null,null,null,null,null,null,null,8,{"$f":"SUM(D13:M13)+AA13","v":0},null,{"$f":"IF(D13=\"M\",10)","v":false},{"$f":"IF(E13=\"M\",10)","v":false},{"$f":"IF(F13=\"M\",10)","v":false},{"$f":"IF(G13=\"M\",10)","v":false},{"$f":"IF(H13=\"M\",10)","v":false},{"$f":"IF(I13=\"M\",10)","v":false},{"$f":"IF(J13=\"M\",10)","v":false},{"$f":"IF(K13=\"M\",10)","v":false},{"$f":"IF(L13=\"M\",10)","v":false},{"$f":"IF(M13=\"M\",10)","v":false},{"$f":"SUM(Q13:Z13)","v":0}]
[null,null,null,null,null,null,null,null,null,null,null,"Resultat",null,null,{"$f":"SUM(O10:O13)","v":0}]
[]
[null,null,"Wert",10,9,8,7,6,5,4,3,2,1]
[null,null,"Anzahl",{"$f":"COUNTIF($D10:$M13,\"10\")+O18","v":0},{"$f":"COUNTIF($D10:$M13,\"9\")","v":0},{"$f":"COUNTIF($D10:$M13,\"8\")","v":0},{"$f":"COUNTIF($D10:$M13,\"7\")","v":0},{"$f":"COUNTIF($D10:$M13,\"6\")","v":0},{"$f":"COUNTIF($D10:$M13,\"5\")","v":0},{"$f":"COUNTIF($D10:$M13,\"4\")","v":0},{"$f":"COUNTIF($D10:$M13,\"3\")","v":0},{"$f":"COUNTIF($D10:$M13,\"2\")","v":0},{"$f":"COUNTIF($D10:$M13,\"1\")","v":0}]

{"sheet":"37","index":37,"n_rows":17,"n_cols":27,"rows_kept":17,"cut":false,"hidden":true,"merged":[[7,0,8,0],[7,14,8,14],[13,11,13,12],[4,2,4,3],[0,11,0,12],[0,5,0,10],[4,5,4,8],[7,1,7,2],[7,3,7,12]]}
[null,null,{"$f":"Startliste!D1","v":"Qualifikation"},null,null,{"$f":"Startliste!D2","v":"Meisterschaft der Veteranen"},null,null,null,null,null,{"$f":"Startliste!H2","v":"2025-12-31"}]
[null,null,"Lizenz-Nr.",{"$f":"IF(_xlfn.XLOOKUP($M$5,Startliste!$A$15:$A$60,Startliste!$B$15:$B$60)=\"\",\"\",_xlfn.XLOOKUP($M$5,Startliste!$A$15:$A$60,Startliste!$B$15:$B$60))","v":""},null,null,null,null,null,null,null,null,null,null,null,null,null,null,null,null,null,1]
[]
[null,"Name",{"$f":"IF(_xlfn.XLOOKUP(M5,Startliste!$A$15:$A$60,Startliste!$C$15:$C$60)=\"\",\"\",_xlfn.XLOOKUP($M$5,Startliste!$A$15:$A$60,Startliste!$C$15:$C$60,\"\"))","v":""},null,"Vorname",{"$f":"IF(_xlfn.XLOOKUP(M5,Startliste!$A$15:$A$60,Startliste!$C$15:$C$60)=\"\",\"\",_xlfn.XLOOKUP($M$5,Startliste!$A$15:$A$60,Startliste!$D$15:$D$60,\"\"))","v":""},null,null,null,"St.",{"$f":"IF(_xlfn.XLOOKUP(M5,Startliste!$A$15:$A$60,Startliste!$C$15:$C$60)=\"\",\"\",_xlfn.XLOOKUP($M$5,Startliste!$A$15:$A$60,Startliste!$G$15:$G$60,\"\"))","v":""},null,"Start-Nr."]
[null,"Geburtsdatum",{"$f":"IF(_xlfn.XLOOKUP(M5,Startliste!$A$15:$A$60,Startliste!$C$15:$C$60)=\"\",\"\",_xlfn.XLOOKUP($M$5,Startliste!$A$15:$A$60,Startliste!$E$15:$E$60,\"\"))","v":""},null,"Sektion",{"$f":"IF(_xlfn.XLOOKUP(M5,Startliste!$A$15:$A$60,Startliste!$C$15:$C$60)=\"\",\"\",_xlfn.XLOOKUP($M$5,Startliste!$A$15:$A$60,Startliste!$F$15:$F$60,\"\"))","v":""},null,null,null,"Kat.",{"$f":"IF(_xlfn.XLOOKUP(M5,Startliste!$A$15:$A$60,Startliste!$C$15:$C$60)=\"\",\"\",_xlfn.XLOOKUP($M$5,Startliste!$A$15:$A$60,Startliste!$I$15:$I$60,\"\"))","v":""},null,{"$f":"_xlfn.NUMBERVALUE(MID(CELL(\"dateiname\",A1),FIND(\"]\",CELL(\"dateiname\",A1))+1,255))","v":37}]
[]
[null,null,null,"Keine Mouchen erfassen, nur Werte zwischen 1-10"]
["Passen","Scheiben-Nr. ",null,"Schüsse",null,null,null,null,null,null,null,null,null,null,"Total"]
[null,"Von","Bis",1,2,3,4,5,6,7,8,9,10]
["1 - 10",null,{"$f":"IF(B10=\"\",\"\",B10+9)","v":""},null,null,null,null,null,null,null,null,null,null,null,{"$f":"SUM(D10:M10)+AA10","v":0},null,{"$f":"IF(D10=\"M\",10)","v":false},{"$f":"IF(E10=\"M\",10)","v":false},false,false,false,false,false,false,false,false,{"$f":"SUM(Q10:Z10)","v":0}]
["11 - 20",null,{"$f":"IF(B11=\"\",\"\",B11+9)","v":""},null,null,null,null,null,null,null,null,null,null,null,{"$f":"SUM(D11:M11)+AA11","v":0},null,{"$f":"IF(D11=\"M\",10)","v":false},{"$f":"IF(E11=\"M\",10)","v":false},false,false,false,false,false,false,false,false,{"$f":"SUM(Q11:Z11)","v":0}]
["21 - 30",null,{"$f":"IF(B12=\"\",\"\",B12+9)","v":""},null,null,null,null,null,null,null,null,null,null,null,{"$f":"SUM(D12:M12)+AA12","v":0},null,{"$f":"IF(D12=\"M\",10)","v":false},{"$f":"IF(E12=\"M\",10)","v":false},false,false,false,false,false,false,false,false,{"$f":"SUM(Q12:Z12)","v":0}]
[null,null,"21 - 40",null,null,null,null,null,null,null,null,null,null,8,{"$f":"SUM(D13:M13)+AA13","v":0},null,{"$f":"IF(D13=\"M\",10)","v":false},{"$f":"IF(E13=\"M\",10)","v":false},{"$f":"IF(F13=\"M\",10)","v":false},{"$f":"IF(G13=\"M\",10)","v":false},{"$f":"IF(H13=\"M\",10)","v":false},{"$f":"IF(I13=\"M\",10)","v":false},{"$f":"IF(J13=\"M\",10)","v":false},{"$f":"IF(K13=\"M\",10)","v":false},{"$f":"IF(L13=\"M\",10)","v":false},{"$f":"IF(M13=\"M\",10)","v":false},{"$f":"SUM(Q13:Z13)","v":0}]
[null,null,null,null,null,null,null,null,null,null,null,"Resultat",null,null,{"$f":"SUM(O10:O13)","v":0}]
[]
[null,null,"Wert",10,9,8,7,6,5,4,3,2,1]
[null,null,"Anzahl",{"$f":"COUNTIF($D10:$M13,\"10\")+O18","v":0},{"$f":"COUNTIF($D10:$M13,\"9\")","v":0},{"$f":"COUNTIF($D10:$M13,\"8\")","v":0},{"$f":"COUNTIF($D10:$M13,\"7\")","v":0},{"$f":"COUNTIF($D10:$M13,\"6\")","v":0},{"$f":"COUNTIF($D10:$M13,\"5\")","v":0},{"$f":"COUNTIF($D10:$M13,\"4\")","v":0},{"$f":"COUNTIF($D10:$M13,\"3\")","v":0},{"$f":"COUNTIF($D10:$M13,\"2\")","v":0},{"$f":"COUNTIF($D10:$M13,\"1\")","v":0}]

{"sheet":"38","index":38,"n_rows":17,"n_cols":27,"rows_kept":17,"cut":false,"hidden":true,"merged":[[7,0,8,0],[7,14,8,14],[13,11,13,12],[4,2,4,3],[0,11,0,12],[0,5,0,10],[4,5,4,8],[7,1,7,2],[7,3,7,12]]}
[null,null,{"$f":"Startliste!D1","v":"Qualifikation"},null,null,{"$f":"Startliste!D2","v":"Meisterschaft der Veteranen"},null,null,null,null,null,{"$f":"Startliste!H2","v":"2025-12-31"}]
[null,null,"Lizenz-Nr.",{"$f":"IF(_xlfn.XLOOKUP($M$5,Startliste!$A$15:$A$60,Startliste!$B$15:$B$60)=\"\",\"\",_xlfn.XLOOKUP($M$5,Startliste!$A$15:$A$60,Startliste!$B$15:$B$60))","v":""},null,null,null,null,null,null,null,null,null,null,null,null,null,null,null,null,null,1]
[]
[null,"Name",{"$f":"IF(_xlfn.XLOOKUP(M5,Startliste!$A$15:$A$60,Startliste!$C$15:$C$60)=\"\",\"\",_xlfn.XLOOKUP($M$5,Startliste!$A$15:$A$60,Startliste!$C$15:$C$60,\"\"))","v":""},null,"Vorname",{"$f":"IF(_xlfn.XLOOKUP(M5,Startliste!$A$15:$A$60,Startliste!$C$15:$C$60)=\"\",\"\",_xlfn.XLOOKUP($M$5,Startliste!$A$15:$A$60,Startliste!$D$15:$D$60,\"\"))","v":""},null,null,null,"St.",{"$f":"IF(_xlfn.XLOOKUP(M5,Startliste!$A$15:$A$60,Startliste!$C$15:$C$60)=\"\",\"\",_xlfn.XLOOKUP($M$5,Startliste!$A$15:$A$60,Startliste!$G$15:$G$60,\"\"))","v":""},null,"Start-Nr."]
[null,"Geburtsdatum",{"$f":"IF(_xlfn.XLOOKUP(M5,Startliste!$A$15:$A$60,Startliste!$C$15:$C$60)=\"\",\"\",_xlfn.XLOOKUP($M$5,Startliste!$A$15:$A$60,Startliste!$E$15:$E$60,\"\"))","v":""},null,"Sektion",{"$f":"IF(_xlfn.XLOOKUP(M5,Startliste!$A$15:$A$60,Startliste!$C$15:$C$60)=\"\",\"\",_xlfn.XLOOKUP($M$5,Startliste!$A$15:$A$60,Startliste!$F$15:$F$60,\"\"))","v":""},null,null,null,"Kat.",{"$f":"IF(_xlfn.XLOOKUP(M5,Startliste!$A$15:$A$60,Startliste!$C$15:$C$60)=\"\",\"\",_xlfn.XLOOKUP($M$5,Startliste!$A$15:$A$60,Startliste!$I$15:$I$60,\"\"))","v":""},null,{"$f":"_xlfn.NUMBERVALUE(MID(CELL(\"dateiname\",A1),FIND(\"]\",CELL(\"dateiname\",A1))+1,255))","v":38}]
[]
[null,null,null,"Keine Mouchen erfassen, nur Werte zwischen 1-10"]
["Passen","Scheiben-Nr. ",null,"Schüsse",null,null,null,null,null,null,null,null,null,null,"Total"]
[null,"Von","Bis",1,2,3,4,5,6,7,8,9,10]
["1 - 10",null,{"$f":"IF(B10=\"\",\"\",B10+9)","v":""},null,null,null,null,null,null,null,null,null,null,null,{"$f":"SUM(D10:M10)+AA10","v":0},null,{"$f":"IF(D10=\"M\",10)","v":false},{"$f":"IF(E10=\"M\",10)","v":false},false,false,false,false,false,false,false,false,{"$f":"SUM(Q10:Z10)","v":0}]
["11 - 20",null,{"$f":"IF(B11=\"\",\"\",B11+9)","v":""},null,null,null,null,null,null,null,null,null,null,null,{"$f":"SUM(D11:M11)+AA11","v":0},null,{"$f":"IF(D11=\"M\",10)","v":false},{"$f":"IF(E11=\"M\",10)","v":false},false,false,false,false,false,false,false,false,{"$f":"SUM(Q11:Z11)","v":0}]
["21 - 30",null,{"$f":"IF(B12=\"\",\"\",B12+9)","v":""},null,null,null,null,null,null,null,null,null,null,null,{"$f":"SUM(D12:M12)+AA12","v":0},null,{"$f":"IF(D12=\"M\",10)","v":false},{"$f":"IF(E12=\"M\",10)","v":false},false,false,false,false,false,false,false,false,{"$f":"SUM(Q12:Z12)","v":0}]
[null,null,"21 - 40",null,null,null,null,null,null,null,null,null,null,8,{"$f":"SUM(D13:M13)+AA13","v":0},null,{"$f":"IF(D13=\"M\",10)","v":false},{"$f":"IF(E13=\"M\",10)","v":false},{"$f":"IF(F13=\"M\",10)","v":false},{"$f":"IF(G13=\"M\",10)","v":false},{"$f":"IF(H13=\"M\",10)","v":false},{"$f":"IF(I13=\"M\",10)","v":false},{"$f":"IF(J13=\"M\",10)","v":false},{"$f":"IF(K13=\"M\",10)","v":false},{"$f":"IF(L13=\"M\",10)","v":false},{"$f":"IF(M13=\"M\",10)","v":false},{"$f":"SUM(Q13:Z13)","v":0}]
[null,null,null,null,null,null,null,null,null,null,null,"Resultat",null,null,{"$f":"SUM(O10:O13)","v":0}]
[]
[null,null,"Wert",10,9,8,7,6,5,4,3,2,1]
[null,null,"Anzahl",{"$f":"COUNTIF($D10:$M13,\"10\")+O18","v":0},{"$f":"COUNTIF($D10:$M13,\"9\")","v":0},{"$f":"COUNTIF($D10:$M13,\"8\")","v":0},{"$f":"COUNTIF($D10:$M13,\"7\")","v":0},{"$f":"COUNTIF($D10:$M13,\"6\")","v":0},{"$f":"COUNTIF($D10:$M13,\"5\")","v":0},{"$f":"COUNTIF($D10:$M13,\"4\")","v":0},{"$f":"COUNTIF($D10:$M13,\"3\")","v":0},{"$f":"COUNTIF($D10:$M13,\"2\")","v":0},{"$f":"COUNTIF($D10:$M13,\"1\")","v":0}]

{"sheet":"39","index":39,"n_rows":17,"n_cols":27,"rows_kept":17,"cut":false,"hidden":true,"merged":[[7,0,8,0],[7,14,8,14],[13,11,13,12],[4,2,4,3],[0,11,0,12],[0,5,0,10],[4,5,4,8],[7,1,7,2],[7,3,7,12]]}
[null,null,{"$f":"Startliste!D1","v":"Qualifikation"},null,null,{"$f":"Startliste!D2","v":"Meisterschaft der Veteranen"},null,null,null,null,null,{"$f":"Startliste!H2","v":"2025-12-31"}]
[null,null,"Lizenz-Nr.",{"$f":"IF(_xlfn.XLOOKUP($M$5,Startliste!$A$15:$A$60,Startliste!$B$15:$B$60)=\"\",\"\",_xlfn.XLOOKUP($M$5,Startliste!$A$15:$A$60,Startliste!$B$15:$B$60))","v":""},null,null,null,null,null,null,null,null,null,null,null,null,null,null,null,null,null,1]
[]
[null,"Name",{"$f":"IF(_xlfn.XLOOKUP(M5,Startliste!$A$15:$A$60,Startliste!$C$15:$C$60)=\"\",\"\",_xlfn.XLOOKUP($M$5,Startliste!$A$15:$A$60,Startliste!$C$15:$C$60,\"\"))","v":""},null,"Vorname",{"$f":"IF(_xlfn.XLOOKUP(M5,Startliste!$A$15:$A$60,Startliste!$C$15:$C$60)=\"\",\"\",_xlfn.XLOOKUP($M$5,Startliste!$A$15:$A$60,Startliste!$D$15:$D$60,\"\"))","v":""},null,null,null,"St.",{"$f":"IF(_xlfn.XLOOKUP(M5,Startliste!$A$15:$A$60,Startliste!$C$15:$C$60)=\"\",\"\",_xlfn.XLOOKUP($M$5,Startliste!$A$15:$A$60,Startliste!$G$15:$G$60,\"\"))","v":""},null,"Start-Nr."]
[null,"Geburtsdatum",{"$f":"IF(_xlfn.XLOOKUP(M5,Startliste!$A$15:$A$60,Startliste!$C$15:$C$60)=\"\",\"\",_xlfn.XLOOKUP($M$5,Startliste!$A$15:$A$60,Startliste!$E$15:$E$60,\"\"))","v":""},null,"Sektion",{"$f":"IF(_xlfn.XLOOKUP(M5,Startliste!$A$15:$A$60,Startliste!$C$15:$C$60)=\"\",\"\",_xlfn.XLOOKUP($M$5,Startliste!$A$15:$A$60,Startliste!$F$15:$F$60,\"\"))","v":""},null,null,null,"Kat.",{"$f":"IF(_xlfn.XLOOKUP(M5,Startliste!$A$15:$A$60,Startliste!$C$15:$C$60)=\"\",\"\",_xlfn.XLOOKUP($M$5,Startliste!$A$15:$A$60,Startliste!$I$15:$I$60,\"\"))","v":""},null,{"$f":"_xlfn.NUMBERVALUE(MID(CELL(\"dateiname\",A1),FIND(\"]\",CELL(\"dateiname\",A1))+1,255))","v":39}]
[]
[null,null,null,"Keine Mouchen erfassen, nur Werte zwischen 1-10"]
["Passen","Scheiben-Nr. ",null,"Schüsse",null,null,null,null,null,null,null,null,null,null,"Total"]
[null,"Von","Bis",1,2,3,4,5,6,7,8,9,10]
["1 - 10",null,{"$f":"IF(B10=\"\",\"\",B10+9)","v":""},null,null,null,null,null,null,null,null,null,null,null,{"$f":"SUM(D10:M10)+AA10","v":0},null,{"$f":"IF(D10=\"M\",10)","v":false},{"$f":"IF(E10=\"M\",10)","v":false},false,false,false,false,false,false,false,false,{"$f":"SUM(Q10:Z10)","v":0}]
["11 - 20",null,{"$f":"IF(B11=\"\",\"\",B11+9)","v":""},null,null,null,null,null,null,null,null,null,null,null,{"$f":"SUM(D11:M11)+AA11","v":0},null,{"$f":"IF(D11=\"M\",10)","v":false},{"$f":"IF(E11=\"M\",10)","v":false},false,false,false,false,false,false,false,false,{"$f":"SUM(Q11:Z11)","v":0}]
["21 - 30",null,{"$f":"IF(B12=\"\",\"\",B12+9)","v":""},null,null,null,null,null,null,null,null,null,null,null,{"$f":"SUM(D12:M12)+AA12","v":0},null,{"$f":"IF(D12=\"M\",10)","v":false},{"$f":"IF(E12=\"M\",10)","v":false},false,false,false,false,false,false,false,false,{"$f":"SUM(Q12:Z12)","v":0}]
[null,null,"21 - 40",null,null,null,null,null,null,null,null,null,null,8,{"$f":"SUM(D13:M13)+AA13","v":0},null,{"$f":"IF(D13=\"M\",10)","v":false},{"$f":"IF(E13=\"M\",10)","v":false},{"$f":"IF(F13=\"M\",10)","v":false},{"$f":"IF(G13=\"M\",10)","v":false},{"$f":"IF(H13=\"M\",10)","v":false},{"$f":"IF(I13=\"M\",10)","v":false},{"$f":"IF(J13=\"M\",10)","v":false},{"$f":"IF(K13=\"M\",10)","v":false},{"$f":"IF(L13=\"M\",10)","v":false},{"$f":"IF(M13=\"M\",10)","v":false},{"$f":"SUM(Q13:Z13)","v":0}]
[null,null,null,null,null,null,null,null,null,null,null,"Resultat",null,null,{"$f":"SUM(O10:O13)","v":0}]
[]
[null,null,"Wert",10,9,8,7,6,5,4,3,2,1]
[null,null,"Anzahl",{"$f":"COUNTIF($D10:$M13,\"10\")+O18","v":0},{"$f":"COUNTIF($D10:$M13,\"9\")","v":0},{"$f":"COUNTIF($D10:$M13,\"8\")","v":0},{"$f":"COUNTIF($D10:$M13,\"7\")","v":0},{"$f":"COUNTIF($D10:$M13,\"6\")","v":0},{"$f":"COUNTIF($D10:$M13,\"5\")","v":0},{"$f":"COUNTIF($D10:$M13,\"4\")","v":0},{"$f":"COUNTIF($D10:$M13,\"3\")","v":0},{"$f":"COUNTIF($D10:$M13,\"2\")","v":0},{"$f":"COUNTIF($D10:$M13,\"1\")","v":0}]

{"sheet":"40","index":40,"n_rows":17,"n_cols":27,"rows_kept":17,"cut":false,"hidden":true,"merged":[[7,0,8,0],[7,14,8,14],[13,11,13,12],[4,2,4,3],[0,11,0,12],[0,5,0,10],[4,5,4,8],[7,1,7,2],[7,3,7,12]]}
[null,null,{"$f":"Startliste!D1","v":"Qualifikation"},null,null,{"$f":"Startliste!D2","v":"Meisterschaft der Veteranen"},null,null,null,null,null,{"$f":"Startliste!H2","v":"2025-12-31"}]
[null,null,"Lizenz-Nr.",{"$f":"IF(_xlfn.XLOOKUP($M$5,Startliste!$A$15:$A$60,Startliste!$B$15:$B$60)=\"\",\"\",_xlfn.XLOOKUP($M$5,Startliste!$A$15:$A$60,Startliste!$B$15:$B$60))","v":""},null,null,null,null,null,null,null,null,null,null,null,null,null,null,null,null,null,1]
[]
[null,"Name",{"$f":"IF(_xlfn.XLOOKUP(M5,Startliste!$A$15:$A$60,Startliste!$C$15:$C$60)=\"\",\"\",_xlfn.XLOOKUP($M$5,Startliste!$A$15:$A$60,Startliste!$C$15:$C$60,\"\"))","v":""},null,"Vorname",{"$f":"IF(_xlfn.XLOOKUP(M5,Startliste!$A$15:$A$60,Startliste!$C$15:$C$60)=\"\",\"\",_xlfn.XLOOKUP($M$5,Startliste!$A$15:$A$60,Startliste!$D$15:$D$60,\"\"))","v":""},null,null,null,"St.",{"$f":"IF(_xlfn.XLOOKUP(M5,Startliste!$A$15:$A$60,Startliste!$C$15:$C$60)=\"\",\"\",_xlfn.XLOOKUP($M$5,Startliste!$A$15:$A$60,Startliste!$G$15:$G$60,\"\"))","v":""},null,"Start-Nr."]
[null,"Geburtsdatum",{"$f":"IF(_xlfn.XLOOKUP(M5,Startliste!$A$15:$A$60,Startliste!$C$15:$C$60)=\"\",\"\",_xlfn.XLOOKUP($M$5,Startliste!$A$15:$A$60,Startliste!$E$15:$E$60,\"\"))","v":""},null,"Sektion",{"$f":"IF(_xlfn.XLOOKUP(M5,Startliste!$A$15:$A$60,Startliste!$C$15:$C$60)=\"\",\"\",_xlfn.XLOOKUP($M$5,Startliste!$A$15:$A$60,Startliste!$F$15:$F$60,\"\"))","v":""},null,null,null,"Kat.",{"$f":"IF(_xlfn.XLOOKUP(M5,Startliste!$A$15:$A$60,Startliste!$C$15:$C$60)=\"\",\"\",_xlfn.XLOOKUP($M$5,Startliste!$A$15:$A$60,Startliste!$I$15:$I$60,\"\"))","v":""},null,{"$f":"_xlfn.NUMBERVALUE(MID(CELL(\"dateiname\",A1),FIND(\"]\",CELL(\"dateiname\",A1))+1,255))","v":40}]
[]
[null,null,null,"Keine Mouchen erfassen, nur Werte zwischen 1-10"]
["Passen","Scheiben-Nr. ",null,"Schüsse",null,null,null,null,null,null,null,null,null,null,"Total"]
[null,"Von","Bis",1,2,3,4,5,6,7,8,9,10]
["1 - 10",null,{"$f":"IF(B10=\"\",\"\",B10+9)","v":""},null,null,null,null,null,null,null,null,null,null,null,{"$f":"SUM(D10:M10)+AA10","v":0},null,{"$f":"IF(D10=\"M\",10)","v":false},{"$f":"IF(E10=\"M\",10)","v":false},false,false,false,false,false,false,false,false,{"$f":"SUM(Q10:Z10)","v":0}]
["11 - 20",null,{"$f":"IF(B11=\"\",\"\",B11+9)","v":""},null,null,null,null,null,null,null,null,null,null,null,{"$f":"SUM(D11:M11)+AA11","v":0},null,{"$f":"IF(D11=\"M\",10)","v":false},{"$f":"IF(E11=\"M\",10)","v":false},false,false,false,false,false,false,false,false,{"$f":"SUM(Q11:Z11)","v":0}]
["21 - 30",null,{"$f":"IF(B12=\"\",\"\",B12+9)","v":""},null,null,null,null,null,null,null,null,null,null,null,{"$f":"SUM(D12:M12)+AA12","v":0},null,{"$f":"IF(D12=\"M\",10)","v":false},{"$f":"IF(E12=\"M\",10)","v":false},false,false,false,false,false,false,false,false,{"$f":"SUM(Q12:Z12)","v":0}]
[null,null,"21 - 40",null,null,null,null,null,null,null,null,null,null,8,{"$f":"SUM(D13:M13)+AA13","v":0},null,{"$f":"IF(D13=\"M\",10)","v":false},{"$f":"IF(E13=\"M\",10)","v":false},{"$f":"IF(F13=\"M\",10)","v":false},{"$f":"IF(G13=\"M\",10)","v":false},{"$f":"IF(H13=\"M\",10)","v":false},{"$f":"IF(I13=\"M\",10)","v":false},{"$f":"IF(J13=\"M\",10)","v":false},{"$f":"IF(K13=\"M\",10)","v":false},{"$f":"IF(L13=\"M\",10)","v":false},{"$f":"IF(M13=\"M\",10)","v":false},{"$f":"SUM(Q13:Z13)","v":0}]
[null,null,null,null,null,null,null,null,null,null,null,"Resultat",null,null,{"$f":"SUM(O10:O13)","v":0}]
[]
[null,null,"Wert",10,9,8,7,6,5,4,3,2,1]
[null,null,"Anzahl",{"$f":"COUNTIF($D10:$M13,\"10\")+O18","v":0},{"$f":"COUNTIF($D10:$M13,\"9\")","v":0},{"$f":"COUNTIF($D10:$M13,\"8\")","v":0},{"$f":"COUNTIF($D10:$M13,\"7\")","v":0},{"$f":"COUNTIF($D10:$M13,\"6\")","v":0},{"$f":"COUNTIF($D10:$M13,\"5\")","v":0},{"$f":"COUNTIF($D10:$M13,\"4\")","v":0},{"$f":"COUNTIF($D10:$M13,\"3\")","v":0},{"$f":"COUNTIF($D10:$M13,\"2\")","v":0},{"$f":"COUNTIF($D10:$M13,\"1\")","v":0}]

{"sheet":"Resultate","index":41,"n_rows":45,"n_cols":32,"rows_kept":45,"cut":false,"hidden":false,"merged":[[1,8,1,9],[3,26,3,31],[4,26,4,27],[4,28,4,29],[4,30,4,31]]}
[null,null,null,{"$f":"Startliste!D1","v":"Qualifikation"}]
[null,null,null,{"$f":"Startliste!D2","v":"Meisterschaft der Veteranen"},null,null,null,null,{"$f":"Startliste!H2","v":"2025-12-31"}]
[null,null,null,"Resultate alle Kategorien",null,null,null,null,null,null,null,null,null,null,null,null,null,null,null,null,null,null,null,null,null,null,"Wenn Feld",null,"= Scheibennummern nicht fortlaufend!"]
[null,null,null,null,null,null,null,null,null,null,null,null,null,null,null,null,null,null,null,null,null,null,null,null,null,null,"Scheibennummern"]
["Schütze-Nr.","Lizenz-Nr.","Name","Vorname","Geburtstag","Sektion","St.","Kat.","Resultat",null,"Schuss\n1 - 10","Schuss\n11 - 20","Schuss\n21- 30","Schuss\n31 - 40",null,10,9,8,7,6,5,4,3,2,1,"M","1 - 10",null,"11 - 20",null,"11 - 30"]
[{"$f":"'1'!M$5","v":1},{"$f":"_xlfn.XLOOKUP(A6,Startliste!A:A,Startliste!B:B,\"\")","v":0},{"$f":"_xlfn.XLOOKUP(A6,Startliste!A:A,Startliste!C:C,\"\")","v":0},{"$f":"_xlfn.XLOOKUP(A6,Startliste!A:A,Startliste!D:D,\"\")","v":0},{"$f":"_xlfn.XLOOKUP(A6,Startliste!A:A,Startliste!E:E,\"\")","v":"00:00:00"},{"$f":"_xlfn.XLOOKUP(A6,Startliste!A:A,Startliste!F:F,\"\")","v":0},{"$f":"_xlfn.XLOOKUP(A6,Startliste!A:A,Startliste!G:G,\"\")","v":0},{"$f":"_xlfn.XLOOKUP(A6,Startliste!A:A,Startliste!I:I,\"\")","v":0},{"$f":"'1'!$O$14","v":0},null,{"$f":"'1'!O$10","v":0},{"$f":"'1'!O$11","v":0},{"$f":"'1'!O$12","v":0},{"$f":"'1'!O$13","v":0},null,{"$f":"'1'!D$17","v":0},{"$f":"'1'!E$17","v":0},{"$f":"'1'!F$17","v":0},{"$f":"'1'!G$17","v":0},{"$f":"'1'!H$17","v":0},{"$f":"'1'!I$17","v":0},{"$f":"'1'!J$17","v":0},{"$f":"'1'!K$17","v":0},{"$f":"'1'!L$17","v":0},{"$f":"'1'!M$17","v":0},{"$f":"'1'!O$18","v":0},{"$f":"'1'!B$10","v":0},{"$f":"'1'!C$10","v":""},{"$f":"'1'!B$11","v":0},{"$f":"'1'!C$11","v":""},{"$f":"'1'!B$12","v":0},{"$f":"'1'!C$12","v":""}]
[{"$f":"'2'!M$5","v":2},{"$f":"_xlfn.XLOOKUP(A7,Startliste!A:A,Startliste!B:B,\"\")","v":0},{"$f":"_xlfn.XLOOKUP(A7,Startliste!A:A,Startliste!C:C,\"\")","v":0},{"$f":"_xlfn.XLOOKUP(A7,Startliste!A:A,Startliste!D:D,\"\")","v":0},{"$f":"_xlfn.XLOOKUP(A7,Startliste!A:A,Startliste!E:E,\"\")","v":"00:00:00"},{"$f":"_xlfn.XLOOKUP(A7,Startliste!A:A,Startliste!F:F,\"\")","v":0},{"$f":"_xlfn.XLOOKUP(A7,Startliste!A:A,Startliste!G:G,\"\")","v":0},{"$f":"_xlfn.XLOOKUP(A7,Startliste!A:A,Startliste!I:I,\"\")","v":0},{"$f":"'2'!$O$14","v":0},null,{"$f":"'2'!O$10","v":0},{"$f":"'2'!O$11","v":0},{"$f":"'2'!O$12","v":0},{"$f":"'2'!O$13","v":0},null,{"$f":"'2'!D$17","v":0},{"$f":"'2'!E$17","v":0},{"$f":"'2'!F$17","v":0},{"$f":"'2'!G$17","v":0},{"$f":"'2'!H$17","v":0},{"$f":"'2'!I$17","v":0},{"$f":"'2'!J$17","v":0},{"$f":"'2'!K$17","v":0},{"$f":"'2'!L$17","v":0},{"$f":"'2'!M$17","v":0},{"$f":"'2'!O$18","v":0},{"$f":"'2'!B$10","v":0},{"$f":"'2'!C$10","v":""},{"$f":"'2'!B$11","v":0},{"$f":"'2'!C$11","v":""},{"$f":"'2'!B$12","v":0},{"$f":"'2'!C$12","v":""}]
[{"$f":"'3'!M$5","v":3},{"$f":"_xlfn.XLOOKUP(A8,Startliste!A:A,Startliste!B:B,\"\")","v":0},{"$f":"_xlfn.XLOOKUP(A8,Startliste!A:A,Startliste!C:C,\"\")","v":0},{"$f":"_xlfn.XLOOKUP(A8,Startliste!A:A,Startliste!D:D,\"\")","v":0},{"$f":"_xlfn.XLOOKUP(A8,Startliste!A:A,Startliste!E:E,\"\")","v":"00:00:00"},{"$f":"_xlfn.XLOOKUP(A8,Startliste!A:A,Startliste!F:F,\"\")","v":0},{"$f":"_xlfn.XLOOKUP(A8,Startliste!A:A,Startliste!G:G,\"\")","v":0},{"$f":"_xlfn.XLOOKUP(A8,Startliste!A:A,Startliste!I:I,\"\")","v":0},{"$f":"'3'!$O$14","v":0},null,{"$f":"'3'!O$10","v":0},{"$f":"'3'!O$11","v":0},{"$f":"'3'!O$12","v":0},{"$f":"'3'!O$13","v":0},null,{"$f":"'3'!D$17","v":0},{"$f":"'3'!E$17","v":0},{"$f":"'3'!F$17","v":0},{"$f":"'3'!G$17","v":0},{"$f":"'3'!H$17","v":0},{"$f":"'3'!I$17","v":0},{"$f":"'3'!J$17","v":0},{"$f":"'3'!K$17","v":0},{"$f":"'3'!L$17","v":0},{"$f":"'3'!M$17","v":0},{"$f":"'3'!O$18","v":0},{"$f":"'3'!B$10","v":0},{"$f":"'3'!C$10","v":""},{"$f":"'3'!B$11","v":0},{"$f":"'3'!C$11","v":""},{"$f":"'3'!B$12","v":0},{"$f":"'3'!C$12","v":""}]
[{"$f":"'4'!M$5","v":4},{"$f":"_xlfn.XLOOKUP(A9,Startliste!A:A,Startliste!B:B,\"\")","v":0},{"$f":"_xlfn.XLOOKUP(A9,Startliste!A:A,Startliste!C:C,\"\")","v":0},{"$f":"_xlfn.XLOOKUP(A9,Startliste!A:A,Startliste!D:D,\"\")","v":0},{"$f":"_xlfn.XLOOKUP(A9,Startliste!A:A,Startliste!E:E,\"\")","v":"00:00:00"},{"$f":"_xlfn.XLOOKUP(A9,Startliste!A:A,Startliste!F:F,\"\")","v":0},{"$f":"_xlfn.XLOOKUP(A9,Startliste!A:A,Startliste!G:G,\"\")","v":0},{"$f":"_xlfn.XLOOKUP(A9,Startliste!A:A,Startliste!I:I,\"\")","v":0},{"$f":"'4'!$O$14","v":0},null,{"$f":"'4'!O$10","v":0},{"$f":"'4'!O$11","v":0},{"$f":"'4'!O$12","v":0},{"$f":"'4'!O$13","v":0},null,{"$f":"'4'!D$17","v":0},{"$f":"'4'!E$17","v":0},{"$f":"'4'!F$17","v":0},{"$f":"'4'!G$17","v":0},{"$f":"'4'!H$17","v":0},{"$f":"'4'!I$17","v":0},{"$f":"'4'!J$17","v":0},{"$f":"'4'!K$17","v":0},{"$f":"'4'!L$17","v":0},{"$f":"'4'!M$17","v":0},{"$f":"'4'!O$18","v":0},{"$f":"'4'!B$10","v":0},{"$f":"'4'!C$10","v":""},{"$f":"'4'!B$11","v":0},{"$f":"'4'!C$11","v":""},{"$f":"'4'!B$12","v":0},{"$f":"'4'!C$12","v":""}]
[{"$f":"'5'!M$5","v":5},{"$f":"_xlfn.XLOOKUP(A10,Startliste!A:A,Startliste!B:B,\"\")","v":0},{"$f":"_xlfn.XLOOKUP(A10,Startliste!A:A,Startliste!C:C,\"\")","v":0},{"$f":"_xlfn.XLOOKUP(A10,Startliste!A:A,Startliste!D:D,\"\")","v":0},{"$f":"_xlfn.XLOOKUP(A10,Startliste!A:A,Startliste!E:E,\"\")","v":"00:00:00"},{"$f":"_xlfn.XLOOKUP(A10,Startliste!A:A,Startliste!F:F,\"\")","v":0},{"$f":"_xlfn.XLOOKUP(A10,Startliste!A:A,Startliste!G:G,\"\")","v":0},{"$f":"_xlfn.XLOOKUP(A10,Startliste!A:A,Startliste!I:I,\"\")","v":0},{"$f":"'5'!$O$14","v":0},null,{"$f":"'5'!O$10","v":0},{"$f":"'5'!O$11","v":0},{"$f":"'5'!O$12","v":0},{"$f":"'5'!O$13","v":0},null,{"$f":"'5'!D$17","v":0},{"$f":"'5'!E$17","v":0},{"$f":"'5'!F$17","v":0},{"$f":"'5'!G$17","v":0},{"$f":"'5'!H$17","v":0},{"$f":"'5'!I$17","v":0},{"$f":"'5'!J$17","v":0},{"$f":"'5'!K$17","v":0},{"$f":"'5'!L$17","v":0},{"$f":"'5'!M$17","v":0},{"$f":"'5'!O$18","v":0},{"$f":"'5'!B$10","v":0},{"$f":"'5'!C$10","v":""},{"$f":"'5'!B$11","v":0},{"$f":"'5'!C$11","v":""},{"$f":"'5'!B$12","v":0},{"$f":"'5'!C$12","v":""}]
[{"$f":"'6'!M$5","v":6},{"$f":"_xlfn.XLOOKUP(A11,Startliste!A:A,Startliste!B:B,\"\")","v":0},{"$f":"_xlfn.XLOOKUP(A11,Startliste!A:A,Startliste!C:C,\"\")","v":0},{"$f":"_xlfn.XLOOKUP(A11,Startliste!A:A,Startliste!D:D,\"\")","v":0},{"$f":"_xlfn.XLOOKUP(A11,Startliste!A:A,Startliste!E:E,\"\")","v":"00:00:00"},{"$f":"_xlfn.XLOOKUP(A11,Startliste!A:A,Startliste!F:F,\"\")","v":0},{"$f":"_xlfn.XLOOKUP(A11,Startliste!A:A,Startliste!G:G,\"\")","v":0},{"$f":"_xlfn.XLOOKUP(A11,Startliste!A:A,Startliste!I:I,\"\")","v":0},{"$f":"'6'!$O$14","v":0},null,{"$f":"'6'!O$10","v":0},{"$f":"'6'!O$11","v":0},{"$f":"'6'!O$12","v":0},{"$f":"'6'!O$13","v":0},null,{"$f":"'6'!D$17","v":0},{"$f":"'6'!E$17","v":0},{"$f":"'6'!F$17","v":0},{"$f":"'6'!G$17","v":0},{"$f":"'6'!H$17","v":0},{"$f":"'6'!I$17","v":0},{"$f":"'6'!J$17","v":0},{"$f":"'6'!K$17","v":0},{"$f":"'6'!L$17","v":0},{"$f":"'6'!M$17","v":0},{"$f":"'6'!O$18","v":0},{"$f":"'6'!B$10","v":0},{"$f":"'6'!C$10","v":""},{"$f":"'6'!B$11","v":0},{"$f":"'6'!C$11","v":""},{"$f":"'6'!B$12","v":0},{"$f":"'6'!C$12","v":""}]
[{"$f":"'7'!M$5","v":7},{"$f":"_xlfn.XLOOKUP(A12,Startliste!A:A,Startliste!B:B,\"\")","v":0},{"$f":"_xlfn.XLOOKUP(A12,Startliste!A:A,Startliste!C:C,\"\")","v":0},{"$f":"_xlfn.XLOOKUP(A12,Startliste!A:A,Startliste!D:D,\"\")","v":0},{"$f":"_xlfn.XLOOKUP(A12,Startliste!A:A,Startliste!E:E,\"\")","v":"00:00:00"},{"$f":"_xlfn.XLOOKUP(A12,Startliste!A:A,Startliste!F:F,\"\")","v":0},{"$f":"_xlfn.XLOOKUP(A12,Startliste!A:A,Startliste!G:G,\"\")","v":0},{"$f":"_xlfn.XLOOKUP(A12,Startliste!A:A,Startliste!I:I,\"\")","v":0},{"$f":"'7'!$O$14","v":0},null,{"$f":"'7'!O$10","v":0},{"$f":"'7'!O$11","v":0},{"$f":"'7'!O$12","v":0},{"$f":"'7'!O$13","v":0},null,{"$f":"'7'!D$17","v":0},{"$f":"'7'!E$17","v":0},{"$f":"'7'!F$17","v":0},{"$f":"'7'!G$17","v":0},{"$f":"'7'!H$17","v":0},{"$f":"'7'!I$17","v":0},{"$f":"'7'!J$17","v":0},{"$f":"'7'!K$17","v":0},{"$f":"'7'!L$17","v":0},{"$f":"'7'!M$17","v":0},{"$f":"'7'!O$18","v":0},{"$f":"'7'!B$10","v":0},{"$f":"'7'!C$10","v":""},{"$f":"'7'!B$11","v":0},{"$f":"'7'!C$11","v":""},{"$f":"'7'!B$12","v":0},{"$f":"'7'!C$12","v":""}]
[{"$f":"'8'!M$5","v":8},{"$f":"_xlfn.XLOOKUP(A13,Startliste!A:A,Startliste!B:B,\"\")","v":0},{"$f":"_xlfn.XLOOKUP(A13,Startliste!A:A,Startliste!C:C,\"\")","v":0},{"$f":"_xlfn.XLOOKUP(A13,Startliste!A:A,Startliste!D:D,\"\")","v":0},{"$f":"_xlfn.XLOOKUP(A13,Startliste!A:A,Startliste!E:E,\"\")","v":"00:00:00"},{"$f":"_xlfn.XLOOKUP(A13,Startliste!A:A,Startliste!F:F,\"\")","v":0},{"$f":"_xlfn.XLOOKUP(A13,Startliste!A:A,Startliste!G:G,\"\")","v":0},{"$f":"_xlfn.XLOOKUP(A13,Startliste!A:A,Startliste!I:I,\"\")","v":0},{"$f":"'8'!$O$14","v":0},null,{"$f":"'8'!O$10","v":0},{"$f":"'8'!O$11","v":0},{"$f":"'8'!O$12","v":0},{"$f":"'8'!O$13","v":0},null,{"$f":"'8'!D$17","v":0},{"$f":"'8'!E$17","v":0},{"$f":"'8'!F$17","v":0},{"$f":"'8'!G$17","v":0},{"$f":"'8'!H$17","v":0},{"$f":"'8'!I$17","v":0},{"$f":"'8'!J$17","v":0},{"$f":"'8'!K$17","v":0},{"$f":"'8'!L$17","v":0},{"$f":"'8'!M$17","v":0},{"$f":"'8'!O$18","v":0},{"$f":"'8'!B$10","v":0},{"$f":"'8'!C$10","v":""},{"$f":"'8'!B$11","v":0},{"$f":"'8'!C$11","v":""},{"$f":"'8'!B$12","v":0},{"$f":"'8'!C$12","v":""}]
[{"$f":"'9'!M$5","v":9},{"$f":"_xlfn.XLOOKUP(A14,Startliste!A:A,Startliste!B:B,\"\")","v":0},{"$f":"_xlfn.XLOOKUP(A14,Startliste!A:A,Startliste!C:C,\"\")","v":0},{"$f":"_xlfn.XLOOKUP(A14,Startliste!A:A,Startliste!D:D,\"\")","v":0},{"$f":"_xlfn.XLOOKUP(A14,Startliste!A:A,Startliste!E:E,\"\")","v":"00:00:00"},{"$f":"_xlfn.XLOOKUP(A14,Startliste!A:A,Startliste!F:F,\"\")","v":0},{"$f":"_xlfn.XLOOKUP(A14,Startliste!A:A,Startliste!G:G,\"\")","v":0},{"$f":"_xlfn.XLOOKUP(A14,Startliste!A:A,Startliste!I:I,\"\")","v":0},{"$f":"'9'!$O$14","v":0},null,{"$f":"'9'!O$10","v":0},{"$f":"'9'!O$11","v":0},{"$f":"'9'!O$12","v":0},{"$f":"'9'!O$13","v":0},null,{"$f":"'9'!D$17","v":0},{"$f":"'9'!E$17","v":0},{"$f":"'9'!F$17","v":0},{"$f":"'9'!G$17","v":0},{"$f":"'9'!H$17","v":0},{"$f":"'9'!I$17","v":0},{"$f":"'9'!J$17","v":0},{"$f":"'9'!K$17","v":0},{"$f":"'9'!L$17","v":0},{"$f":"'9'!M$17","v":0},{"$f":"'9'!O$18","v":0},{"$f":"'9'!B$10","v":0},{"$f":"'9'!C$10","v":""},{"$f":"'9'!B$11","v":0},{"$f":"'9'!C$11","v":""},{"$f":"'9'!B$12","v":0},{"$f":"'9'!C$12","v":""}]
[{"$f":"'10'!M$5","v":10},{"$f":"_xlfn.XLOOKUP(A15,Startliste!A:A,Startliste!B:B,\"\")","v":0},{"$f":"_xlfn.XLOOKUP(A15,Startliste!A:A,Startliste!C:C,\"\")","v":0},{"$f":"_xlfn.XLOOKUP(A15,Startliste!A:A,Startliste!D:D,\"\")","v":0},{"$f":"_xlfn.XLOOKUP(A15,Startliste!A:A,Startliste!E:E,\"\")","v":"00:00:00"},{"$f":"_xlfn.XLOOKUP(A15,Startliste!A:A,Startliste!F:F,\"\")","v":0},{"$f":"_xlfn.XLOOKUP(A15,Startliste!A:A,Startliste!G:G,\"\")","v":0},{"$f":"_xlfn.XLOOKUP(A15,Startliste!A:A,Startliste!I:I,\"\")","v":0},{"$f":"'10'!$O$14","v":0},null,{"$f":"'10'!O$10","v":0},{"$f":"'10'!O$11","v":0},{"$f":"'10'!O$12","v":0},{"$f":"'10'!O$13","v":0},null,{"$f":"'10'!D$17","v":0},{"$f":"'10'!E$17","v":0},{"$f":"'10'!F$17","v":0},{"$f":"'10'!G$17","v":0},{"$f":"'10'!H$17","v":0},{"$f":"'10'!I$17","v":0},{"$f":"'10'!J$17","v":0},{"$f":"'10'!K$17","v":0},{"$f":"'10'!L$17","v":0},{"$f":"'10'!M$17","v":0},{"$f":"'10'!O$18","v":0},{"$f":"'10'!B$10","v":0},{"$f":"'10'!C$10","v":""},{"$f":"'10'!B$11","v":0},{"$f":"'10'!C$11","v":""},{"$f":"'10'!B$12","v":0},{"$f":"'10'!C$12","v":""}]
[{"$f":"'11'!M$5","v":11},{"$f":"_xlfn.XLOOKUP(A16,Startliste!A:A,Startliste!B:B,\"\")","v":0},{"$f":"_xlfn.XLOOKUP(A16,Startliste!A:A,Startliste!C:C,\"\")","v":0},{"$f":"_xlfn.XLOOKUP(A16,Startliste!A:A,Startliste!D:D,\"\")","v":0},{"$f":"_xlfn.XLOOKUP(A16,Startliste!A:A,Startliste!E:E,\"\")","v":"00:00:00"},{"$f":"_xlfn.XLOOKUP(A16,Startliste!A:A,Startliste!F:F,\"\")","v":0},{"$f":"_xlfn.XLOOKUP(A16,Startliste!A:A,Startliste!G:G,\"\")","v":0},{"$f":"_xlfn.XLOOKUP(A16,Startliste!A:A,Startliste!I:I,\"\")","v":0},{"$f":"'11'!$O$14","v":0},null,{"$f":"'11'!O$10","v":0},{"$f":"'11'!O$11","v":0},{"$f":"'11'!O$12","v":0},{"$f":"'11'!O$13","v":0},null,{"$f":"'11'!D$17","v":0},{"$f":"'11'!E$17","v":0},{"$f":"'11'!F$17","v":0},{"$f":"'11'!G$17","v":0},{"$f":"'11'!H$17","v":0},{"$f":"'11'!I$17","v":0},{"$f":"'11'!J$17","v":0},{"$f":"'11'!K$17","v":0},{"$f":"'11'!L$17","v":0},{"$f":"'11'!M$17","v":0},{"$f":"'11'!O$18","v":0},{"$f":"'11'!B$10","v":0},{"$f":"'11'!C$10","v":""},{"$f":"'11'!B$11","v":0},{"$f":"'11'!C$11","v":""},{"$f":"'11'!B$12","v":0},{"$f":"'11'!C$12","v":""}]
[{"$f":"'12'!M$5","v":12},{"$f":"_xlfn.XLOOKUP(A17,Startliste!A:A,Startliste!B:B,\"\")","v":0},{"$f":"_xlfn.XLOOKUP(A17,Startliste!A:A,Startliste!C:C,\"\")","v":0},{"$f":"_xlfn.XLOOKUP(A17,Startliste!A:A,Startliste!D:D,\"\")","v":0},{"$f":"_xlfn.XLOOKUP(A17,Startliste!A:A,Startliste!E:E,\"\")","v":"00:00:00"},{"$f":"_xlfn.XLOOKUP(A17,Startliste!A:A,Startliste!F:F,\"\")","v":0},{"$f":"_xlfn.XLOOKUP(A17,Startliste!A:A,Startliste!G:G,\"\")","v":0},{"$f":"_xlfn.XLOOKUP(A17,Startliste!A:A,Startliste!I:I,\"\")","v":0},{"$f":"'12'!$O$14","v":0},null,{"$f":"'12'!O$10","v":0},{"$f":"'12'!O$11","v":0},{"$f":"'12'!O$12","v":0},{"$f":"'12'!O$13","v":0},null,{"$f":"'12'!D$17","v":0},{"$f":"'12'!E$17","v":0},{"$f":"'12'!F$17","v":0},{"$f":"'12'!G$17","v":0},{"$f":"'12'!H$17","v":0},{"$f":"'12'!I$17","v":0},{"$f":"'12'!J$17","v":0},{"$f":"'12'!K$17","v":0},{"$f":"'12'!L$17","v":0},{"$f":"'12'!M$17","v":0},{"$f":"'12'!O$18","v":0},{"$f":"'12'!B$10","v":0},{"$f":"'12'!C$10","v":""},{"$f":"'12'!B$11","v":0},{"$f":"'12'!C$11","v":""},{"$f":"'12'!B$12","v":0},{"$f":"'12'!C$12","v":""}]
[{"$f":"'13'!M$5","v":13},{"$f":"_xlfn.XLOOKUP(A18,Startliste!A:A,Startliste!B:B,\"\")","v":0},{"$f":"_xlfn.XLOOKUP(A18,Startliste!A:A,Startliste!C:C,\"\")","v":0},{"$f":"_xlfn.XLOOKUP(A18,Startliste!A:A,Startliste!D:D,\"\")","v":0},{"$f":"_xlfn.XLOOKUP(A18,Startliste!A:A,Startliste!E:E,\"\")","v":"00:00:00"},{"$f":"_xlfn.XLOOKUP(A18,Startliste!A:A,Startliste!F:F,\"\")","v":0},{"$f":"_xlfn.XLOOKUP(A18,Startliste!A:A,Startliste!G:G,\"\")","v":0},{"$f":"_xlfn.XLOOKUP(A18,Startliste!A:A,Startliste!I:I,\"\")","v":0},{"$f":"'13'!$O$14","v":0},null,{"$f":"'13'!O$10","v":0},{"$f":"'13'!O$11","v":0},{"$f":"'13'!O$12","v":0},{"$f":"'13'!O$13","v":0},null,{"$f":"'13'!D$17","v":0},{"$f":"'13'!E$17","v":0},{"$f":"'13'!F$17","v":0},{"$f":"'13'!G$17","v":0},{"$f":"'13'!H$17","v":0},{"$f":"'13'!I$17","v":0},{"$f":"'13'!J$17","v":0},{"$f":"'13'!K$17","v":0},{"$f":"'13'!L$17","v":0},{"$f":"'13'!M$17","v":0},{"$f":"'13'!O$18","v":0},{"$f":"'13'!B$10","v":0},{"$f":"'13'!C$10","v":""},{"$f":"'13'!B$11","v":0},{"$f":"'13'!C$11","v":""},{"$f":"'13'!B$12","v":0},{"$f":"'13'!C$12","v":""}]
[{"$f":"'14'!M$5","v":14},{"$f":"_xlfn.XLOOKUP(A19,Startliste!A:A,Startliste!B:B,\"\")","v":0},{"$f":"_xlfn.XLOOKUP(A19,Startliste!A:A,Startliste!C:C,\"\")","v":0},{"$f":"_xlfn.XLOOKUP(A19,Startliste!A:A,Startliste!D:D,\"\")","v":0},{"$f":"_xlfn.XLOOKUP(A19,Startliste!A:A,Startliste!E:E,\"\")","v":"00:00:00"},{"$f":"_xlfn.XLOOKUP(A19,Startliste!A:A,Startliste!F:F,\"\")","v":0},{"$f":"_xlfn.XLOOKUP(A19,Startliste!A:A,Startliste!G:G,\"\")","v":0},{"$f":"_xlfn.XLOOKUP(A19,Startliste!A:A,Startliste!I:I,\"\")","v":0},{"$f":"'14'!$O$14","v":0},null,{"$f":"'14'!O$10","v":0},{"$f":"'14'!O$11","v":0},{"$f":"'14'!O$12","v":0},{"$f":"'14'!O$13","v":0},null,{"$f":"'14'!D$17","v":0},{"$f":"'14'!E$17","v":0},{"$f":"'14'!F$17","v":0},{"$f":"'14'!G$17","v":0},{"$f":"'14'!H$17","v":0},{"$f":"'14'!I$17","v":0},{"$f":"'14'!J$17","v":0},{"$f":"'14'!K$17","v":0},{"$f":"'14'!L$17","v":0},{"$f":"'14'!M$17","v":0},{"$f":"'14'!O$18","v":0},{"$f":"'14'!B$10","v":0},{"$f":"'14'!C$10","v":""},{"$f":"'14'!B$11","v":0},{"$f":"'14'!C$11","v":""},{"$f":"'14'!B$12","v":0},{"$f":"'14'!C$12","v":""}]
[{"$f":"'15'!M$5","v":15},{"$f":"_xlfn.XLOOKUP(A20,Startliste!A:A,Startliste!B:B,\"\")","v":0},{"$f":"_xlfn.XLOOKUP(A20,Startliste!A:A,Startliste!C:C,\"\")","v":0},{"$f":"_xlfn.XLOOKUP(A20,Startliste!A:A,Startliste!D:D,\"\")","v":0},{"$f":"_xlfn.XLOOKUP(A20,Startliste!A:A,Startliste!E:E,\"\")","v":"00:00:00"},{"$f":"_xlfn.XLOOKUP(A20,Startliste!A:A,Startliste!F:F,\"\")","v":0},{"$f":"_xlfn.XLOOKUP(A20,Startliste!A:A,Startliste!G:G,\"\")","v":0},{"$f":"_xlfn.XLOOKUP(A20,Startliste!A:A,Startliste!I:I,\"\")","v":0},{"$f":"'15'!$O$14","v":0},null,{"$f":"'15'!O$10","v":0},{"$f":"'15'!O$11","v":0},{"$f":"'15'!O$12","v":0},{"$f":"'15'!O$13","v":0},null,{"$f":"'15'!D$17","v":0},{"$f":"'15'!E$17","v":0},{"$f":"'15'!F$17","v":0},{"$f":"'15'!G$17","v":0},{"$f":"'15'!H$17","v":0},{"$f":"'15'!I$17","v":0},{"$f":"'15'!J$17","v":0},{"$f":"'15'!K$17","v":0},{"$f":"'15'!L$17","v":0},{"$f":"'15'!M$17","v":0},{"$f":"'15'!O$18","v":0},{"$f":"'15'!B$10","v":0},{"$f":"'15'!C$10","v":""},{"$f":"'15'!B$11","v":0},{"$f":"'15'!C$11","v":""},{"$f":"'15'!B$12","v":0},{"$f":"'15'!C$12","v":""}]
[{"$f":"'16'!M$5","v":16},{"$f":"_xlfn.XLOOKUP(A21,Startliste!A:A,Startliste!B:B,\"\")","v":0},{"$f":"_xlfn.XLOOKUP(A21,Startliste!A:A,Startliste!C:C,\"\")","v":0},{"$f":"_xlfn.XLOOKUP(A21,Startliste!A:A,Startliste!D:D,\"\")","v":0},{"$f":"_xlfn.XLOOKUP(A21,Startliste!A:A,Startliste!E:E,\"\")","v":"00:00:00"},{"$f":"_xlfn.XLOOKUP(A21,Startliste!A:A,Startliste!F:F,\"\")","v":0},{"$f":"_xlfn.XLOOKUP(A21,Startliste!A:A,Startliste!G:G,\"\")","v":0},{"$f":"_xlfn.XLOOKUP(A21,Startliste!A:A,Startliste!I:I,\"\")","v":0},{"$f":"'16'!$O$14","v":0},null,{"$f":"'16'!O$10","v":0},{"$f":"'16'!O$11","v":0},{"$f":"'16'!O$12","v":0},{"$f":"'16'!O$13","v":0},null,{"$f":"'16'!D$17","v":0},{"$f":"'16'!E$17","v":0},{"$f":"'16'!F$17","v":0},{"$f":"'16'!G$17","v":0},{"$f":"'16'!H$17","v":0},{"$f":"'16'!I$17","v":0},{"$f":"'16'!J$17","v":0},{"$f":"'16'!K$17","v":0},{"$f":"'16'!L$17","v":0},{"$f":"'16'!M$17","v":0},{"$f":"'16'!O$18","v":0},{"$f":"'16'!B$10","v":0},{"$f":"'16'!C$10","v":""},{"$f":"'16'!B$11","v":0},{"$f":"'16'!C$11","v":""},{"$f":"'16'!B$12","v":0},{"$f":"'16'!C$12","v":""}]
[{"$f":"'17'!M$5","v":17},{"$f":"_xlfn.XLOOKUP(A22,Startliste!A:A,Startliste!B:B,\"\")","v":0},{"$f":"_xlfn.XLOOKUP(A22,Startliste!A:A,Startliste!C:C,\"\")","v":0},{"$f":"_xlfn.XLOOKUP(A22,Startliste!A:A,Startliste!D:D,\"\")","v":0},{"$f":"_xlfn.XLOOKUP(A22,Startliste!A:A,Startliste!E:E,\"\")","v":"00:00:00"},{"$f":"_xlfn.XLOOKUP(A22,Startliste!A:A,Startliste!F:F,\"\")","v":0},{"$f":"_xlfn.XLOOKUP(A22,Startliste!A:A,Startliste!G:G,\"\")","v":0},{"$f":"_xlfn.XLOOKUP(A22,Startliste!A:A,Startliste!I:I,\"\")","v":0},{"$f":"'17'!$O$14","v":0},null,{"$f":"'17'!O$10","v":0},{"$f":"'17'!O$11","v":0},{"$f":"'17'!O$12","v":0},{"$f":"'17'!O$13","v":0},null,{"$f":"'17'!D$17","v":0},{"$f":"'17'!E$17","v":0},{"$f":"'17'!F$17","v":0},{"$f":"'17'!G$17","v":0},{"$f":"'17'!H$17","v":0},{"$f":"'17'!I$17","v":0},{"$f":"'17'!J$17","v":0},{"$f":"'17'!K$17","v":0},{"$f":"'17'!L$17","v":0},{"$f":"'17'!M$17","v":0},{"$f":"'17'!O$18","v":0},{"$f":"'17'!B$10","v":0},{"$f":"'17'!C$10","v":""},{"$f":"'17'!B$11","v":0},{"$f":"'17'!C$11","v":""},{"$f":"'17'!B$12","v":0},{"$f":"'17'!C$12","v":""}]
[{"$f":"'18'!M$5","v":18},{"$f":"_xlfn.XLOOKUP(A23,Startliste!A:A,Startliste!B:B,\"\")","v":0},{"$f":"_xlfn.XLOOKUP(A23,Startliste!A:A,Startliste!C:C,\"\")","v":0},{"$f":"_xlfn.XLOOKUP(A23,Startliste!A:A,Startliste!D:D,\"\")","v":0},{"$f":"_xlfn.XLOOKUP(A23,Startliste!A:A,Startliste!E:E,\"\")","v":"00:00:00"},{"$f":"_xlfn.XLOOKUP(A23,Startliste!A:A,Startliste!F:F,\"\")","v":0},{"$f":"_xlfn.XLOOKUP(A23,Startliste!A:A,Startliste!G:G,\"\")","v":0},{"$f":"_xlfn.XLOOKUP(A23,Startliste!A:A,Startliste!I:I,\"\")","v":0},{"$f":"'18'!$O$14","v":0},null,{"$f":"'18'!O$10","v":0},{"$f":"'18'!O$11","v":0},{"$f":"'18'!O$12","v":0},{"$f":"'18'!O$13","v":0},null,{"$f":"'18'!D$17","v":0},{"$f":"'18'!E$17","v":0},{"$f":"'18'!F$17","v":0},{"$f":"'18'!G$17","v":0},{"$f":"'18'!H$17","v":0},{"$f":"'18'!I$17","v":0},{"$f":"'18'!J$17","v":0},{"$f":"'18'!K$17","v":0},{"$f":"'18'!L$17","v":0},{"$f":"'18'!M$17","v":0},{"$f":"'18'!O$18","v":0},{"$f":"'18'!B$10","v":0},{"$f":"'18'!C$10","v":""},{"$f":"'18'!B$11","v":0},{"$f":"'18'!C$11","v":""},{"$f":"'18'!B$12","v":0},{"$f":"'18'!C$12","v":""}]
[{"$f":"'19'!M$5","v":19},{"$f":"_xlfn.XLOOKUP(A24,Startliste!A:A,Startliste!B:B,\"\")","v":0},{"$f":"_xlfn.XLOOKUP(A24,Startliste!A:A,Startliste!C:C,\"\")","v":0},{"$f":"_xlfn.XLOOKUP(A24,Startliste!A:A,Startliste!D:D,\"\")","v":0},{"$f":"_xlfn.XLOOKUP(A24,Startliste!A:A,Startliste!E:E,\"\")","v":"00:00:00"},{"$f":"_xlfn.XLOOKUP(A24,Startliste!A:A,Startliste!F:F,\"\")","v":0},{"$f":"_xlfn.XLOOKUP(A24,Startliste!A:A,Startliste!G:G,\"\")","v":0},{"$f":"_xlfn.XLOOKUP(A24,Startliste!A:A,Startliste!I:I,\"\")","v":0},{"$f":"'19'!$O$14","v":0},null,{"$f":"'19'!O$10","v":0},{"$f":"'19'!O$11","v":0},{"$f":"'19'!O$12","v":0},{"$f":"'19'!O$13","v":0},null,{"$f":"'19'!D$17","v":0},{"$f":"'19'!E$17","v":0},{"$f":"'19'!F$17","v":0},{"$f":"'19'!G$17","v":0},{"$f":"'19'!H$17","v":0},{"$f":"'19'!I$17","v":0},{"$f":"'19'!J$17","v":0},{"$f":"'19'!K$17","v":0},{"$f":"'19'!L$17","v":0},{"$f":"'19'!M$17","v":0},{"$f":"'19'!O$18","v":0},{"$f":"'19'!B$10","v":0},{"$f":"'19'!C$10","v":""},{"$f":"'19'!B$11","v":0},{"$f":"'19'!C$11","v":""},{"$f":"'19'!B$12","v":0},{"$f":"'19'!C$12","v":""}]
[{"$f":"'20'!M$5","v":20},{"$f":"_xlfn.XLOOKUP(A25,Startliste!A:A,Startliste!B:B,\"\")","v":0},{"$f":"_xlfn.XLOOKUP(A25,Startliste!A:A,Startliste!C:C,\"\")","v":0},{"$f":"_xlfn.XLOOKUP(A25,Startliste!A:A,Startliste!D:D,\"\")","v":0},{"$f":"_xlfn.XLOOKUP(A25,Startliste!A:A,Startliste!E:E,\"\")","v":"00:00:00"},{"$f":"_xlfn.XLOOKUP(A25,Startliste!A:A,Startliste!F:F,\"\")","v":0},{"$f":"_xlfn.XLOOKUP(A25,Startliste!A:A,Startliste!G:G,\"\")","v":0},{"$f":"_xlfn.XLOOKUP(A25,Startliste!A:A,Startliste!I:I,\"\")","v":0},{"$f":"'20'!$O$14","v":0},null,{"$f":"'20'!O$10","v":0},{"$f":"'20'!O$11","v":0},{"$f":"'20'!O$12","v":0},{"$f":"'20'!O$13","v":0},null,{"$f":"'20'!D$17","v":0},{"$f":"'20'!E$17","v":0},{"$f":"'20'!F$17","v":0},{"$f":"'20'!G$17","v":0},{"$f":"'20'!H$17","v":0},{"$f":"'20'!I$17","v":0},{"$f":"'20'!J$17","v":0},{"$f":"'20'!K$17","v":0},{"$f":"'20'!L$17","v":0},{"$f":"'20'!M$17","v":0},{"$f":"'20'!O$18","v":0},{"$f":"'20'!B$10","v":0},{"$f":"'20'!C$10","v":""},{"$f":"'20'!B$11","v":0},{"$f":"'20'!C$11","v":""},{"$f":"'20'!B$12","v":0},{"$f":"'20'!C$12","v":""}]
[{"$f":"'21'!M$5","v":21},{"$f":"_xlfn.XLOOKUP(A26,Startliste!A:A,Startliste!B:B,\"\")","v":0},{"$f":"_xlfn.XLOOKUP(A26,Startliste!A:A,Startliste!C:C,\"\")","v":0},{"$f":"_xlfn.XLOOKUP(A26,Startliste!A:A,Startliste!D:D,\"\")","v":0},{"$f":"_xlfn.XLOOKUP(A26,Startliste!A:A,Startliste!E:E,\"\")","v":"00:00:00"},{"$f":"_xlfn.XLOOKUP(A26,Startliste!A:A,Startliste!F:F,\"\")","v":0},{"$f":"_xlfn.XLOOKUP(A26,Startliste!A:A,Startliste!G:G,\"\")","v":0},{"$f":"_xlfn.XLOOKUP(A26,Startliste!A:A,Startliste!I:I,\"\")","v":0},{"$f":"'21'!$O$14","v":0},null,{"$f":"'21'!O$10","v":0},{"$f":"'21'!O$11","v":0},{"$f":"'21'!O$12","v":0},{"$f":"'21'!O$13","v":0},null,{"$f":"'21'!D$17","v":0},{"$f":"'21'!E$17","v":0},{"$f":"'21'!F$17","v":0},{"$f":"'21'!G$17","v":0},{"$f":"'21'!H$17","v":0},{"$f":"'21'!I$17","v":0},{"$f":"'21'!J$17","v":0},{"$f":"'21'!K$17","v":0},{"$f":"'21'!L$17","v":0},{"$f":"'21'!M$17","v":0},{"$f":"'21'!O$18","v":0},{"$f":"'21'!B$10","v":0},{"$f":"'21'!C$10","v":""},{"$f":"'21'!B$11","v":0},{"$f":"'21'!C$11","v":""},{"$f":"'21'!B$12","v":0},{"$f":"'21'!C$12","v":""}]
[{"$f":"'22'!M$5","v":22},{"$f":"_xlfn.XLOOKUP(A27,Startliste!A:A,Startliste!B:B,\"\")","v":0},{"$f":"_xlfn.XLOOKUP(A27,Startliste!A:A,Startliste!C:C,\"\")","v":0},{"$f":"_xlfn.XLOOKUP(A27,Startliste!A:A,Startliste!D:D,\"\")","v":0},{"$f":"_xlfn.XLOOKUP(A27,Startliste!A:A,Startliste!E:E,\"\")","v":"00:00:00"},{"$f":"_xlfn.XLOOKUP(A27,Startliste!A:A,Startliste!F:F,\"\")","v":0},{"$f":"_xlfn.XLOOKUP(A27,Startliste!A:A,Startliste!G:G,\"\")","v":0},{"$f":"_xlfn.XLOOKUP(A27,Startliste!A:A,Startliste!I:I,\"\")","v":0},{"$f":"'22'!$O$14","v":0},null,{"$f":"'22'!O$10","v":0},{"$f":"'22'!O$11","v":0},{"$f":"'22'!O$12","v":0},{"$f":"'22'!O$13","v":0},null,{"$f":"'22'!D$17","v":0},{"$f":"'22'!E$17","v":0},{"$f":"'22'!F$17","v":0},{"$f":"'22'!G$17","v":0},{"$f":"'22'!H$17","v":0},{"$f":"'22'!I$17","v":0},{"$f":"'22'!J$17","v":0},{"$f":"'22'!K$17","v":0},{"$f":"'22'!L$17","v":0},{"$f":"'22'!M$17","v":0},{"$f":"'22'!O$18","v":0},{"$f":"'22'!B$10","v":0},{"$f":"'22'!C$10","v":""},{"$f":"'22'!B$11","v":0},{"$f":"'22'!C$11","v":""},{"$f":"'22'!B$12","v":0},{"$f":"'22'!C$12","v":""}]
[{"$f":"'23'!M$5","v":23},{"$f":"_xlfn.XLOOKUP(A28,Startliste!A:A,Startliste!B:B,\"\")","v":0},{"$f":"_xlfn.XLOOKUP(A28,Startliste!A:A,Startliste!C:C,\"\")","v":0},{"$f":"_xlfn.XLOOKUP(A28,Startliste!A:A,Startliste!D:D,\"\")","v":0},{"$f":"_xlfn.XLOOKUP(A28,Startliste!A:A,Startliste!E:E,\"\")","v":"00:00:00"},{"$f":"_xlfn.XLOOKUP(A28,Startliste!A:A,Startliste!F:F,\"\")","v":0},{"$f":"_xlfn.XLOOKUP(A28,Startliste!A:A,Startliste!G:G,\"\")","v":0},{"$f":"_xlfn.XLOOKUP(A28,Startliste!A:A,Startliste!I:I,\"\")","v":0},{"$f":"'23'!$O$14","v":0},null,{"$f":"'23'!O$10","v":0},{"$f":"'23'!O$11","v":0},{"$f":"'23'!O$12","v":0},{"$f":"'23'!O$13","v":0},null,{"$f":"'23'!D$17","v":0},{"$f":"'23'!E$17","v":0},{"$f":"'23'!F$17","v":0},{"$f":"'23'!G$17","v":0},{"$f":"'23'!H$17","v":0},{"$f":"'23'!I$17","v":0},{"$f":"'23'!J$17","v":0},{"$f":"'23'!K$17","v":0},{"$f":"'23'!L$17","v":0},{"$f":"'23'!M$17","v":0},{"$f":"'23'!O$18","v":0},{"$f":"'23'!B$10","v":0},{"$f":"'23'!C$10","v":""},{"$f":"'23'!B$11","v":0},{"$f":"'23'!C$11","v":""},{"$f":"'23'!B$12","v":0},{"$f":"'23'!C$12","v":""}]
[{"$f":"'24'!M$5","v":24},{"$f":"_xlfn.XLOOKUP(A29,Startliste!A:A,Startliste!B:B,\"\")","v":0},{"$f":"_xlfn.XLOOKUP(A29,Startliste!A:A,Startliste!C:C,\"\")","v":0},{"$f":"_xlfn.XLOOKUP(A29,Startliste!A:A,Startliste!D:D,\"\")","v":0},{"$f":"_xlfn.XLOOKUP(A29,Startliste!A:A,Startliste!E:E,\"\")","v":"00:00:00"},{"$f":"_xlfn.XLOOKUP(A29,Startliste!A:A,Startliste!F:F,\"\")","v":0},{"$f":"_xlfn.XLOOKUP(A29,Startliste!A:A,Startliste!G:G,\"\")","v":0},{"$f":"_xlfn.XLOOKUP(A29,Startliste!A:A,Startliste!I:I,\"\")","v":0},{"$f":"'24'!$O$14","v":0},null,{"$f":"'24'!O$10","v":0},{"$f":"'24'!O$11","v":0},{"$f":"'24'!O$12","v":0},{"$f":"'24'!O$13","v":0},null,{"$f":"'24'!D$17","v":0},{"$f":"'24'!E$17","v":0},{"$f":"'24'!F$17","v":0},{"$f":"'24'!G$17","v":0},{"$f":"'24'!H$17","v":0},{"$f":"'24'!I$17","v":0},{"$f":"'24'!J$17","v":0},{"$f":"'24'!K$17","v":0},{"$f":"'24'!L$17","v":0},{"$f":"'24'!M$17","v":0},{"$f":"'24'!O$18","v":0},{"$f":"'24'!B$10","v":0},{"$f":"'24'!C$10","v":""},{"$f":"'24'!B$11","v":0},{"$f":"'24'!C$11","v":""},{"$f":"'24'!B$12","v":0},{"$f":"'24'!C$12","v":""}]
[{"$f":"'25'!M$5","v":25},{"$f":"_xlfn.XLOOKUP(A30,Startliste!A:A,Startliste!B:B,\"\")","v":0},{"$f":"_xlfn.XLOOKUP(A30,Startliste!A:A,Startliste!C:C,\"\")","v":0},{"$f":"_xlfn.XLOOKUP(A30,Startliste!A:A,Startliste!D:D,\"\")","v":0},{"$f":"_xlfn.XLOOKUP(A30,Startliste!A:A,Startliste!E:E,\"\")","v":"00:00:00"},{"$f":"_xlfn.XLOOKUP(A30,Startliste!A:A,Startliste!F:F,\"\")","v":0},{"$f":"_xlfn.XLOOKUP(A30,Startliste!A:A,Startliste!G:G,\"\")","v":0},{"$f":"_xlfn.XLOOKUP(A30,Startliste!A:A,Startliste!I:I,\"\")","v":0},{"$f":"'25'!$O$14","v":0},null,{"$f":"'25'!O$10","v":0},{"$f":"'25'!O$11","v":0},{"$f":"'25'!O$12","v":0},{"$f":"'25'!O$13","v":0},null,{"$f":"'25'!D$17","v":0},{"$f":"'25'!E$17","v":0},{"$f":"'25'!F$17","v":0},{"$f":"'25'!G$17","v":0},{"$f":"'25'!H$17","v":0},{"$f":"'25'!I$17","v":0},{"$f":"'25'!J$17","v":0},{"$f":"'25'!K$17","v":0},{"$f":"'25'!L$17","v":0},{"$f":"'25'!M$17","v":0},{"$f":"'25'!O$18","v":0},{"$f":"'25'!B$10","v":0},{"$f":"'25'!C$10","v":""},{"$f":"'25'!B$11","v":0},{"$f":"'25'!C$11","v":""},{"$f":"'25'!B$12","v":0},{"$f":"'25'!C$12","v":""}]
[{"$f":"'26'!M$5","v":26},{"$f":"_xlfn.XLOOKUP(A31,Startliste!A:A,Startliste!B:B,\"\")","v":0},{"$f":"_xlfn.XLOOKUP(A31,Startliste!A:A,Startliste!C:C,\"\")","v":0},{"$f":"_xlfn.XLOOKUP(A31,Startliste!A:A,Startliste!D:D,\"\")","v":0},{"$f":"_xlfn.XLOOKUP(A31,Startliste!A:A,Startliste!E:E,\"\")","v":"00:00:00"},{"$f":"_xlfn.XLOOKUP(A31,Startliste!A:A,Startliste!F:F,\"\")","v":0},{"$f":"_xlfn.XLOOKUP(A31,Startliste!A:A,Startliste!G:G,\"\")","v":0},{"$f":"_xlfn.XLOOKUP(A31,Startliste!A:A,Startliste!I:I,\"\")","v":0},{"$f":"'26'!$O$14","v":0},null,{"$f":"'26'!O$10","v":0},{"$f":"'26'!O$11","v":0},{"$f":"'26'!O$12","v":0},{"$f":"'26'!O$13","v":0},null,{"$f":"'26'!D$17","v":0},{"$f":"'26'!E$17","v":0},{"$f":"'26'!F$17","v":0},{"$f":"'26'!G$17","v":0},{"$f":"'26'!H$17","v":0},{"$f":"'26'!I$17","v":0},{"$f":"'26'!J$17","v":0},{"$f":"'26'!K$17","v":0},{"$f":"'26'!L$17","v":0},{"$f":"'26'!M$17","v":0},{"$f":"'26'!O$18","v":0},{"$f":"'26'!B$10","v":0},{"$f":"'26'!C$10","v":""},{"$f":"'26'!B$11","v":0},{"$f":"'26'!C$11","v":""},{"$f":"'26'!B$12","v":0},{"$f":"'26'!C$12","v":""}]
[{"$f":"'27'!M$5","v":27},{"$f":"_xlfn.XLOOKUP(A32,Startliste!A:A,Startliste!B:B,\"\")","v":0},{"$f":"_xlfn.XLOOKUP(A32,Startliste!A:A,Startliste!C:C,\"\")","v":0},{"$f":"_xlfn.XLOOKUP(A32,Startliste!A:A,Startliste!D:D,\"\")","v":0},{"$f":"_xlfn.XLOOKUP(A32,Startliste!A:A,Startliste!E:E,\"\")","v":"00:00:00"},{"$f":"_xlfn.XLOOKUP(A32,Startliste!A:A,Startliste!F:F,\"\")","v":0},{"$f":"_xlfn.XLOOKUP(A32,Startliste!A:A,Startliste!G:G,\"\")","v":0},{"$f":"_xlfn.XLOOKUP(A32,Startliste!A:A,Startliste!I:I,\"\")","v":0},{"$f":"'27'!$O$14","v":0},null,{"$f":"'27'!O$10","v":0},{"$f":"'27'!O$11","v":0},{"$f":"'27'!O$12","v":0},{"$f":"'27'!O$13","v":0},null,{"$f":"'27'!D$17","v":0},{"$f":"'27'!E$17","v":0},{"$f":"'27'!F$17","v":0},{"$f":"'27'!G$17","v":0},{"$f":"'27'!H$17","v":0},{"$f":"'27'!I$17","v":0},{"$f":"'27'!J$17","v":0},{"$f":"'27'!K$17","v":0},{"$f":"'27'!L$17","v":0},{"$f":"'27'!M$17","v":0},{"$f":"'27'!O$18","v":0},{"$f":"'27'!B$10","v":0},{"$f":"'27'!C$10","v":""},{"$f":"'27'!B$11","v":0},{"$f":"'27'!C$11","v":""},{"$f":"'27'!B$12","v":0},{"$f":"'27'!C$12","v":""}]
[{"$f":"'28'!M$5","v":28},{"$f":"_xlfn.XLOOKUP(A33,Startliste!A:A,Startliste!B:B,\"\")","v":0},{"$f":"_xlfn.XLOOKUP(A33,Startliste!A:A,Startliste!C:C,\"\")","v":0},{"$f":"_xlfn.XLOOKUP(A33,Startliste!A:A,Startliste!D:D,\"\")","v":0},{"$f":"_xlfn.XLOOKUP(A33,Startliste!A:A,Startliste!E:E,\"\")","v":"00:00:00"},{"$f":"_xlfn.XLOOKUP(A33,Startliste!A:A,Startliste!F:F,\"\")","v":0},{"$f":"_xlfn.XLOOKUP(A33,Startliste!A:A,Startliste!G:G,\"\")","v":0},{"$f":"_xlfn.XLOOKUP(A33,Startliste!A:A,Startliste!I:I,\"\")","v":0},{"$f":"'28'!$O$14","v":0},null,{"$f":"'28'!O$10","v":0},{"$f":"'28'!O$11","v":0},{"$f":"'28'!O$12","v":0},{"$f":"'28'!O$13","v":0},null,{"$f":"'28'!D$17","v":0},{"$f":"'28'!E$17","v":0},{"$f":"'28'!F$17","v":0},{"$f":"'28'!G$17","v":0},{"$f":"'28'!H$17","v":0},{"$f":"'28'!I$17","v":0},{"$f":"'28'!J$17","v":0},{"$f":"'28'!K$17","v":0},{"$f":"'28'!L$17","v":0},{"$f":"'28'!M$17","v":0},{"$f":"'28'!O$18","v":0},{"$f":"'28'!B$10","v":0},{"$f":"'28'!C$10","v":""},{"$f":"'28'!B$11","v":0},{"$f":"'28'!C$11","v":""},{"$f":"'28'!B$12","v":0},{"$f":"'28'!C$12","v":""}]
[{"$f":"'29'!M$5","v":29},{"$f":"_xlfn.XLOOKUP(A34,Startliste!A:A,Startliste!B:B,\"\")","v":0},{"$f":"_xlfn.XLOOKUP(A34,Startliste!A:A,Startliste!C:C,\"\")","v":0},{"$f":"_xlfn.XLOOKUP(A34,Startliste!A:A,Startliste!D:D,\"\")","v":0},{"$f":"_xlfn.XLOOKUP(A34,Startliste!A:A,Startliste!E:E,\"\")","v":"00:00:00"},{"$f":"_xlfn.XLOOKUP(A34,Startliste!A:A,Startliste!F:F,\"\")","v":0},{"$f":"_xlfn.XLOOKUP(A34,Startliste!A:A,Startliste!G:G,\"\")","v":0},{"$f":"_xlfn.XLOOKUP(A34,Startliste!A:A,Startliste!I:I,\"\")","v":0},{"$f":"'29'!$O$14","v":0},null,{"$f":"'29'!O$10","v":0},{"$f":"'29'!O$11","v":0},{"$f":"'29'!O$12","v":0},{"$f":"'29'!O$13","v":0},null,{"$f":"'29'!D$17","v":0},{"$f":"'29'!E$17","v":0},{"$f":"'29'!F$17","v":0},{"$f":"'29'!G$17","v":0},{"$f":"'29'!H$17","v":0},{"$f":"'29'!I$17","v":0},{"$f":"'29'!J$17","v":0},{"$f":"'29'!K$17","v":0},{"$f":"'29'!L$17","v":0},{"$f":"'29'!M$17","v":0},{"$f":"'29'!O$18","v":0},{"$f":"'29'!B$10","v":0},{"$f":"'29'!C$10","v":""},{"$f":"'29'!B$11","v":0},{"$f":"'29'!C$11","v":""},{"$f":"'29'!B$12","v":0},{"$f":"'29'!C$12","v":""}]
[{"$f":"'30'!M$5","v":30},{"$f":"_xlfn.XLOOKUP(A35,Startliste!A:A,Startliste!B:B,\"\")","v":0},{"$f":"_xlfn.XLOOKUP(A35,Startliste!A:A,Startliste!C:C,\"\")","v":0},{"$f":"_xlfn.XLOOKUP(A35,Startliste!A:A,Startliste!D:D,\"\")","v":0},{"$f":"_xlfn.XLOOKUP(A35,Startliste!A:A,Startliste!E:E,\"\")","v":"00:00:00"},{"$f":"_xlfn.XLOOKUP(A35,Startliste!A:A,Startliste!F:F,\"\")","v":0},{"$f":"_xlfn.XLOOKUP(A35,Startliste!A:A,Startliste!G:G,\"\")","v":0},{"$f":"_xlfn.XLOOKUP(A35,Startliste!A:A,Startliste!I:I,\"\")","v":0},{"$f":"'30'!$O$14","v":0},null,{"$f":"'30'!O$10","v":0},{"$f":"'30'!O$11","v":0},{"$f":"'30'!O$12","v":0},{"$f":"'30'!O$13","v":0},null,{"$f":"'30'!D$17","v":0},{"$f":"'30'!E$17","v":0},{"$f":"'30'!F$17","v":0},{"$f":"'30'!G$17","v":0},{"$f":"'30'!H$17","v":0},{"$f":"'30'!I$17","v":0},{"$f":"'30'!J$17","v":0},{"$f":"'30'!K$17","v":0},{"$f":"'30'!L$17","v":0},{"$f":"'30'!M$17","v":0},{"$f":"'30'!O$18","v":0},{"$f":"'30'!B$10","v":0},{"$f":"'30'!C$10","v":""},{"$f":"'30'!B$11","v":0},{"$f":"'30'!C$11","v":""},{"$f":"'30'!B$12","v":0},{"$f":"'30'!C$12","v":""}]
[{"$f":"'31'!M$5","v":31},{"$f":"_xlfn.XLOOKUP(A36,Startliste!A:A,Startliste!B:B,\"\")","v":0},{"$f":"_xlfn.XLOOKUP(A36,Startliste!A:A,Startliste!C:C,\"\")","v":0},{"$f":"_xlfn.XLOOKUP(A36,Startliste!A:A,Startliste!D:D,\"\")","v":0},{"$f":"_xlfn.XLOOKUP(A36,Startliste!A:A,Startliste!E:E,\"\")","v":"00:00:00"},{"$f":"_xlfn.XLOOKUP(A36,Startliste!A:A,Startliste!F:F,\"\")","v":0},{"$f":"_xlfn.XLOOKUP(A36,Startliste!A:A,Startliste!G:G,\"\")","v":0},{"$f":"_xlfn.XLOOKUP(A36,Startliste!A:A,Startliste!I:I,\"\")","v":0},{"$f":"'31'!$O$14","v":0},null,{"$f":"'31'!O$10","v":0},{"$f":"'31'!O$11","v":0},{"$f":"'31'!O$12","v":0},{"$f":"'31'!O$13","v":0},null,{"$f":"'31'!D$17","v":0},{"$f":"'31'!E$17","v":0},{"$f":"'31'!F$17","v":0},{"$f":"'31'!G$17","v":0},{"$f":"'31'!H$17","v":0},{"$f":"'31'!I$17","v":0},{"$f":"'31'!J$17","v":0},{"$f":"'31'!K$17","v":0},{"$f":"'31'!L$17","v":0},{"$f":"'31'!M$17","v":0},{"$f":"'31'!O$18","v":0},{"$f":"'31'!B$10","v":0},{"$f":"'31'!C$10","v":""},{"$f":"'31'!B$11","v":0},{"$f":"'31'!C$11","v":""},{"$f":"'31'!B$12","v":0},{"$f":"'31'!C$12","v":""}]
[{"$f":"'32'!M$5","v":32},{"$f":"_xlfn.XLOOKUP(A37,Startliste!A:A,Startliste!B:B,\"\")","v":0},{"$f":"_xlfn.XLOOKUP(A37,Startliste!A:A,Startliste!C:C,\"\")","v":0},{"$f":"_xlfn.XLOOKUP(A37,Startliste!A:A,Startliste!D:D,\"\")","v":0},{"$f":"_xlfn.XLOOKUP(A37,Startliste!A:A,Startliste!E:E,\"\")","v":"00:00:00"},{"$f":"_xlfn.XLOOKUP(A37,Startliste!A:A,Startliste!F:F,\"\")","v":0},{"$f":"_xlfn.XLOOKUP(A37,Startliste!A:A,Startliste!G:G,\"\")","v":0},{"$f":"_xlfn.XLOOKUP(A37,Startliste!A:A,Startliste!I:I,\"\")","v":0},{"$f":"'32'!$O$14","v":0},null,{"$f":"'32'!O$10","v":0},{"$f":"'32'!O$11","v":0},{"$f":"'32'!O$12","v":0},{"$f":"'32'!O$13","v":0},null,{"$f":"'32'!D$17","v":0},{"$f":"'32'!E$17","v":0},{"$f":"'32'!F$17","v":0},{"$f":"'32'!G$17","v":0},{"$f":"'32'!H$17","v":0},{"$f":"'32'!I$17","v":0},{"$f":"'32'!J$17","v":0},{"$f":"'32'!K$17","v":0},{"$f":"'32'!L$17","v":0},{"$f":"'32'!M$17","v":0},{"$f":"'32'!O$18","v":0},{"$f":"'32'!B$10","v":0},{"$f":"'32'!C$10","v":""},{"$f":"'32'!B$11","v":0},{"$f":"'32'!C$11","v":""},{"$f":"'32'!B$12","v":0},{"$f":"'32'!C$12","v":""}]
[{"$f":"'33'!M$5","v":33},{"$f":"_xlfn.XLOOKUP(A38,Startliste!A:A,Startliste!B:B,\"\")","v":0},{"$f":"_xlfn.XLOOKUP(A38,Startliste!A:A,Startliste!C:C,\"\")","v":0},{"$f":"_xlfn.XLOOKUP(A38,Startliste!A:A,Startliste!D:D,\"\")","v":0},{"$f":"_xlfn.XLOOKUP(A38,Startliste!A:A,Startliste!E:E,\"\")","v":"00:00:00"},{"$f":"_xlfn.XLOOKUP(A38,Startliste!A:A,Startliste!F:F,\"\")","v":0},{"$f":"_xlfn.XLOOKUP(A38,Startliste!A:A,Startliste!G:G,\"\")","v":0},{"$f":"_xlfn.XLOOKUP(A38,Startliste!A:A,Startliste!I:I,\"\")","v":0},{"$f":"'33'!$O$14","v":0},null,{"$f":"'33'!O$10","v":0},{"$f":"'33'!O$11","v":0},{"$f":"'33'!O$12","v":0},{"$f":"'33'!O$13","v":0},null,{"$f":"'33'!D$17","v":0},{"$f":"'33'!E$17","v":0},{"$f":"'33'!F$17","v":0},{"$f":"'33'!G$17","v":0},{"$f":"'33'!H$17","v":0},{"$f":"'33'!I$17","v":0},{"$f":"'33'!J$17","v":0},{"$f":"'33'!K$17","v":0},{"$f":"'33'!L$17","v":0},{"$f":"'33'!M$17","v":0},{"$f":"'33'!O$18","v":0},{"$f":"'33'!B$10","v":0},{"$f":"'33'!C$10","v":""},{"$f":"'33'!B$11","v":0},{"$f":"'33'!C$11","v":""},{"$f":"'33'!B$12","v":0},{"$f":"'33'!C$12","v":""}]
[{"$f":"'34'!M$5","v":34},{"$f":"_xlfn.XLOOKUP(A39,Startliste!A:A,Startliste!B:B,\"\")","v":0},{"$f":"_xlfn.XLOOKUP(A39,Startliste!A:A,Startliste!C:C,\"\")","v":0},{"$f":"_xlfn.XLOOKUP(A39,Startliste!A:A,Startliste!D:D,\"\")","v":0},{"$f":"_xlfn.XLOOKUP(A39,Startliste!A:A,Startliste!E:E,\"\")","v":"00:00:00"},{"$f":"_xlfn.XLOOKUP(A39,Startliste!A:A,Startliste!F:F,\"\")","v":0},{"$f":"_xlfn.XLOOKUP(A39,Startliste!A:A,Startliste!G:G,\"\")","v":0},{"$f":"_xlfn.XLOOKUP(A39,Startliste!A:A,Startliste!I:I,\"\")","v":0},{"$f":"'34'!$O$14","v":0},null,{"$f":"'34'!O$10","v":0},{"$f":"'34'!O$11","v":0},{"$f":"'34'!O$12","v":0},{"$f":"'34'!O$13","v":0},null,{"$f":"'34'!D$17","v":0},{"$f":"'34'!E$17","v":0},{"$f":"'34'!F$17","v":0},{"$f":"'34'!G$17","v":0},{"$f":"'34'!H$17","v":0},{"$f":"'34'!I$17","v":0},{"$f":"'34'!J$17","v":0},{"$f":"'34'!K$17","v":0},{"$f":"'34'!L$17","v":0},{"$f":"'34'!M$17","v":0},{"$f":"'34'!O$18","v":0},{"$f":"'34'!B$10","v":0},{"$f":"'34'!C$10","v":""},{"$f":"'34'!B$11","v":0},{"$f":"'34'!C$11","v":""},{"$f":"'34'!B$12","v":0},{"$f":"'34'!C$12","v":""}]
[{"$f":"'35'!M$5","v":35},{"$f":"_xlfn.XLOOKUP(A40,Startliste!A:A,Startliste!B:B,\"\")","v":0},{"$f":"_xlfn.XLOOKUP(A40,Startliste!A:A,Startliste!C:C,\"\")","v":0},{"$f":"_xlfn.XLOOKUP(A40,Startliste!A:A,Startliste!D:D,\"\")","v":0},{"$f":"_xlfn.XLOOKUP(A40,Startliste!A:A,Startliste!E:E,\"\")","v":"00:00:00"},{"$f":"_xlfn.XLOOKUP(A40,Startliste!A:A,Startliste!F:F,\"\")","v":0},{"$f":"_xlfn.XLOOKUP(A40,Startliste!A:A,Startliste!G:G,\"\")","v":0},{"$f":"_xlfn.XLOOKUP(A40,Startliste!A:A,Startliste!I:I,\"\")","v":0},{"$f":"'35'!$O$14","v":0},null,{"$f":"'35'!O$10","v":0},{"$f":"'35'!O$11","v":0},{"$f":"'35'!O$12","v":0},{"$f":"'35'!O$13","v":0},null,{"$f":"'35'!D$17","v":0},{"$f":"'35'!E$17","v":0},{"$f":"'35'!F$17","v":0},{"$f":"'35'!G$17","v":0},{"$f":"'35'!H$17","v":0},{"$f":"'35'!I$17","v":0},{"$f":"'35'!J$17","v":0},{"$f":"'35'!K$17","v":0},{"$f":"'35'!L$17","v":0},{"$f":"'35'!M$17","v":0},{"$f":"'35'!O$18","v":0},{"$f":"'35'!B$10","v":0},{"$f":"'35'!C$10","v":""},{"$f":"'35'!B$11","v":0},{"$f":"'35'!C$11","v":""},{"$f":"'35'!B$12","v":0},{"$f":"'35'!C$12","v":""}]
[{"$f":"'36'!M$5","v":36},{"$f":"_xlfn.XLOOKUP(A41,Startliste!A:A,Startliste!B:B,\"\")","v":0},{"$f":"_xlfn.XLOOKUP(A41,Startliste!A:A,Startliste!C:C,\"\")","v":0},{"$f":"_xlfn.XLOOKUP(A41,Startliste!A:A,Startliste!D:D,\"\")","v":0},{"$f":"_xlfn.XLOOKUP(A41,Startliste!A:A,Startliste!E:E,\"\")","v":"00:00:00"},{"$f":"_xlfn.XLOOKUP(A41,Startliste!A:A,Startliste!F:F,\"\")","v":0},{"$f":"_xlfn.XLOOKUP(A41,Startliste!A:A,Startliste!G:G,\"\")","v":0},{"$f":"_xlfn.XLOOKUP(A41,Startliste!A:A,Startliste!I:I,\"\")","v":0},{"$f":"'36'!$O$14","v":0},null,{"$f":"'36'!O$10","v":0},{"$f":"'36'!O$11","v":0},{"$f":"'36'!O$12","v":0},{"$f":"'36'!O$13","v":0},null,{"$f":"'36'!D$17","v":0},{"$f":"'36'!E$17","v":0},{"$f":"'36'!F$17","v":0},{"$f":"'36'!G$17","v":0},{"$f":"'36'!H$17","v":0},{"$f":"'36'!I$17","v":0},{"$f":"'36'!J$17","v":0},{"$f":"'36'!K$17","v":0},{"$f":"'36'!L$17","v":0},{"$f":"'36'!M$17","v":0},{"$f":"'36'!O$18","v":0},{"$f":"'36'!B$10","v":0},{"$f":"'36'!C$10","v":""},{"$f":"'36'!B$11","v":0},{"$f":"'36'!C$11","v":""},{"$f":"'36'!B$12","v":0},{"$f":"'36'!C$12","v":""}]
[{"$f":"'37'!M$5","v":37},{"$f":"_xlfn.XLOOKUP(A42,Startliste!A:A,Startliste!B:B,\"\")","v":0},{"$f":"_xlfn.XLOOKUP(A42,Startliste!A:A,Startliste!C:C,\"\")","v":0},{"$f":"_xlfn.XLOOKUP(A42,Startliste!A:A,Startliste!D:D,\"\")","v":0},{"$f":"_xlfn.XLOOKUP(A42,Startliste!A:A,Startliste!E:E,\"\")","v":"00:00:00"},{"$f":"_xlfn.XLOOKUP(A42,Startliste!A:A,Startliste!F:F,\"\")","v":0},{"$f":"_xlfn.XLOOKUP(A42,Startliste!A:A,Startliste!G:G,\"\")","v":0},{"$f":"_xlfn.XLOOKUP(A42,Startliste!A:A,Startliste!I:I,\"\")","v":0},{"$f":"'37'!$O$14","v":0},null,{"$f":"'37'!O$10","v":0},{"$f":"'37'!O$11","v":0},{"$f":"'37'!O$12","v":0},{"$f":"'37'!O$13","v":0},null,{"$f":"'37'!D$17","v":0},{"$f":"'37'!E$17","v":0},{"$f":"'37'!F$17","v":0},{"$f":"'37'!G$17","v":0},{"$f":"'37'!H$17","v":0},{"$f":"'37'!I$17","v":0},{"$f":"'37'!J$17","v":0},{"$f":"'37'!K$17","v":0},{"$f":"'37'!L$17","v":0},{"$f":"'37'!M$17","v":0},{"$f":"'37'!O$18","v":0},{"$f":"'37'!B$10","v":0},{"$f":"'37'!C$10","v":""},{"$f":"'37'!B$11","v":0},{"$f":"'37'!C$11","v":""},{"$f":"'37'!B$12","v":0},{"$f":"'37'!C$12","v":""}]
[{"$f":"'38'!M$5","v":38},{"$f":"_xlfn.XLOOKUP(A43,Startliste!A:A,Startliste!B:B,\"\")","v":0},{"$f":"_xlfn.XLOOKUP(A43,Startliste!A:A,Startliste!C:C,\"\")","v":0},{"$f":"_xlfn.XLOOKUP(A43,Startliste!A:A,Startliste!D:D,\"\")","v":0},{"$f":"_xlfn.XLOOKUP(A43,Startliste!A:A,Startliste!E:E,\"\")","v":"00:00:00"},{"$f":"_xlfn.XLOOKUP(A43,Startliste!A:A,Startliste!F:F,\"\")","v":0},{"$f":"_xlfn.XLOOKUP(A43,Startliste!A:A,Startliste!G:G,\"\")","v":0},{"$f":"_xlfn.XLOOKUP(A43,Startliste!A:A,Startliste!I:I,\"\")","v":0},{"$f":"'38'!$O$14","v":0},null,{"$f":"'38'!O$10","v":0},{"$f":"'38'!O$11","v":0},{"$f":"'38'!O$12","v":0},{"$f":"'38'!O$13","v":0},null,{"$f":"'38'!D$17","v":0},{"$f":"'38'!E$17","v":0},{"$f":"'38'!F$17","v":0},{"$f":"'38'!G$17","v":0},{"$f":"'38'!H$17","v":0},{"$f":"'38'!I$17","v":0},{"$f":"'38'!J$17","v":0},{"$f":"'38'!K$17","v":0},{"$f":"'38'!L$17","v":0},{"$f":"'38'!M$17","v":0},{"$f":"'38'!O$18","v":0},{"$f":"'38'!B$10","v":0},{"$f":"'38'!C$10","v":""},{"$f":"'38'!B$11","v":0},{"$f":"'38'!C$11","v":""},{"$f":"'38'!B$12","v":0},{"$f":"'38'!C$12","v":""}]
[{"$f":"'39'!M$5","v":39},{"$f":"_xlfn.XLOOKUP(A44,Startliste!A:A,Startliste!B:B,\"\")","v":0},{"$f":"_xlfn.XLOOKUP(A44,Startliste!A:A,Startliste!C:C,\"\")","v":0},{"$f":"_xlfn.XLOOKUP(A44,Startliste!A:A,Startliste!D:D,\"\")","v":0},{"$f":"_xlfn.XLOOKUP(A44,Startliste!A:A,Startliste!E:E,\"\")","v":"00:00:00"},{"$f":"_xlfn.XLOOKUP(A44,Startliste!A:A,Startliste!F:F,\"\")","v":0},{"$f":"_xlfn.XLOOKUP(A44,Startliste!A:A,Startliste!G:G,\"\")","v":0},{"$f":"_xlfn.XLOOKUP(A44,Startliste!A:A,Startliste!I:I,\"\")","v":0},{"$f":"'39'!$O$14","v":0},null,{"$f":"'39'!O$10","v":0},{"$f":"'39'!O$11","v":0},{"$f":"'39'!O$12","v":0},{"$f":"'39'!O$13","v":0},null,{"$f":"'39'!D$17","v":0},{"$f":"'39'!E$17","v":0},{"$f":"'39'!F$17","v":0},{"$f":"'39'!G$17","v":0},{"$f":"'39'!H$17","v":0},{"$f":"'39'!I$17","v":0},{"$f":"'39'!J$17","v":0},{"$f":"'39'!K$17","v":0},{"$f":"'39'!L$17","v":0},{"$f":"'39'!M$17","v":0},{"$f":"'39'!O$18","v":0},{"$f":"'39'!B$10","v":0},{"$f":"'39'!C$10","v":""},{"$f":"'39'!B$11","v":0},{"$f":"'39'!C$11","v":""},{"$f":"'39'!B$12","v":0},{"$f":"'39'!C$12","v":""}]
[{"$f":"'40'!M$5","v":40},{"$f":"_xlfn.XLOOKUP(A45,Startliste!A:A,Startliste!B:B,\"\")","v":0},{"$f":"_xlfn.XLOOKUP(A45,Startliste!A:A,Startliste!C:C,\"\")","v":0},{"$f":"_xlfn.XLOOKUP(A45,Startliste!A:A,Startliste!D:D,\"\")","v":0},{"$f":"_xlfn.XLOOKUP(A45,Startliste!A:A,Startliste!E:E,\"\")","v":"00:00:00"},{"$f":"_xlfn.XLOOKUP(A45,Startliste!A:A,Startliste!F:F,\"\")","v":0},{"$f":"_xlfn.XLOOKUP(A45,Startliste!A:A,Startliste!G:G,\"\")","v":0},{"$f":"_xlfn.XLOOKUP(A45,Startliste!A:A,Startliste!I:I,\"\")","v":0},{"$f":"'40'!$O$14","v":0},null,{"$f":"'40'!O$10","v":0},{"$f":"'40'!O$11","v":0},{"$f":"'40'!O$12","v":0},{"$f":"'40'!O$13","v":0},null,{"$f":"'40'!D$17","v":0},{"$f":"'40'!E$17","v":0},{"$f":"'40'!F$17","v":0},{"$f":"'40'!G$17","v":0},{"$f":"'40'!H$17","v":0},{"$f":"'40'!I$17","v":0},{"$f":"'40'!J$17","v":0},{"$f":"'40'!K$17","v":0},{"$f":"'40'!L$17","v":0},{"$f":"'40'!M$17","v":0},{"$f":"'40'!O$18","v":0},{"$f":"'40'!B$10","v":0},{"$f":"'40'!C$10","v":""},{"$f":"'40'!B$11","v":0},{"$f":"'40'!C$11","v":""},{"$f":"'40'!B$12","v":0},{"$f":"'40'!C$12","v":""}]

{"sheet":"Tabelle1","index":42,"n_rows":5071,"n_cols":4,"rows_kept":5071,"cut":false,"hidden":false,"merged":[]}
["Lizenznummer","Nachname","Vorname"]
[253712,"Brönnimann","Fritz",{"$f":"B2&\" \"&C2","v":"Brönnimann Fritz"}]
[202785,"Seiler","Hanspeter",{"$f":"B3&\" \"&C3","v":"Seiler Hanspeter"}]
[255610,"Hälg","Hans","Hälg Hans"]
[254474,"Altorfer","Paul","Altorfer Paul"]
[134905,"Forrer","Wendel","Forrer Wendel"]
[255086,"Hofmann","Meinrad","Hofmann Meinrad"]
[255868,"Huber","Ernstpeter","Huber Ernstpeter"]
[693536,"Eder","Joachim","Eder Joachim"]
[301944,"Graber","Gaby","Graber Gaby"]
[128499,"Liechti","Vreny","Liechti Vreny"]
[255972,"Ehrensperger","Edwin","Ehrensperger Edwin"]
[110040,"Hirt","Werner","Hirt Werner"]
[255856,"Zangger","Gerhard","Zangger Gerhard"]
[254481,"Homberger","Werner","Homberger Werner"]
[138541,"Egli","Armin","Egli Armin"]
[255992,"Dünner","Max","Dünner Max"]
[128493,"Liechti","Hans","Liechti Hans"]
[114859,"Bachofner","Hans","Bachofner Hans"]
[253721,"Eugster","Karl","Eugster Karl"]
[254773,"Röthlin","Kurt","Röthlin Kurt"]
[114513,"Sicher","Vali","Sicher Vali"]
[129381,"Burkhalter","Andreas","Burkhalter Andreas"]
[255933,"Ravelli","Roland","Ravelli Roland"]
[244960,"Roth","Markus","Roth Markus"]
[255968,"Stutz","Walter","Stutz Walter"]
[254356,"Gerber","Hans","Gerber Hans"]
[253713,"Vogel","Martin","Vogel Martin"]
[255853,"Omlin","Jakob","Omlin Jakob"]
[308378,"Wüest","Franz","Wüest Franz"]
[151807,"Pfister","Walter","Pfister Walter"]
[159313,"Gamper","Peter","Gamper Peter"]
[253722,"Baumann","August","Baumann August"]
[253720,"Handle","Hanspeter","Handle Hanspeter"]
[255861,"Wintsch","Nelly","Wintsch Nelly"]
[226854,"Häberli","Andreas","Häberli Andreas"]
[255200,"Hartmann","Franz","Hartmann Franz"]
[255623,"Knaus","Rudolf","Knaus Rudolf"]
[255215,"Luthiger","Beat","Luthiger Beat"]
[112889,"Pfister","Gerold","Pfister Gerold"]
[255950,"Oberhänsli","Alfred","Oberhänsli Alfred"]
[163386,"Grossglauser","Erwin","Grossglauser Erwin"]
[110044,"Diener","Gottfried","Diener Gottfried"]
[119276,"Bangerter","Hans-Ulrich","Bangerter Hans-Ulrich"]
[255855,"Peter","Helmuth","Peter Helmuth"]
[255851,"Dinkelmann","Hans","Dinkelmann Hans"]
[254172,"Bruhin","Rudolf","Bruhin Rudolf"]
[254688,"Strasser","Heinz","Strasser Heinz"]
[119926,"Schiess","Ernst","Schiess Ernst"]
[120570,"Eschmann","René","Eschmann René"]
[113429,"Vetterli","Christian","Vetterli Christian"]
[120576,"König","Robert","König Robert"]
[120576,"König","Robert","König Robert"]
[255924,"Germann","Marcel","Germann Marcel"]
[137979,"Arnold","Christof","Arnold Christof"]
[0,"Wiederkehr","Yvonne","Wiederkehr Yvonne"]
[0,"Wiederkehr","Yvonne","Wiederkehr Yvonne"]
[253744,"Dalle Case","Marco","Dalle Case Marco"]
[217968,"Schulthess","Renato","Schulthess Renato"]
[242406,"Tschiemer","Hansueli","Tschiemer Hansueli"]
[253716,"Albisser","Anton","Albisser Anton"]
[134905,"Forrer","Wendel","Forrer Wendel"]
[315697,"Vich","Dino","Vich Dino"]
[119920,"Schneider","Martin","Schneider Martin"]
[119920,"Schneider","Martin","Schneider Martin"]
[301944,"Graber","Gaby","Graber Gaby"]
[320767,"Felber","Tobias",{"$f":"B67&\" \"&C67","v":"Felber Tobias"}]
[163386,"Grossglauser","Erwin","Grossglauser Erwin"]
[311163,"Betschart","Mauricio","Betschart Mauricio"]
[255881,"Kressibucher","Thomas","Kressibucher Thomas"]
[0,"Swiss Olympic","-","Swiss Olympic -"]
[254664,"Harlacher","Renato","Harlacher Renato"]
[254664,"Harlacher","Renato","Harlacher Renato"]
[254664,"Harlacher","Renato","Harlacher Renato"]
[153214,"Bührer","Hans","Bührer Hans"]
[325455,"Schneider","Jürg","Schneider Jürg"]
[255327,"Kaufmann","Franz","Kaufmann Franz"]
[254772,"Röthlin","Erich","Röthlin Erich"]
[254356,"Gerber","Hans","Gerber Hans"]
[171289,"Winzeler","Bruno","Winzeler Bruno"]
[119926,"Schiess","Ernst","Schiess Ernst"]
[197204,"Gohl","Bruno","Gohl Bruno"]
[253726,"Schelling","Andreas","Schelling Andreas"]
[253775,"Suter","Marco","Suter Marco"]
[255985,"Scherrer","Konrad","Scherrer Konrad"]
[100006,"Steffen","Renato","Steffen Renato"]
[112689,"Schilliger","Marcel","Schilliger Marcel"]
[253722,"Baumann","August","Baumann August"]
[291806,"Brüschweiler","Joel","Brüschweiler Joel"]
[291806,"Brüschweiler","Joel","Brüschweiler Joel"]
[255710,"Menzi","Robert","Menzi Robert"]
[253756,"Keller","Rolf","Keller Rolf"]
[320767,"Felber","Tobias","Felber Tobias"]
[154595,"Stoller","Markus","Stoller Markus"]
[254664,"Harlacher","Renato","Harlacher Renato"]
[254782,"Wettach","Franz","Wettach Franz"]
[129381,"Burkhalter","Andreas","Burkhalter Andreas"]
[253713,"Vogel","Martin","Vogel Martin"]
[253713,"Vogel","Martin","Vogel Martin"]
[253713,"Vogel","Martin","Vogel Martin"]
[326301,"Streule","Franz","Streule Franz"]
[326301,"Streule","Franz","Streule Franz"]
[253726,"Schelling","Andreas","Schelling Andreas"]
[253726,"Schelling","Andreas","Schelling Andreas"]
[253726,"Schelling","Andreas","Schelling Andreas"]
[120577,"König","Susanne","König Susanne"]
[253712,"Brönnimann","Fritz","Brönnimann Fritz"]
[253712,"Brönnimann","Fritz","Brönnimann Fritz"]
[100155,"Alder","Hans-Rudolf","Alder Hans-Rudolf"]
[255796,"Schrag","Eugen","Schrag Eugen"]
[254759,"Guyer","Hansjörg","Guyer Hansjörg"]
[255839,"Eggli","Walter","Eggli Walter"]
[128320,"Gantenbein","Paul","Gantenbein Paul"]
[253756,"Keller","Rolf","Keller Rolf"]
[254830,"Meyer","Urs","Meyer Urs"]
[254271,"Niederberger","Pius","Niederberger Pius"]
[102977,"Stähli","Urs","Stähli Urs"]
[254277,"Ruckstuhl","Albert","Ruckstuhl Albert"]
[721500,"Müller","Arnold","Müller Arnold"]
[110040,"Hirt","Werner","Hirt Werner"]
[107605,"Gohl","Walter","Gohl Walter"]
[153977,"Wegmann","Heinz","Wegmann Heinz"]
[254481,"Homberger","Werner","Homberger Werner"]
[253757,"Koller","Martin","Koller Martin"]
[200045,"Koller","René","Koller René"]
[254341,"Wick","Kurt","Wick Kurt"]
[307945,"Bertschinger","Vreni","Bertschinger Vreni"]
[118500,"Eberle","Viktor","Eberle Viktor"]
[253746,"Dummermuth","Paul","Dummermuth Paul"]
[254648,"Zollinger","Willy","Zollinger Willy"]
[255855,"Peter","Helmuth",{"$f":"B131&\" \"&C131","v":"Peter Helmuth"}]
[105708,"Käufeler","Erika","Käufeler Erika"]
[253755,"Hollenstein","Franz","Hollenstein Franz"]
[254773,"Röthlin","Kurt","Röthlin Kurt"]
[153214,"Bührer","Hans","Bührer Hans"]
[167730,"Ott","Arnold","Ott Arnold"]
[328323,"Gautschi","Roger","Gautschi Roger"]
[108521,"Bührer","Oskar","Bührer Oskar"]
[110250,"Buchmann","Dieter","Buchmann Dieter"]
[129381,"Burkhalter","Andreas","Burkhalter Andreas"]
[254278,"Stadler","Albert","Stadler Albert"]
[244960,"Roth","Markus","Roth Markus"]
[253776,"Suter","Reto","Suter Reto"]
[253772,"Seeberger","Hans","Seeberger Hans"]
[254263,"Gossweiler","Kurt","Gossweiler Kurt"]
[118501,"Hiestand","Robert","Hiestand Robert"]
[327258,"Buser","Eduard","Buser Eduard"]
[110089,"Bolliger","Heinz","Bolliger Heinz"]
[867392,"Langhart","Hans","Langhart Hans"]
[253769,"Schlatter","Peter","Schlatter Peter"]
[254200,"Lenggenhager","Max","Lenggenhager Max"]
[253726,"Schelling","Andreas","Schelling Andreas"]
[254733,"Gujer","Nicole","Gujer Nicole"]
[253752,"Gujer","Stephan","Gujer Stephan"]
[253775,"Suter","Marco","Suter Marco"]
[253756,"Keller","Rolf","Keller Rolf"]
[253756,"Keller","Rolf","Keller Rolf"]
[0,"Hochstrasser","Nicole","Hochstrasser Nicole"]
[148950,"Morf","André","Morf André"]
[148950,"Morf","André","Morf André"]
[254271,"Niederberger","Pius","Niederberger Pius"]
[228239,"Wohlgensinger","Peter","Wohlgensinger Peter"]
[228239,"Wohlgensinger","Peter","Wohlgensinger Peter"]
[294068,"Ritzmann","Markus","Ritzmann Markus"]
[254203,"Portner","Andreas","Portner Andreas"]
[129960,"Reist","Daniel","Reist Daniel"]
[254415,"Bachofner","Roland","Bachofner Roland"]
[254415,"Bachofner","Roland","Bachofner Roland"]
[254415,"Bachofner","Roland","Bachofner Roland"]
[254415,"Bachofner","Roland","Bachofner Roland"]
[253746,"Dummermuth","Paul","Dummermuth Paul"]
[254667,"Hinnen","Peter","Hinnen Peter"]
[254664,"Harlacher","Renato","Harlacher Renato"]
[285907,"Niederberger","Michel","Niederberger Michel"]
[299841,"Siffert","Toni","Siffert Toni"]
[167730,"Ott","Arnold","Ott Arnold"]
[148448,"Moor","Ernst","Moor Ernst"]
[170765,"Fankhauser","Andreas","Fankhauser Andreas"]
[170765,"Fankhauser","Andreas","Fankhauser Andreas"]
[244960,"Roth","Markus","Roth Markus"]
[117803,"Wüest","Markus","Wüest Markus"]
[117803,"Wüest","Markus","Wüest Markus"]
[254360,"Meier","Stefan","Meier Stefan"]
[253776,"Suter","Reto","Suter Reto"]
[254772,"Röthlin","Erich","Röthlin Erich"]
[118501,"Hiestand","Robert","Hiestand Robert"]
[253713,"Vogel","Martin","Vogel Martin"]
[253713,"Vogel","Martin","Vogel Martin"]
[254227,"Müller","Heinz","Müller Heinz"]
[254764,"Sigg","Rudolf","Sigg Rudolf"]
[254200,"Lenggenhager","Max","Lenggenhager Max"]
[254733,"Gujer","Nicole","Gujer Nicole"]
[254733,"Gujer","Nicole","Gujer Nicole"]
[254661,"Caviezel","Andreas","Caviezel Andreas"]
[254178,"Meier","Peter",{"$f":"B195&\" \"&C195","v":"Meier Peter"}]
[254271,"Niederberger","Pius","Niederberger Pius"]
[294068,"Ritzmann","Markus","Ritzmann Markus"]
[153977,"Wegmann","Heinz","Wegmann Heinz"]
[129381,"Burkhalter","Andreas","Burkhalter Andreas"]
[254360,"Meier","Stefan","Meier Stefan"]
[254144,"Frei","Martin","Frei Martin"]
[254144,"Frei","Martin","Frei Martin"]
[12490,"Bäriswyl","Michelle","Bäriswyl Michelle"]
[254157,"Krättli","Ruedi","Krättli Ruedi"]
[254154,"Illi","Freddy","Illi Freddy"]
[254155,"Imhof","Werner Jun.","Imhof Werner Jun."]
[254155,"Imhof","Werner Jun.","Imhof Werner Jun."]
[254748,"Hollenstein","Ernst","Hollenstein Ernst"]
[254151,"Götschi","Martha","Götschi Martha"]
[254156,"Keller","Peter","Keller Peter"]
[254156,"Keller","Peter","Keller Peter"]
[254154,"Illi","Freddy","Illi Freddy"]
[156737,"Blaser","Marcel","Blaser Marcel"]
[254144,"Frei","Martin","Frei Martin"]
[254144,"Frei","Martin","Frei Martin"]
[254156,"Keller","Peter","Keller Peter"]
[254156,"Keller","Peter","Keller Peter"]
[254156,"Keller","Peter","Keller Peter"]
[254157,"Krättli","Ruedi","Krättli Ruedi"]
[254157,"Krättli","Ruedi","Krättli Ruedi"]
[325639,"Steiner","Erwin","Steiner Erwin"]
[254154,"Illi","Freddy","Illi Freddy"]
[254154,"Illi","Freddy","Illi Freddy"]
[105676,"Wagner","Erwin","Wagner Erwin"]
[254166,"Kienast","Christoph","Kienast Christoph"]
[253756,"Keller","Rolf","Keller Rolf"]
[253756,"Keller","Rolf","Keller Rolf"]
[253756,"Keller","Rolf","Keller Rolf"]
[203385,"Landolt","Bruno","Landolt Bruno"]
[203385,"Landolt","Bruno","Landolt Bruno"]
[299267,"Hablützel","Richard","Hablützel Richard"]
[299267,"Hablützel","Richard","Hablützel Richard"]
[254168,"Sternberger","Horst","Sternberger Horst"]
[254168,"Sternberger","Horst","Sternberger Horst"]
[278488,"Sternberger","Isabella","Sternberger Isabella"]
[254277,"Ruckstuhl","Albert","Ruckstuhl Albert"]
[105649,"Landolt","Hans-Rudolf","Landolt Hans-Rudolf"]
[998797,"Hänni","Ronan","Hänni Ronan"]
[254163,"Honsberger","Pierre","Honsberger Pierre"]
[205730,"Schmid","Christian","Schmid Christian"]
[135716,"Staub","Max","Staub Max"]
[254162,"Eigenheer","Lorenz","Eigenheer Lorenz"]
[254162,"Eigenheer","Lorenz","Eigenheer Lorenz"]
[254162,"Eigenheer","Lorenz","Eigenheer Lorenz"]
[318907,"Nepfer","Marcel","Nepfer Marcel"]
[293921,"Fontana","Christian","Fontana Christian"]
[293921,"Fontana","Christian","Fontana Christian"]
[103898,"Meier","Anton","Meier Anton"]
[253713,"Vogel","Martin","Vogel Martin"]
[423253,"Jud","Oliver","Jud Oliver"]
[0,"Räss","Marco","Räss Marco"]
[253756,"Keller","Rolf","Keller Rolf"]
[253756,"Keller","Rolf","Keller Rolf"]
[253756,"Keller","Rolf","Keller Rolf"]
[253756,"Keller","Rolf","Keller Rolf"]
[253756,"Keller","Rolf","Keller Rolf"]
[253756,"Keller","Rolf","Keller Rolf"]
[253756,"Keller","Rolf","Keller Rolf"]
[299267,"Hablützel","Richard",{"$f":"B259&\" \"&C259","v":"Hablützel Richard"}]
[998797,"Hänni","Ronan","Hänni Ronan"]
[254163,"Honsberger","Pierre","Honsberger Pierre"]
[0,"Schneider","Manuel","Schneider Manuel"]
[293921,"Fontana","Christian","Fontana Christian"]
[293921,"Fontana","Christian","Fontana Christian"]
[293921,"Fontana","Christian","Fontana Christian"]
[293921,"Fontana","Christian","Fontana Christian"]
[103898,"Meier","Anton","Meier Anton"]
[253713,"Vogel","Martin","Vogel Martin"]
[0,"Corfu","Jérome","Corfu Jérome"]
[255764,"Stoll","Hans Peter","Stoll Hans Peter"]
[255769,"Zimmermann","Heinrich","Zimmermann Heinrich"]
[748255,"Winterflood","Joshua","Winterflood Joshua"]
[585601,"Wehle","Svenja","Wehle Svenja"]
[255763,"Stoll","Ivo","Stoll Ivo"]
[736660,"Pichler","Michael","Pichler Michael"]
[130020,"Wehle","Marianne","Wehle Marianne"]
[255758,"Nungesser","Dietmar","Nungesser Dietmar"]
[255765,"Streit","Walter","Streit Walter"]
[322234,"Nyffenegger","Pascal","Nyffenegger Pascal"]
[253776,"Suter","Reto","Suter Reto"]
[303451,"Klieber","Philippe","Klieber Philippe"]
[255755,"Langhans","Dieter","Langhans Dieter"]
[978702,"Landolt","Ravi","Landolt Ravi"]
[254912,"Müller","Yves","Müller Yves"]
[253775,"Suter","Marco","Suter Marco"]
[255770,"Brühlmann","Andreas","Brühlmann Andreas"]
[309971,"Klieber","Julie","Klieber Julie"]
[255754,"Kappeler","Wolfgang","Kappeler Wolfgang"]
[0,"Lippuner","Benjamin","Lippuner Benjamin"]
[0,"Meyer","Tim","Meyer Tim"]
[938752,"Wulle","Andrin Dario","Wulle Andrin Dario"]
[0,"Casura","Julia","Casura Julia"]
[0,"Stoll","Shayna","Stoll Shayna"]
[130020,"Wehle","Marianne","Wehle Marianne"]
[303451,"Klieber","Philippe","Klieber Philippe"]
[0,"Lienhard","Jay","Lienhard Jay"]
[254912,"Müller","Yves","Müller Yves"]
[0,"Eberhart","Rafael","Eberhart Rafael"]
[253775,"Suter","Marco","Suter Marco"]
[255770,"Brühlmann","Andreas","Brühlmann Andreas"]
[255754,"Kappeler","Wolfgang","Kappeler Wolfgang"]
[255764,"Stoll","Hans Peter","Stoll Hans Peter"]
[0,"Stuber","Michael","Stuber Michael"]
[0,"Stoll","Keanu","Stoll Keanu"]
[0,"Bischof","Julia","Bischof Julia"]
[0,"Sammer","Julia","Sammer Julia"]
[0,"Bischof","Roman","Bischof Roman"]
[255765,"Streit","Walter","Streit Walter"]
[233729,"Hirt","Beat","Hirt Beat"]
[138547,"Mohr","Maximilian","Mohr Maximilian"]
[254178,"Meier","Peter","Meier Peter"]
[254178,"Meier","Peter","Meier Peter"]
[865240,"Artho","Roger","Artho Roger"]
[254170,"Bachofner","Heinrich","Bachofner Heinrich"]
[228239,"Wohlgensinger","Peter","Wohlgensinger Peter"]
[168993,"Bruhin","Ernst","Bruhin Ernst"]
[4550,"Busshart","Thomas","Busshart Thomas"]
[19388,"Scherrer","Elvira","Scherrer Elvira"]
[254172,"Bruhin","Rudolf","Bruhin Rudolf"]
[254185,"Dinkel","Peter","Dinkel Peter"]
[254185,"Dinkel","Peter","Dinkel Peter"]
[969763,"Meier","Thomas","Meier Thomas"]
[254176,"Hotz","Thomas",{"$f":"B323&\" \"&C323","v":"Hotz Thomas"}]
[254176,"Hotz","Thomas","Hotz Thomas"]
[19387,"Scherrer","Hanspeter","Scherrer Hanspeter"]
[969762,"Hurni","Ceco","Hurni Ceco"]
[254171,"Bachofner","Walter","Bachofner Walter"]
[5116,"Busshart","Andrea","Busshart Andrea"]
[233729,"Hirt","Beat","Hirt Beat"]
[233729,"Hirt","Beat","Hirt Beat"]
[254178,"Meier","Peter","Meier Peter"]
[254178,"Meier","Peter","Meier Peter"]
[865240,"Artho","Roger","Artho Roger"]
[865240,"Artho","Roger","Artho Roger"]
[228239,"Wohlgensinger","Peter","Wohlgensinger Peter"]
[228239,"Wohlgensinger","Peter","Wohlgensinger Peter"]
[4550,"Busshart","Thomas","Busshart Thomas"]
[4550,"Busshart","Thomas","Busshart Thomas"]
[19388,"Scherrer","Elvira","Scherrer Elvira"]
[5116,"Busshart","Andrea","Busshart Andrea"]
[254205,"Wegmann","Hans","Wegmann Hans"]
[254205,"Wegmann","Hans","Wegmann Hans"]
[254205,"Wegmann","Hans","Wegmann Hans"]
[253741,"Blaser","Hanspeter","Blaser Hanspeter"]
[677367,"Treibenreif","Christa","Treibenreif Christa"]
[677367,"Treibenreif","Christa","Treibenreif Christa"]
[278799,"Erismann","Roman","Erismann Roman"]
[254199,"Krebs","Robert","Krebs Robert"]
[1817,"Wagner","Damian","Wagner Damian"]
[129960,"Reist","Daniel","Reist Daniel"]
[129960,"Reist","Daniel","Reist Daniel"]
[254198,"Krebs","Emil","Krebs Emil"]
[254198,"Krebs","Emil","Krebs Emil"]
[175444,"Roth","Paul","Roth Paul"]
[175444,"Roth","Paul","Roth Paul"]
[175444,"Roth","Paul","Roth Paul"]
[254192,"Fürst","Willy","Fürst Willy"]
[254192,"Fürst","Willy","Fürst Willy"]
[254192,"Fürst","Willy","Fürst Willy"]
[254206,"Petrig-Wegmann","Susanne","Petrig-Wegmann Susanne"]
[254206,"Petrig-Wegmann","Susanne","Petrig-Wegmann Susanne"]
[254206,"Petrig-Wegmann","Susanne","Petrig-Wegmann Susanne"]
[118448,"Patt","Josef","Patt Josef"]
[118448,"Patt","Josef","Patt Josef"]
[254453,"Blaser","Karl","Blaser Karl"]
[254200,"Lenggenhager","Max","Lenggenhager Max"]
[254189,"Christoffel","Eduard","Christoffel Eduard"]
[677367,"Treibenreif","Christa","Treibenreif Christa"]
[677367,"Treibenreif","Christa","Treibenreif Christa"]
[278799,"Erismann","Roman","Erismann Roman"]
[129960,"Reist","Daniel","Reist Daniel"]
[254198,"Krebs","Emil","Krebs Emil"]
[175444,"Roth","Paul","Roth Paul"]
[175444,"Roth","Paul","Roth Paul"]
[254206,"Petrig-Wegmann","Susanne","Petrig-Wegmann Susanne"]
[254206,"Petrig-Wegmann","Susanne","Petrig-Wegmann Susanne"]
[0,"Kern","Robin","Kern Robin"]
[0,"Nufer","Tobias","Nufer Tobias"]
[254200,"Lenggenhager","Max","Lenggenhager Max"]
[254221,"Tschachtli","Martin","Tschachtli Martin"]
[254221,"Tschachtli","Martin","Tschachtli Martin"]
[254959,"Dossenbach","Urs","Dossenbach Urs"]
[254959,"Dossenbach","Urs","Dossenbach Urs"]
[171264,"Baldegger","Daniel","Baldegger Daniel"]
[171264,"Baldegger","Daniel","Baldegger Daniel"]
[254773,"Röthlin","Kurt","Röthlin Kurt"]
[254773,"Röthlin","Kurt",{"$f":"B387&\" \"&C387","v":"Röthlin Kurt"}]
[135936,"Bucher","Ernst","Bucher Ernst"]
[135936,"Bucher","Ernst","Bucher Ernst"]
[171132,"Steinmann","Andreas","Steinmann Andreas"]
[171132,"Steinmann","Andreas","Steinmann Andreas"]
[945497,"Mirza","Akram","Mirza Akram"]
[106714,"Steinmann","Hans","Steinmann Hans"]
[106714,"Steinmann","Hans","Steinmann Hans"]
[254772,"Röthlin","Erich","Röthlin Erich"]
[254772,"Röthlin","Erich","Röthlin Erich"]
[312031,"Seidel","Michael","Seidel Michael"]
[312031,"Seidel","Michael","Seidel Michael"]
[289585,"Lütolf","Ruedi","Lütolf Ruedi"]
[289585,"Lütolf","Ruedi","Lütolf Ruedi"]
[0,"Meile","Martin","Meile Martin"]
[254221,"Tschachtli","Martin","Tschachtli Martin"]
[254221,"Tschachtli","Martin","Tschachtli Martin"]
[0,"Mandus","Jonathan","Mandus Jonathan"]
[0,"Steinmann","Heidi","Steinmann Heidi"]
[135936,"Bucher","Ernst","Bucher Ernst"]
[171132,"Steinmann","Andreas","Steinmann Andreas"]
[171132,"Steinmann","Andreas","Steinmann Andreas"]
[254772,"Röthlin","Erich","Röthlin Erich"]
[254772,"Röthlin","Erich","Röthlin Erich"]
[293937,"Burlet","Roger","Burlet Roger"]
[293937,"Burlet","Roger","Burlet Roger"]
[202349,"Hess","Thomas","Hess Thomas"]
[202349,"Hess","Thomas","Hess Thomas"]
[917447,"Glück","Barbara","Glück Barbara"]
[917447,"Glück","Barbara","Glück Barbara"]
[254222,"Diethelm","Josef","Diethelm Josef"]
[322035,"Nanzer","Stefan","Nanzer Stefan"]
[322035,"Nanzer","Stefan","Nanzer Stefan"]
[545251,"Angehrn","Leo","Angehrn Leo"]
[545251,"Angehrn","Leo","Angehrn Leo"]
[865229,"Schärer","Luis","Schärer Luis"]
[865229,"Schärer","Luis","Schärer Luis"]
[25143,"Grosjean","Ueli","Grosjean Ueli"]
[11357,"Scorza","Vera","Scorza Vera"]
[11357,"Scorza","Vera","Scorza Vera"]
[254229,"Uebersax","Pascal","Uebersax Pascal"]
[254229,"Uebersax","Pascal","Uebersax Pascal"]
[254227,"Müller","Heinz","Müller Heinz"]
[254227,"Müller","Heinz","Müller Heinz"]
[747259,"Pally","Roger","Pally Roger"]
[747259,"Pally","Roger","Pally Roger"]
[747259,"Pally","Roger","Pally Roger"]
[747263,"Zürcher","Gian-Reto","Zürcher Gian-Reto"]
[747263,"Zürcher","Gian-Reto","Zürcher Gian-Reto"]
[293937,"Burlet","Roger","Burlet Roger"]
[293937,"Burlet","Roger","Burlet Roger"]
[293937,"Burlet","Roger","Burlet Roger"]
[293937,"Burlet","Roger","Burlet Roger"]
[917447,"Glück","Barbara","Glück Barbara"]
[917447,"Glück","Barbara","Glück Barbara"]
[0,"Marti","Aurelio","Marti Aurelio"]
[0,"Arena","Emanuel","Arena Emanuel"]
[0,"Arena","Emanuel","Arena Emanuel"]
[0,"Arena","Emanuel","Arena Emanuel"]
[0,"Arena","Emanuel","Arena Emanuel"]
[254222,"Diethelm","Josef","Diethelm Josef"]
[545251,"Angehrn","Leo","Angehrn Leo"]
[865229,"Schärer","Luis","Schärer Luis"]
[865229,"Schärer","Luis","Schärer Luis"]
[254229,"Uebersax","Pascal",{"$f":"B451&\" \"&C451","v":"Uebersax Pascal"}]
[254229,"Uebersax","Pascal","Uebersax Pascal"]
[254229,"Uebersax","Pascal","Uebersax Pascal"]
[254227,"Müller","Heinz","Müller Heinz"]
[254227,"Müller","Heinz","Müller Heinz"]
[0,"Ruckstuhl","Mathias","Ruckstuhl Mathias"]
[123012,"Denzler","Rolf","Denzler Rolf"]
[259207,"Homberger","René","Homberger René"]
[254232,"Fröhlich","Alfred","Fröhlich Alfred"]
[3964,"Homberger","Cyril","Homberger Cyril"]
[516027,"Stark","Franziska Rebecca","Stark Franziska Rebecca"]
[756189,"Schuler","Nohemi","Schuler Nohemi"]
[461000,"Fehr","Antonia","Fehr Antonia"]
[19495,"Grossenbacher","Reto","Grossenbacher Reto"]
[310462,"Kasiala","Patrick","Kasiala Patrick"]
[254231,"Frei","Arthur","Frei Arthur"]
[19493,"Turkalj","Nadia","Turkalj Nadia"]
[926077,"Dellay","Claude-Alain","Dellay Claude-Alain"]
[2370,"Käselau","Jan","Käselau Jan"]
[303889,"Weidmann","Lukas","Weidmann Lukas"]
[177101,"Burri","Stefan","Burri Stefan"]
[121298,"Carigiet","Meinrad","Carigiet Meinrad"]
[952961,"Adam","Rico","Adam Rico"]
[254243,"Schaffter","Bernard","Schaffter Bernard"]
[140929,"Berger","Ueli","Berger Ueli"]
[293942,"Bänninger","David","Bänninger David"]
[108564,"Ochsner","Marcel","Ochsner Marcel"]
[461656,"Häsler","Christoph","Häsler Christoph"]
[302357,"Bearth","Christine","Bearth Christine"]
[107453,"Schnetzler","Roger","Schnetzler Roger"]
[19494,"Berger","Conni","Berger Conni"]
[870265,"Frei","Janine","Frei Janine"]
[254242,"Schäfer","Guido","Schäfer Guido"]
[254239,"Meier","Ruth","Meier Ruth"]
[3963,"Meier","Jack","Meier Jack"]
[303363,"Ambauen","Alexander","Ambauen Alexander"]
[303886,"Bänninger","Andreas","Bänninger Andreas"]
[254232,"Fröhlich","Alfred","Fröhlich Alfred"]
[254232,"Fröhlich","Alfred","Fröhlich Alfred"]
[121298,"Carigiet","Meinrad","Carigiet Meinrad"]
[140929,"Berger","Ueli","Berger Ueli"]
[254239,"Meier","Ruth","Meier Ruth"]
[254239,"Meier","Ruth","Meier Ruth"]
[974040,"Maurer","Thomas","Maurer Thomas"]
[974040,"Maurer","Thomas","Maurer Thomas"]
[103704,"Georgi","Urs","Georgi Urs"]
[254315,"Vetsch","Heinz","Vetsch Heinz"]
[110741,"Schueller","Pascal","Schueller Pascal"]
[110741,"Schueller","Pascal","Schueller Pascal"]
[935647,"Andermatt","Armin","Andermatt Armin"]
[935647,"Andermatt","Armin","Andermatt Armin"]
[149963,"Töngi","René","Töngi René"]
[254305,"De Zordi","Peter","De Zordi Peter"]
[254305,"De Zordi","Peter","De Zordi Peter"]
[254303,"Böni","Roger","Böni Roger"]
[254303,"Böni","Roger","Böni Roger"]
[313839,"Eyb","Hubertus","Eyb Hubertus"]
[313839,"Eyb","Hubertus","Eyb Hubertus"]
[15996,"Schuhn","Daniel","Schuhn Daniel"]
[15996,"Schuhn","Daniel","Schuhn Daniel"]
[110279,"Guignard","Silvia","Guignard Silvia"]
[110279,"Guignard","Silvia","Guignard Silvia"]
[262211,"Brunold","Brigitte","Brunold Brigitte"]
[293955,"Vetsch","Marco","Vetsch Marco"]
[293955,"Vetsch","Marco",{"$f":"B515&\" \"&C515","v":"Vetsch Marco"}]
[6294,"Huchelmann","Frédérique","Huchelmann Frédérique"]
[6294,"Huchelmann","Frédérique","Huchelmann Frédérique"]
[171289,"Winzeler","Bruno","Winzeler Bruno"]
[171289,"Winzeler","Bruno","Winzeler Bruno"]
[329102,"Piller","Luca","Piller Luca"]
[254315,"Vetsch","Heinz","Vetsch Heinz"]
[254305,"De Zordi","Peter","De Zordi Peter"]
[254305,"De Zordi","Peter","De Zordi Peter"]
[254305,"De Zordi","Peter","De Zordi Peter"]
[254305,"De Zordi","Peter","De Zordi Peter"]
[254303,"Böni","Roger","Böni Roger"]
[0,"Künzli","Erich","Künzli Erich"]
[0,"Künzli","Erich","Künzli Erich"]
[293955,"Vetsch","Marco","Vetsch Marco"]
[171289,"Winzeler","Bruno","Winzeler Bruno"]
[171289,"Winzeler","Bruno","Winzeler Bruno"]
[254339,"Streuli","Daniel","Streuli Daniel"]
[254336,"Siffert","Marie-Theres","Siffert Marie-Theres"]
[9228,"Tappolet","Urs","Tappolet Urs"]
[9228,"Tappolet","Urs","Tappolet Urs"]
[202880,"Fankhauser","Roland","Fankhauser Roland"]
[170772,"Lenherr","Beat","Lenherr Beat"]
[170772,"Lenherr","Beat","Lenherr Beat"]
[290362,"Frischknecht","Werner","Frischknecht Werner"]
[254341,"Wick","Kurt","Wick Kurt"]
[293961,"Egger","Hansruedi","Egger Hansruedi"]
[293961,"Egger","Hansruedi","Egger Hansruedi"]
[299841,"Siffert","Toni","Siffert Toni"]
[299841,"Siffert","Toni","Siffert Toni"]
[684804,"Senn","Manuel","Senn Manuel"]
[684804,"Senn","Manuel","Senn Manuel"]
[684804,"Senn","Manuel","Senn Manuel"]
[170765,"Fankhauser","Andreas","Fankhauser Andreas"]
[170765,"Fankhauser","Andreas","Fankhauser Andreas"]
[303312,"Leuthold","Andreas","Leuthold Andreas"]
[973869,"Sutter","Philipp","Sutter Philipp"]
[170778,"Haller-Staub","Sonja","Haller-Staub Sonja"]
[170778,"Haller-Staub","Sonja","Haller-Staub Sonja"]
[170765,"Fankhauser","Andreas","Fankhauser Andreas"]
[254339,"Streuli","Daniel","Streuli Daniel"]
[0,"Baumann","David","Baumann David"]
[0,"Baumann","David","Baumann David"]
[0,"Tappolet","Cyril","Tappolet Cyril"]
[0,"Tappolet","Cyril","Tappolet Cyril"]
[202880,"Fankhauser","Roland","Fankhauser Roland"]
[170772,"Lenherr","Beat","Lenherr Beat"]
[170772,"Lenherr","Beat","Lenherr Beat"]
[0,"Langeheinecke","Levin","Langeheinecke Levin"]
[0,"Fankhauser","Marisa","Fankhauser Marisa"]
[0,"Fankhauser","Marisa","Fankhauser Marisa"]
[0,"Sigrist","Bauke","Sigrist Bauke"]
[299841,"Siffert","Toni","Siffert Toni"]
[0,"Dürst","Janine","Dürst Janine"]
[170765,"Fankhauser","Andreas","Fankhauser Andreas"]
[170765,"Fankhauser","Andreas","Fankhauser Andreas"]
[20449,"Haller","Katja","Haller Katja"]
[20449,"Haller","Katja","Haller Katja"]
[0,"Glückler","Noemi","Glückler Noemi"]
[303312,"Leuthold","Andreas","Leuthold Andreas"]
[973869,"Sutter","Philipp","Sutter Philipp"]
[973869,"Sutter","Philipp","Sutter Philipp"]
[0,"Fankhauser","Livio","Fankhauser Livio"]
[0,"Fankhauser","Livio","Fankhauser Livio"]
[0,"Graf","Giulia",{"$f":"B579&\" \"&C579","v":"Graf Giulia"}]
[291825,"Gohl","Roman","Gohl Roman"]
[693574,"Leu","Nicolas","Leu Nicolas"]
[945382,"Mayer","Thomas","Mayer Thomas"]
[978733,"Ehren","Marc","Ehren Marc"]
[107605,"Gohl","Walter","Gohl Walter"]
[953103,"Schwab","Harald","Schwab Harald"]
[255788,"Engler","Marianne","Engler Marianne"]
[21193,"Sousa","Victor","Sousa Victor"]
[255795,"Schefer","Alfred","Schefer Alfred"]
[585620,"Hügli","Sarah","Hügli Sarah"]
[255794,"Sauzet","René","Sauzet René"]
[197204,"Gohl","Bruno","Gohl Bruno"]
[253726,"Schelling","Andreas","Schelling Andreas"]
[108512,"Bührer","Armin","Bührer Armin"]
[0,"Schär","Jasmine","Schär Jasmine"]
[255796,"Schrag","Eugen","Schrag Eugen"]
[255796,"Schrag","Eugen","Schrag Eugen"]
[0,"Stiep","Gabriela","Stiep Gabriela"]
[945382,"Mayer","Thomas","Mayer Thomas"]
[978733,"Ehren","Marc","Ehren Marc"]
[3997,"Feldmann","Thomas","Feldmann Thomas"]
[107605,"Gohl","Walter","Gohl Walter"]
[107605,"Gohl","Walter","Gohl Walter"]
[0,"Hofer","Herbert","Hofer Herbert"]
[0,"Aschwanden","Walter","Aschwanden Walter"]
[296003,"Klingenfuss","Urs","Klingenfuss Urs"]
[0,"Rieder","Sven","Rieder Sven"]
[0,"Währen","Isabelle","Währen Isabelle"]
[0,"Müller","Emma","Müller Emma"]
[0,"Huber","Ruedi","Huber Ruedi"]
[0,"Huber","Ruedi","Huber Ruedi"]
[0,"Hiltebrand","Marthi","Hiltebrand Marthi"]
[255795,"Schefer","Alfred","Schefer Alfred"]
[0,"Szameit","Hans","Szameit Hans"]
[0,"Ackermann","Robert","Ackermann Robert"]
[0,"Ackermann","Yves","Ackermann Yves"]
[0,"Kuhn","Anette","Kuhn Anette"]
[0,"Korzeniowski","Otto","Korzeniowski Otto"]
[0,"Huber","Markus","Huber Markus"]
[255794,"Sauzet","René","Sauzet René"]
[0,"Taysi","Altug","Taysi Altug"]
[197204,"Gohl","Bruno","Gohl Bruno"]
[253726,"Schelling","Andreas","Schelling Andreas"]
[253726,"Schelling","Andreas","Schelling Andreas"]
[253726,"Schelling","Andreas","Schelling Andreas"]
[969668,"Truong","Steven","Truong Steven"]
[0,"Rieder","Cheyenne","Rieder Cheyenne"]
[0,"Athieno","Christine","Athieno Christine"]
[748299,"Lienhard","Reto","Lienhard Reto"]
[178644,"Tores","Fatima","Tores Fatima"]
[11092,"Schaub","Thomas","Schaub Thomas"]
[596095,"Eisenegger","Julian","Eisenegger Julian"]
[596095,"Eisenegger","Julian","Eisenegger Julian"]
[160888,"Berger","Guido","Berger Guido"]
[254363,"Meier","Thomas","Meier Thomas"]
[254363,"Meier","Thomas","Meier Thomas"]
[322759,"Meier","Dominic","Meier Dominic"]
[254356,"Gerber","Hans","Gerber Hans"]
[329954,"Weberling","Thomas","Weberling Thomas"]
[748299,"Lienhard","Reto","Lienhard Reto"]
[254368,"Meier","Monika","Meier Monika"]
[254368,"Meier","Monika","Meier Monika"]
[178644,"Tores","Fatima","Tores Fatima"]
[11092,"Schaub","Thomas",{"$f":"B643&\" \"&C643","v":"Schaub Thomas"}]
[978415,"Cerini","Luca","Cerini Luca"]
[978415,"Cerini","Luca","Cerini Luca"]
[160888,"Berger","Guido","Berger Guido"]
[819943,"Engler","Sandra","Engler Sandra"]
[819943,"Engler","Sandra","Engler Sandra"]
[322759,"Meier","Dominic","Meier Dominic"]
[254360,"Meier","Stefan","Meier Stefan"]
[254360,"Meier","Stefan","Meier Stefan"]
[254356,"Gerber","Hans","Gerber Hans"]
[19491,"Öttinger","Simon","Öttinger Simon"]
[19491,"Öttinger","Simon","Öttinger Simon"]
[329954,"Weberling","Thomas","Weberling Thomas"]
[254368,"Meier","Monika","Meier Monika"]
[178644,"Tores","Fatima","Tores Fatima"]
[178644,"Tores","Fatima","Tores Fatima"]
[0,"Meier","Sina","Meier Sina"]
[0,"Meier","Sina","Meier Sina"]
[0,"Spühler","Mathias","Spühler Mathias"]
[0,"Spühler","Mathias","Spühler Mathias"]
[0,"Zimmermann","Jamie","Zimmermann Jamie"]
[0,"Zimmermann","Jamie","Zimmermann Jamie"]
[254360,"Meier","Stefan","Meier Stefan"]
[254360,"Meier","Stefan","Meier Stefan"]
[254356,"Gerber","Hans","Gerber Hans"]
[254356,"Gerber","Hans","Gerber Hans"]
[254356,"Gerber","Hans","Gerber Hans"]
[254356,"Gerber","Hans","Gerber Hans"]
[254356,"Gerber","Hans","Gerber Hans"]
[0,"Schwarzer","Otto","Schwarzer Otto"]
[0,"Von Arb","Stefan","Von Arb Stefan"]
[0,"Hug","Stefanie","Hug Stefanie"]
[254393,"Marty","Fredi","Marty Fredi"]
[254388,"Caruso","Enzo","Caruso Enzo"]
[322762,"Linhart","Nicolas","Linhart Nicolas"]
[167731,"Maino","René","Maino René"]
[167735,"Hächler","Hansjörg","Hächler Hansjörg"]
[231027,"Wüthrich","Peter","Wüthrich Peter"]
[255855,"Peter","Helmuth","Peter Helmuth"]
[167730,"Ott","Arnold","Ott Arnold"]
[254391,"Kündig","Andreas","Kündig Andreas"]
[254392,"Kündig","Jakob","Kündig Jakob"]
[254389,"Furrer","Ruedi","Furrer Ruedi"]
[254393,"Marty","Fredi","Marty Fredi"]
[254393,"Marty","Fredi","Marty Fredi"]
[322762,"Linhart","Nicolas","Linhart Nicolas"]
[167731,"Maino","René","Maino René"]
[0,"Azzolini","Luca","Azzolini Luca"]
[0,"Pallas","Sandro","Pallas Sandro"]
[167730,"Ott","Arnold","Ott Arnold"]
[167730,"Ott","Arnold","Ott Arnold"]
[254391,"Kündig","Andreas","Kündig Andreas"]
[0,"Croci Torti","Pascal","Croci Torti Pascal"]
[254389,"Furrer","Ruedi","Furrer Ruedi"]
[197791,"Winzeler","Richard","Winzeler Richard"]
[176213,"Wenzinger","Max","Wenzinger Max"]
[148448,"Moor","Ernst","Moor Ernst"]
[148448,"Moor","Ernst","Moor Ernst"]
[197791,"Winzeler","Richard","Winzeler Richard"]
[0,"Tchang","Ani- Stella","Tchang Ani- Stella"]
[0,"Breyer","Armin","Breyer Armin"]
[0,"Breyer","Armin","Breyer Armin"]
[0,"Breyer","Julius","Breyer Julius"]
[0,"Breyer","Julius","Breyer Julius"]
[0,"Kull","Janiv",{"$f":"B707&\" \"&C707","v":"Kull Janiv"}]
[0,"Müller","Philipp","Müller Philipp"]
[0,"Müller","Philipp","Müller Philipp"]
[0,"Vaucher","Julian","Vaucher Julian"]
[148448,"Moor","Ernst","Moor Ernst"]
[148448,"Moor","Ernst","Moor Ernst"]
[148448,"Moor","Ernst","Moor Ernst"]
[148448,"Moor","Ernst","Moor Ernst"]
[148448,"Moor","Ernst","Moor Ernst"]
[148448,"Moor","Ernst","Moor Ernst"]
[0,"Mathis","Boas","Mathis Boas"]
[0,"Mathis","Boas","Mathis Boas"]
[0,"Suter","Christoph","Suter Christoph"]
[254555,"Nägeli","Samuel","Nägeli Samuel"]
[312415,"Koch","Rainer","Koch Rainer"]
[312415,"Koch","Rainer","Koch Rainer"]
[213563,"Ebnöther","Jürg","Ebnöther Jürg"]
[254426,"Wild","Kurt","Wild Kurt"]
[254426,"Wild","Kurt","Wild Kurt"]
[121363,"Egli","Walter","Egli Walter"]
[148950,"Morf","André","Morf André"]
[148950,"Morf","André","Morf André"]
[148950,"Morf","André","Morf André"]
[254420,"Portner","Markus","Portner Markus"]
[254420,"Portner","Markus","Portner Markus"]
[254427,"Zihlmann","Richard","Zihlmann Richard"]
[254427,"Zihlmann","Richard","Zihlmann Richard"]
[254380,"Näf","Peter","Näf Peter"]
[254382,"Nägeli","Stefan","Nägeli Stefan"]
[254382,"Nägeli","Stefan","Nägeli Stefan"]
[228239,"Wohlgensinger","Peter","Wohlgensinger Peter"]
[700558,"Haubold","Urs","Haubold Urs"]
[156937,"Bodmer","Urs","Bodmer Urs"]
[294334,"Raschle","Martin","Raschle Martin"]
[294334,"Raschle","Martin","Raschle Martin"]
[254203,"Portner","Andreas","Portner Andreas"]
[254424,"Tanner","Eric","Tanner Eric"]
[521657,"Schnydrig","Yves Alain","Schnydrig Yves Alain"]
[254415,"Bachofner","Roland","Bachofner Roland"]
[254415,"Bachofner","Roland","Bachofner Roland"]
[254415,"Bachofner","Roland","Bachofner Roland"]
[254421,"Raschle","Richard","Raschle Richard"]
[254421,"Raschle","Richard","Raschle Richard"]
[254421,"Raschle","Richard","Raschle Richard"]
[322768,"Häringer","Angelina","Häringer Angelina"]
[322768,"Häringer","Angelina","Häringer Angelina"]
[104775,"Morf","Paul","Morf Paul"]
[254809,"Müller","Peter","Müller Peter"]
[837984,"Fürst","Armin","Fürst Armin"]
[254559,"Widmer","Michael","Widmer Michael"]
[587019,"Raschle","Lukas","Raschle Lukas"]
[587019,"Raschle","Lukas","Raschle Lukas"]
[254414,"Bachofner","Heinrich","Bachofner Heinrich"]
[129381,"Burkhalter","Andreas","Burkhalter Andreas"]
[129381,"Burkhalter","Andreas","Burkhalter Andreas"]
[751470,"Bachofner","Sven","Bachofner Sven"]
[751470,"Bachofner","Sven","Bachofner Sven"]
[205935,"Kälin","Raphael","Kälin Raphael"]
[172160,"Weiss","Hansruedi","Weiss Hansruedi"]
[172160,"Weiss","Hansruedi","Weiss Hansruedi"]
[172160,"Weiss","Hansruedi","Weiss Hansruedi"]
[254760,"Haubold","Heide","Haubold Heide"]
[167942,"Manser","Erich","Manser Erich"]
[322767,"Häringer","Marcelina","Häringer Marcelina"]
[322767,"Häringer","Marcelina",{"$f":"B771&\" \"&C771","v":"Häringer Marcelina"}]
[889235,"Menzi","Andrea","Menzi Andrea"]
[0,"Sigg","Robin","Sigg Robin"]
[0,"Monika","Kaufmann Raschle","Monika Kaufmann Raschle"]
[254420,"Portner","Markus","Portner Markus"]
[0,"Kämpfer","Moritz","Kämpfer Moritz"]
[254427,"Zihlmann","Richard","Zihlmann Richard"]
[0,"Buchli","Lorin","Buchli Lorin"]
[254203,"Portner","Andreas","Portner Andreas"]
[0," Lehmann","Nico"," Lehmann Nico"]
[0,"Häringer","Beatrice","Häringer Beatrice"]
[254421,"Raschle","Richard","Raschle Richard"]
[0,"Urech","Konstantin","Urech Konstantin"]
[0,"Spaltenstein","Kristian","Spaltenstein Kristian"]
[587019,"Raschle","Lukas","Raschle Lukas"]
[0,"Lehmann","Nico","Lehmann Nico"]
[0,"Keller","Silas","Keller Silas"]
[0,"Sagnak","Ipek","Sagnak Ipek"]
[0,"Bichsel","Jamiro","Bichsel Jamiro"]
[0,"Hocevar","Fabio","Hocevar Fabio"]
[0,"Schmutzler","Rafael","Schmutzler Rafael"]
[254750,"Schmid","Stephan","Schmid Stephan"]
[254442,"Bertschinger","Hansruedi","Bertschinger Hansruedi"]
[254431,"Frey","Max","Frey Max"]
[254436,"Honegger","Manuela","Honegger Manuela"]
[700558,"Haubold","Urs","Haubold Urs"]
[303445,"Hauenstein","Adrian","Hauenstein Adrian"]
[290362,"Frischknecht","Werner","Frischknecht Werner"]
[254438,"Lannois","Harry","Lannois Harry"]
[777201,"Schmid","Miriam","Schmid Miriam"]
[103980,"Siegfried","Ruedi","Siegfried Ruedi"]
[253769,"Schlatter","Peter","Schlatter Peter"]
[254760,"Haubold","Heide","Haubold Heide"]
[254750,"Schmid","Stephan","Schmid Stephan"]
[254750,"Schmid","Stephan","Schmid Stephan"]
[254442,"Bertschinger","Hansruedi","Bertschinger Hansruedi"]
[254442,"Bertschinger","Hansruedi","Bertschinger Hansruedi"]
[254442,"Bertschinger","Hansruedi","Bertschinger Hansruedi"]
[290362,"Frischknecht","Werner","Frischknecht Werner"]
[254438,"Lannois","Harry","Lannois Harry"]
[254438,"Lannois","Harry","Lannois Harry"]
[253769,"Schlatter","Peter","Schlatter Peter"]
[253769,"Schlatter","Peter","Schlatter Peter"]
[253769,"Schlatter","Peter","Schlatter Peter"]
[126479,"Hollenstein","Vreni","Hollenstein Vreni"]
[254467,"Richner","Jessica","Richner Jessica"]
[128320,"Gantenbein","Paul","Gantenbein Paul"]
[253741,"Blaser","Hanspeter","Blaser Hanspeter"]
[268994,"Stahel","Marianne","Stahel Marianne"]
[254459,"Gloor","Peter","Gloor Peter"]
[254453,"Blaser","Karl","Blaser Karl"]
[110089,"Bolliger","Heinz","Bolliger Heinz"]
[18454,"Hirzel","Marcel","Hirzel Marcel"]
[968889,"Stiefel","Max","Stiefel Max"]
[254454,"Bloch","Michel","Bloch Michel"]
[254471,"Weibel","Rolf","Weibel Rolf"]
[254467,"Richner","Jessica","Richner Jessica"]
[253741,"Blaser","Hanspeter","Blaser Hanspeter"]
[253741,"Blaser","Hanspeter","Blaser Hanspeter"]
[253741,"Blaser","Hanspeter","Blaser Hanspeter"]
[153480,"Straumann","Ernst","Straumann Ernst"]
[254459,"Gloor","Peter","Gloor Peter"]
[0,"Schwaller","Gisela","Schwaller Gisela"]
[254454,"Bloch","Michel","Bloch Michel"]
[254471,"Weibel","Rolf",{"$f":"B835&\" \"&C835","v":"Weibel Rolf"}]
[254482,"Kägi","René","Kägi René"]
[941014,"Laluha","Peter","Laluha Peter"]
[121363,"Egli","Walter","Egli Walter"]
[754638,"Egli","Thomas","Egli Thomas"]
[254479,"Egli","Albert","Egli Albert"]
[254477,"Brunner","Ueli","Brunner Ueli"]
[318823,"Moro","Martin","Moro Martin"]
[254505,"Weiss","Hans-Peter","Weiss Hans-Peter"]
[254478,"Chappuis","Michel","Chappuis Michel"]
[17680,"Lienhard","Christian","Lienhard Christian"]
[813801,"Peter","Lukas","Peter Lukas"]
[308403,"Müller","Roger","Müller Roger"]
[24602,"Wikus","Patrick","Wikus Patrick"]
[289584,"Schellenberg","Kurt","Schellenberg Kurt"]
[254498,"Simmler","Martin","Simmler Martin"]
[254476,"Baltensperger","Rolf","Baltensperger Rolf"]
[110529,"Egli","Kurt","Egli Kurt"]
[294009,"Sägesser","Beat","Sägesser Beat"]
[254495,"Simmler","Urs","Simmler Urs"]
[254506,"Wohlgemuth","Ralph","Wohlgemuth Ralph"]
[254500,"Spalinger","Bernhard","Spalinger Bernhard"]
[254491,"Schmid","Marco","Schmid Marco"]
[254483,"Meili","Heinrich","Meili Heinrich"]
[0,"Stragiotti","Angelo","Stragiotti Angelo"]
[254498,"Simmler","Martin","Simmler Martin"]
[254506,"Wohlgemuth","Ralph","Wohlgemuth Ralph"]
[0,"Weilenmann","Lilian","Weilenmann Lilian"]
[0,"Lempp","Nadia","Lempp Nadia"]
[254477,"Brunner","Ueli","Brunner Ueli"]
[0,"Peter","Pascal","Peter Pascal"]
[254478,"Chappuis","Michel","Chappuis Michel"]
[0,"Wikus","Anna","Wikus Anna"]
[254498,"Simmler","Martin","Simmler Martin"]
[110529,"Egli","Kurt","Egli Kurt"]
[254495,"Simmler","Urs","Simmler Urs"]
[254495,"Simmler","Urs","Simmler Urs"]
[0,"Egli","Jan","Egli Jan"]
[0,"Nebel","Arleen","Nebel Arleen"]
[329173,"Sturzenegger","Reto","Sturzenegger Reto"]
[103210,"Suremann","Heinrich","Suremann Heinrich"]
[254521,"Kräutli","Luciano","Kräutli Luciano"]
[329171,"Frei","Silvan","Frei Silvan"]
[254522,"Lussi","Josef","Lussi Josef"]
[254522,"Lussi","Josef","Lussi Josef"]
[294018,"Thurnherr","Marco","Thurnherr Marco"]
[254517,"Brügger","Rosmarie","Brügger Rosmarie"]
[254526,"Rinderknecht","Ruth","Rinderknecht Ruth"]
[254526,"Rinderknecht","Ruth","Rinderknecht Ruth"]
[329170,"Bütler","Michi","Bütler Michi"]
[329172,"Eggenberger","Kurt","Eggenberger Kurt"]
[18734,"Boss","Tobias","Boss Tobias"]
[18735,"Widmer","Vera","Widmer Vera"]
[903180,"Suter","Franziska","Suter Franziska"]
[998348,"Hirschi","Heinz","Hirschi Heinz"]
[742361,"Strausak","Hugo","Strausak Hugo"]
[0,"Wiederkehr","Yvonne","Wiederkehr Yvonne"]
[329171,"Frei","Silvan","Frei Silvan"]
[294018,"Thurnherr","Marco","Thurnherr Marco"]
[294018,"Thurnherr","Marco","Thurnherr Marco"]
[254526,"Rinderknecht","Ruth","Rinderknecht Ruth"]
[329170,"Bütler","Michi","Bütler Michi"]
[329170,"Bütler","Michi","Bütler Michi"]
[18734,"Boss","Tobias","Boss Tobias"]
[903180,"Suter","Franziska",{"$f":"B899&\" \"&C899","v":"Suter Franziska"}]
[903180,"Suter","Franziska","Suter Franziska"]
[998348,"Hirschi","Heinz","Hirschi Heinz"]
[744515,"Vich","Viviane","Vich Viviane"]
[291825,"Gohl","Roman","Gohl Roman"]
[315697,"Vich","Dino","Vich Dino"]
[585601,"Wehle","Svenja","Wehle Svenja"]
[255788,"Engler","Marianne","Engler Marianne"]
[255776,"Bührer","Reto","Bührer Reto"]
[253776,"Suter","Reto","Suter Reto"]
[978702,"Landolt","Ravi","Landolt Ravi"]
[255794,"Sauzet","René","Sauzet René"]
[254912,"Müller","Yves","Müller Yves"]
[253726,"Schelling","Andreas","Schelling Andreas"]
[253726,"Schelling","Andreas","Schelling Andreas"]
[255770,"Brühlmann","Andreas","Brühlmann Andreas"]
[108512,"Bührer","Armin","Bührer Armin"]
[255754,"Kappeler","Wolfgang","Kappeler Wolfgang"]
[255754,"Kappeler","Wolfgang","Kappeler Wolfgang"]
[255806,"Winzeler","Simon","Winzeler Simon"]
[953103,"Schwab","Harald","Schwab Harald"]
[585620,"Hügli","Sarah","Hügli Sarah"]
[130020,"Wehle","Marianne","Wehle Marianne"]
[322234,"Nyffenegger","Pascal","Nyffenegger Pascal"]
[303451,"Klieber","Philippe","Klieber Philippe"]
[253775,"Suter","Marco","Suter Marco"]
[0,"Stuber","Michael","Stuber Michael"]
[938752,"Wulle","Andrin Dario","Wulle Andrin Dario"]
[978733,"Ehren","Marc","Ehren Marc"]
[0,"Müller","Emma","Müller Emma"]
[0,"Bischof","Julia","Bischof Julia"]
[835037,"Wanner","Manuel Maurice","Wanner Manuel Maurice"]
[253776,"Suter","Reto","Suter Reto"]
[978702,"Landolt","Ravi","Landolt Ravi"]
[253726,"Schelling","Andreas","Schelling Andreas"]
[253726,"Schelling","Andreas","Schelling Andreas"]
[108512,"Bührer","Armin","Bührer Armin"]
[255754,"Kappeler","Wolfgang","Kappeler Wolfgang"]
[731355,"Grobotek","Nino","Grobotek Nino"]
[978418,"Vasquez","Andrea","Vasquez Andrea"]
[254536,"Haller","Anton","Haller Anton"]
[254532,"Bosshard","Heinz","Bosshard Heinz"]
[254535,"Gadient","Reto","Gadient Reto"]
[254535,"Gadient","Reto","Gadient Reto"]
[942542,"Gutweniger","Erich","Gutweniger Erich"]
[126625,"Galbier-Raschle","Verena","Galbier-Raschle Verena"]
[9338,"Späni","Peter","Späni Peter"]
[294023,"Schaufelberger","Jennifer","Schaufelberger Jennifer"]
[254540,"Muhmenthaler","Kurt","Muhmenthaler Kurt"]
[254540,"Muhmenthaler","Kurt","Muhmenthaler Kurt"]
[978416,"Herzog","Peter","Herzog Peter"]
[978416,"Herzog","Peter","Herzog Peter"]
[255748,"Scherrer-Eigenmann","Jessica","Scherrer-Eigenmann Jessica"]
[255749,"Eigenmann","Bruno","Eigenmann Bruno"]
[254544,"Weber","Franz","Weber Franz"]
[128320,"Gantenbein","Paul","Gantenbein Paul"]
[254536,"Haller","Anton","Haller Anton"]
[942542,"Gutweniger","Erich","Gutweniger Erich"]
[254384,"Tschanz","Durs","Tschanz Durs"]
[126625,"Galbier-Raschle","Verena","Galbier-Raschle Verena"]
[254376,"Baumgartner","Michel","Baumgartner Michel"]
[254376,"Baumgartner","Michel","Baumgartner Michel"]
[254534,"Donatsch","Daniel","Donatsch Daniel"]
[255749,"Eigenmann","Bruno","Eigenmann Bruno"]
[254545,"Zimmermann","Alfred",{"$f":"B963&\" \"&C963","v":"Zimmermann Alfred"}]
[978418,"Vasquez","Andrea","Vasquez Andrea"]
[254536,"Haller","Anton","Haller Anton"]
[254384,"Tschanz","Durs","Tschanz Durs"]
[254384,"Tschanz","Durs","Tschanz Durs"]
[126625,"Galbier-Raschle","Verena","Galbier-Raschle Verena"]
[254376,"Baumgartner","Michel","Baumgartner Michel"]
[254534,"Donatsch","Daniel","Donatsch Daniel"]
[254534,"Donatsch","Daniel","Donatsch Daniel"]
[254550,"Signer","Dominik","Signer Dominik"]
[254547,"Bachmann","Rolf","Bachmann Rolf"]
[102977,"Stähli","Urs","Stähli Urs"]
[205730,"Schmid","Christian","Schmid Christian"]
[135716,"Staub","Max","Staub Max"]
[254549,"Kuriger","Michael","Kuriger Michael"]
[254551,"Truninger","Rainer","Truninger Rainer"]
[205708,"Kuriger","Fritz","Kuriger Fritz"]
[983431,"de Matos Caiado","Jose","de Matos Caiado Jose"]
[253713,"Vogel","Martin","Vogel Martin"]
[254547,"Bachmann","Rolf","Bachmann Rolf"]
[254551,"Truninger","Rainer","Truninger Rainer"]
[205708,"Kuriger","Fritz","Kuriger Fritz"]
[205708,"Kuriger","Fritz","Kuriger Fritz"]
[253713,"Vogel","Martin","Vogel Martin"]
[253713,"Vogel","Martin","Vogel Martin"]
[253713,"Vogel","Martin","Vogel Martin"]
[253713,"Vogel","Martin","Vogel Martin"]
[253713,"Vogel","Martin","Vogel Martin"]
[253713,"Vogel","Martin","Vogel Martin"]
[6257,"Frey","Urs","Frey Urs"]
[254555,"Nägeli","Samuel","Nägeli Samuel"]
[6265,"Schwarzenbach","Patrick","Schwarzenbach Patrick"]
[745988,"Duvoisin","Alex","Duvoisin Alex"]
[153977,"Wegmann","Heinz","Wegmann Heinz"]
[271379,"Roschi","Rosmarie","Roschi Rosmarie"]
[254552,"Baumann","Hans","Baumann Hans"]
[837984,"Fürst","Armin","Fürst Armin"]
[254559,"Widmer","Michael","Widmer Michael"]
[254556,"Salzmann","Claudia","Salzmann Claudia"]
[254558,"Widmer","Ruth","Widmer Ruth"]
[254558,"Widmer","Ruth","Widmer Ruth"]
[167942,"Manser","Erich","Manser Erich"]
[889235,"Menzi","Andrea","Menzi Andrea"]
[0,"Kämpfer","Moritz","Kämpfer Moritz"]
[0,"Duvoisin","Martina","Duvoisin Martina"]
[0,"Duvoisin","Martina","Duvoisin Martina"]
[0,"Marfurt","Lena","Marfurt Lena"]
[0,"Rufibach","Josua","Rufibach Josua"]
[254559,"Widmer","Michael","Widmer Michael"]
[254556,"Salzmann","Claudia","Salzmann Claudia"]
[254556,"Salzmann","Claudia","Salzmann Claudia"]
[167942,"Manser","Erich","Manser Erich"]
[167942,"Manser","Erich","Manser Erich"]
[167942,"Manser","Erich","Manser Erich"]
[167942,"Manser","Erich","Manser Erich"]
[899860,"Wohlgensinger","Haliunaa","Wohlgensinger Haliunaa"]
[706155,"Kapelis","Nikolaos","Kapelis Nikolaos"]
[254565,"Grubenmann","Peter","Grubenmann Peter"]
[254563,"Fischer","Alwin","Fischer Alwin"]
[254563,"Fischer","Alwin","Fischer Alwin"]
[254563,"Fischer","Alwin","Fischer Alwin"]
[173530,"Jud","Peter","Jud Peter"]
[173530,"Jud","Peter","Jud Peter"]
[1596,"Schupp","Marcus","Schupp Marcus"]
[1596,"Schupp","Marcus",{"$f":"B1027&\" \"&C1027","v":"Schupp Marcus"}]
[254573,"Vollenweider","Willi","Vollenweider Willi"]
[254573,"Vollenweider","Willi","Vollenweider Willi"]
[254569,"Oetiker","Bruno","Oetiker Bruno"]
[254569,"Oetiker","Bruno","Oetiker Bruno"]
[254566,"Grubenmann","Walter","Grubenmann Walter"]
[254566,"Grubenmann","Walter","Grubenmann Walter"]
[254564,"Grubenmann","Margrit","Grubenmann Margrit"]
[254564,"Grubenmann","Margrit","Grubenmann Margrit"]
[254560,"Aebersold","Andreas","Aebersold Andreas"]
[254560,"Aebersold","Andreas","Aebersold Andreas"]
[852255,"Wackerl","Christian","Wackerl Christian"]
[852255,"Wackerl","Christian","Wackerl Christian"]
[9342,"Tröger","Steve","Tröger Steve"]
[254563,"Fischer","Alwin","Fischer Alwin"]
[254563,"Fischer","Alwin","Fischer Alwin"]
[254563,"Fischer","Alwin","Fischer Alwin"]
[1596,"Schupp","Marcus","Schupp Marcus"]
[254573,"Vollenweider","Willi","Vollenweider Willi"]
[254569,"Oetiker","Bruno","Oetiker Bruno"]
[254566,"Grubenmann","Walter","Grubenmann Walter"]
[254560,"Aebersold","Andreas","Aebersold Andreas"]
[254560,"Aebersold","Andreas","Aebersold Andreas"]
[254560,"Aebersold","Andreas","Aebersold Andreas"]
[254560,"Aebersold","Andreas","Aebersold Andreas"]
[254560,"Aebersold","Andreas","Aebersold Andreas"]
[202644,"Winkler","Ruedi","Winkler Ruedi"]
[188846,"Eyer","Patric","Eyer Patric"]
[254630,"Reiffer","Hans","Reiffer Hans"]
[254632,"Rusterholz","Adolf","Rusterholz Adolf"]
[254625,"Hiestand","Ueli","Hiestand Ueli"]
[254575,"Baumann","Hans","Baumann Hans"]
[254631,"Roth","Bruno","Roth Bruno"]
[254632,"Rusterholz","Adolf","Rusterholz Adolf"]
[254632,"Rusterholz","Adolf","Rusterholz Adolf"]
[254625,"Hiestand","Ueli","Hiestand Ueli"]
[254625,"Hiestand","Ueli","Hiestand Ueli"]
[254575,"Baumann","Hans","Baumann Hans"]
[162088,"Trittibach","Peter","Trittibach Peter"]
[254635,"Blöchlinger","Franz","Blöchlinger Franz"]
[254635,"Blöchlinger","Franz","Blöchlinger Franz"]
[213563,"Ebnöther","Jürg","Ebnöther Jürg"]
[213563,"Ebnöther","Jürg","Ebnöther Jürg"]
[156937,"Bodmer","Urs","Bodmer Urs"]
[156937,"Bodmer","Urs","Bodmer Urs"]
[254638,"Eschmann","Ruedi","Eschmann Ruedi"]
[254648,"Zollinger","Willy","Zollinger Willy"]
[253755,"Hollenstein","Franz","Hollenstein Franz"]
[253755,"Hollenstein","Franz","Hollenstein Franz"]
[221312,"Kaiser","Franz","Kaiser Franz"]
[221312,"Kaiser","Franz","Kaiser Franz"]
[941015,"Keller","Urs","Keller Urs"]
[254636,"Blöchlinger","Thomas","Blöchlinger Thomas"]
[254636,"Blöchlinger","Thomas","Blöchlinger Thomas"]
[0,"Oberholzer","Nino","Oberholzer Nino"]
[254635,"Blöchlinger","Franz","Blöchlinger Franz"]
[254635,"Blöchlinger","Franz","Blöchlinger Franz"]
[0,"Peter","Flurin","Peter Flurin"]
[0,"Peter","Jonn","Peter Jonn"]
[156937,"Bodmer","Urs","Bodmer Urs"]
[156937,"Bodmer","Urs","Bodmer Urs"]
[0,"Oberholzer","Nik","Oberholzer Nik"]
[0,"Keller","Jaro","Keller Jaro"]
[0,"Kunz","Levin","Kunz Levin"]
[0,"von Gunten","Jan",{"$f":"B1091&\" \"&C1091","v":"von Gunten Jan"}]
[0,"Peter","Carina","Peter Carina"]
[254638,"Eschmann","Ruedi","Eschmann Ruedi"]
[254638,"Eschmann","Ruedi","Eschmann Ruedi"]
[253755,"Hollenstein","Franz","Hollenstein Franz"]
[221312,"Kaiser","Franz","Kaiser Franz"]
[221312,"Kaiser","Franz","Kaiser Franz"]
[0,"Van Waasen","Hagen","Van Waasen Hagen"]
[0,"Pianta","Sandro","Pianta Sandro"]
[0,"Keller","Anouk","Keller Anouk"]
[0,"Ruh","Loris","Ruh Loris"]
[24470,"Klaus","Merlin","Klaus Merlin"]
[255839,"Eggli","Walter","Eggli Walter"]
[255841,"Gut","Raphael","Gut Raphael"]
[24472,"Koch","Uwe","Koch Uwe"]
[255848,"Veyhl","Fridolin","Veyhl Fridolin"]
[255840,"Gantner","Heinz","Gantner Heinz"]
[318907,"Nepfer","Marcel","Nepfer Marcel"]
[107356,"Werner","Ernst","Werner Ernst"]
[191694,"Wiesmann","Ernst","Wiesmann Ernst"]
[255837,"Egger","Jörg","Egger Jörg"]
[255843,"Hadorn","Markus","Hadorn Markus"]
[24470,"Klaus","Merlin","Klaus Merlin"]
[255839,"Eggli","Walter","Eggli Walter"]
[255839,"Eggli","Walter","Eggli Walter"]
[0,"Derungs","Neo","Derungs Neo"]
[0,"Egger","Cathrine","Egger Cathrine"]
[695033,"Baumann","Josef","Baumann Josef"]
[0,"Hofer","Dominik","Hofer Dominik"]
[0,"Michels","Rainer","Michels Rainer"]
[0,"Scheuber","Magdalena","Scheuber Magdalena"]
[0,"Schreiber","René","Schreiber René"]
[0,"Wyrsch","Michael","Wyrsch Michael"]
[0,"Bernath","Brigitte","Bernath Brigitte"]
[0,"Mathis","Liam","Mathis Liam"]
[780575,"Rubli","Aldo","Rubli Aldo"]
[0,"Hofer","Philipp","Hofer Philipp"]
[255848,"Veyhl","Fridolin","Veyhl Fridolin"]
[0,"Kellenberger","Konrad","Kellenberger Konrad"]
[0,"Weber","Constantin","Weber Constantin"]
[0,"Moser","Timo","Moser Timo"]
[0,"Corfu","Noemi","Corfu Noemi"]
[255840,"Gantner","Heinz","Gantner Heinz"]
[0,"Staub","Fabienne","Staub Fabienne"]
[0,"Mayer","Arthur","Mayer Arthur"]
[318907,"Nepfer","Marcel","Nepfer Marcel"]
[0,"Schnydrig","Philippe","Schnydrig Philippe"]
[0,"Cleeren","Rudi","Cleeren Rudi"]
[0,"Weber","Philipp","Weber Philipp"]
[191694,"Wiesmann","Ernst","Wiesmann Ernst"]
[0,"Spalinger","Esther","Spalinger Esther"]
[0,"Neininger","Ruedi","Neininger Ruedi"]
[0,"Brändle","Daniel","Brändle Daniel"]
[0,"Prange","Mia","Prange Mia"]
[255843,"Hadorn","Markus","Hadorn Markus"]
[0,"Nussbaum","Tim","Nussbaum Tim"]
[103821,"Ulrich","Markus","Ulrich Markus"]
[423253,"Jud","Oliver","Jud Oliver"]
[0,"Spalinger","Marek","Spalinger Marek"]
[255841,"Gut","Raphael","Gut Raphael"]
[24472,"Koch","Uwe","Koch Uwe"]
[255848,"Veyhl","Fridolin","Veyhl Fridolin"]
[0,"Schlatter","Beat","Schlatter Beat"]
[0,"Müller","David","Müller David"]
[166575,"Brunschwiler","Josef",{"$f":"B1155&\" \"&C1155","v":"Brunschwiler Josef"}]
[0,"Benz","Kevin","Benz Kevin"]
[255843,"Hadorn","Markus","Hadorn Markus"]
[254407,"Suter","Franz","Suter Franz"]
[254407,"Suter","Franz","Suter Franz"]
[294832,"Zellweger","Carmen","Zellweger Carmen"]
[294832,"Zellweger","Carmen","Zellweger Carmen"]
[254666,"Hinnen","Heini","Hinnen Heini"]
[254666,"Hinnen","Heini","Hinnen Heini"]
[9420,"Scolaro","Franco","Scolaro Franco"]
[9420,"Scolaro","Franco","Scolaro Franco"]
[303431,"Ebnöther","Sarah","Ebnöther Sarah"]
[303431,"Ebnöther","Sarah","Ebnöther Sarah"]
[303431,"Ebnöther","Sarah","Ebnöther Sarah"]
[213563,"Ebnöther","Jürg","Ebnöther Jürg"]
[213563,"Ebnöther","Jürg","Ebnöther Jürg"]
[171267,"Hinnen","Daniel","Hinnen Daniel"]
[171267,"Hinnen","Daniel","Hinnen Daniel"]
[16511,"Pisa","Yoric","Pisa Yoric"]
[16511,"Pisa","Yoric","Pisa Yoric"]
[263194,"Neukom","Margrit","Neukom Margrit"]
[254672,"Schindler","Hermann","Schindler Hermann"]
[254672,"Schindler","Hermann","Schindler Hermann"]
[921110,"Pontiggia","Mattia","Pontiggia Mattia"]
[254660,"Bichsel","Stefan","Bichsel Stefan"]
[254667,"Hinnen","Peter","Hinnen Peter"]
[254667,"Hinnen","Peter","Hinnen Peter"]
[254664,"Harlacher","Renato","Harlacher Renato"]
[254664,"Harlacher","Renato","Harlacher Renato"]
[943242,"Tuchschmid","Marlyse","Tuchschmid Marlyse"]
[254405,"Notz","Jakob","Notz Jakob"]
[254405,"Notz","Jakob","Notz Jakob"]
[288391,"Müller","Albert","Müller Albert"]
[9434,"Heyn","Ilonka","Heyn Ilonka"]
[9434,"Heyn","Ilonka","Heyn Ilonka"]
[172473,"Merki","Michael","Merki Michael"]
[244960,"Roth","Markus","Roth Markus"]
[552212,"Baumgartner","Joëlle Pascale","Baumgartner Joëlle Pascale"]
[552212,"Baumgartner","Joëlle Pascale","Baumgartner Joëlle Pascale"]
[254675,"Steiger","Niklaus","Steiger Niklaus"]
[254675,"Steiger","Niklaus","Steiger Niklaus"]
[254675,"Steiger","Niklaus","Steiger Niklaus"]
[254668,"Infanger","Jürg","Infanger Jürg"]
[254668,"Infanger","Jürg","Infanger Jürg"]
[254670,"Moor","Hans","Moor Hans"]
[254670,"Moor","Hans","Moor Hans"]
[303429,"Jost","Kevin","Jost Kevin"]
[303429,"Jost","Kevin","Jost Kevin"]
[254676,"Steinemann","Roland","Steinemann Roland"]
[254676,"Steinemann","Roland","Steinemann Roland"]
[254676,"Steinemann","Roland","Steinemann Roland"]
[254661,"Caviezel","Andreas","Caviezel Andreas"]
[254661,"Caviezel","Andreas","Caviezel Andreas"]
[254661,"Caviezel","Andreas","Caviezel Andreas"]
[322776,"Schellenbaum","Aurelio","Schellenbaum Aurelio"]
[322776,"Schellenbaum","Aurelio","Schellenbaum Aurelio"]
[0,"Pisà","Lorin","Pisà Lorin"]
[244960,"Roth","Markus","Roth Markus"]
[254668,"Infanger","Jürg","Infanger Jürg"]
[0,"Zamortocan","Leon","Zamortocan Leon"]
[294832,"Zellweger","Carmen","Zellweger Carmen"]
[0,"Biser","David","Biser David"]
[0,"Biser","David","Biser David"]
[254666,"Hinnen","Heini","Hinnen Heini"]
[303431,"Ebnöther","Sarah",{"$f":"B1219&\" \"&C1219","v":"Ebnöther Sarah"}]
[303431,"Ebnöther","Sarah","Ebnöther Sarah"]
[171267,"Hinnen","Daniel","Hinnen Daniel"]
[16511,"Pisa","Yoric","Pisa Yoric"]
[16511,"Pisa","Yoric","Pisa Yoric"]
[0,"Handke","Philipp","Handke Philipp"]
[0,"Biser","Jann","Biser Jann"]
[0,"Biser","Jann","Biser Jann"]
[254660,"Bichsel","Stefan","Bichsel Stefan"]
[254405,"Notz","Jakob","Notz Jakob"]
[288391,"Müller","Albert","Müller Albert"]
[0,"Posner","Vincent","Posner Vincent"]
[0,"Posner","Vincent","Posner Vincent"]
[552212,"Baumgartner","Joëlle Pascale","Baumgartner Joëlle Pascale"]
[254675,"Steiger","Niklaus","Steiger Niklaus"]
[254675,"Steiger","Niklaus","Steiger Niklaus"]
[254676,"Steinemann","Roland","Steinemann Roland"]
[254661,"Caviezel","Andreas","Caviezel Andreas"]
[322776,"Schellenbaum","Aurelio","Schellenbaum Aurelio"]
[322776,"Schellenbaum","Aurelio","Schellenbaum Aurelio"]
[254798,"Kneubühler","Philippe","Kneubühler Philippe"]
[254798,"Kneubühler","Philippe","Kneubühler Philippe"]
[285201,"Niederberger","Dominic","Niederberger Dominic"]
[148322,"Maurer","Reto","Maurer Reto"]
[174825,"Reif","Daniel","Reif Daniel"]
[174825,"Reif","Daniel","Reif Daniel"]
[112223,"Frei","Roland","Frei Roland"]
[112223,"Frei","Roland","Frei Roland"]
[287558,"Meili","René","Meili René"]
[254795,"Böhler","Walter","Böhler Walter"]
[254795,"Böhler","Walter","Böhler Walter"]
[254271,"Niederberger","Pius","Niederberger Pius"]
[254271,"Niederberger","Pius","Niederberger Pius"]
[254268,"Meili","Renate","Meili Renate"]
[161206,"Egolf","Andreas","Egolf Andreas"]
[254269,"Münger","Werner","Münger Werner"]
[182723,"Meister","Rolf","Meister Rolf"]
[285907,"Niederberger","Michel","Niederberger Michel"]
[747271,"Müller","Werner","Müller Werner"]
[747271,"Müller","Werner","Müller Werner"]
[254685,"Schollenberger","Marcel","Schollenberger Marcel"]
[254685,"Schollenberger","Marcel","Schollenberger Marcel"]
[240402,"Räss","Richard","Räss Richard"]
[240402,"Räss","Richard","Räss Richard"]
[240402,"Räss","Richard","Räss Richard"]
[254688,"Strasser","Heinz","Strasser Heinz"]
[271652,"Tonoli","Claudio","Tonoli Claudio"]
[271652,"Tonoli","Claudio","Tonoli Claudio"]
[254264,"Heinzer","Roger","Heinzer Roger"]
[254798,"Kneubühler","Philippe","Kneubühler Philippe"]
[285201,"Niederberger","Dominic","Niederberger Dominic"]
[174825,"Reif","Daniel","Reif Daniel"]
[112223,"Frei","Roland","Frei Roland"]
[112223,"Frei","Roland","Frei Roland"]
[112223,"Frei","Roland","Frei Roland"]
[112223,"Frei","Roland","Frei Roland"]
[254795,"Böhler","Walter","Böhler Walter"]
[254271,"Niederberger","Pius","Niederberger Pius"]
[0,"Frei","Fabienne","Frei Fabienne"]
[0,"Frei","Andreas","Frei Andreas"]
[0,"Frei","Andreas","Frei Andreas"]
[254736,"Hänni","Markus","Hänni Markus"]
[254736,"Hänni","Markus","Hänni Markus"]
[685716,"Heider","Monica","Heider Monica"]
[685716,"Heider","Monica",{"$f":"B1283&\" \"&C1283","v":"Heider Monica"}]
[685715,"Dietrich","Maik","Dietrich Maik"]
[685715,"Dietrich","Maik","Dietrich Maik"]
[254742,"Meier","Roland","Meier Roland"]
[254742,"Meier","Roland","Meier Roland"]
[254732,"Greutert","Walter","Greutert Walter"]
[254735,"Hänni","Thomas","Hänni Thomas"]
[254735,"Hänni","Thomas","Hänni Thomas"]
[254726,"Bleuler","Eduard","Bleuler Eduard"]
[254725,"Berli","Rico","Berli Rico"]
[254725,"Berli","Rico","Berli Rico"]
[254725,"Berli","Rico","Berli Rico"]
[545162,"Lohm","Christian","Lohm Christian"]
[545162,"Lohm","Christian","Lohm Christian"]
[397891,"Heider","Sonja","Heider Sonja"]
[397891,"Heider","Sonja","Heider Sonja"]
[297902,"Dietrich","Bettina","Dietrich Bettina"]
[297902,"Dietrich","Bettina","Dietrich Bettina"]
[254734,"Gujer","Daniel","Gujer Daniel"]
[254734,"Gujer","Daniel","Gujer Daniel"]
[299058,"Bollmann","Ruth","Bollmann Ruth"]
[299058,"Bollmann","Ruth","Bollmann Ruth"]
[253772,"Seeberger","Hans","Seeberger Hans"]
[253772,"Seeberger","Hans","Seeberger Hans"]
[254738,"Lang","Patrick","Lang Patrick"]
[24475,"Fuchs","Christine","Fuchs Christine"]
[24475,"Fuchs","Christine","Fuchs Christine"]
[236047,"Wismer","Christian","Wismer Christian"]
[254733,"Gujer","Nicole","Gujer Nicole"]
[254733,"Gujer","Nicole","Gujer Nicole"]
[254736,"Hänni","Markus","Hänni Markus"]
[685716,"Heider","Monica","Heider Monica"]
[685715,"Dietrich","Maik","Dietrich Maik"]
[0,"Weber","Lois","Weber Lois"]
[254742,"Meier","Roland","Meier Roland"]
[254742,"Meier","Roland","Meier Roland"]
[254742,"Meier","Roland","Meier Roland"]
[254732,"Greutert","Walter","Greutert Walter"]
[254735,"Hänni","Thomas","Hänni Thomas"]
[0,"Altorfer","Hansruedi","Altorfer Hansruedi"]
[297902,"Dietrich","Bettina","Dietrich Bettina"]
[297902,"Dietrich","Bettina","Dietrich Bettina"]
[254734,"Gujer","Daniel","Gujer Daniel"]
[0,"Kern","Robin","Kern Robin"]
[0,"Lang","Oliver","Lang Oliver"]
[0,"Huber","Nik","Huber Nik"]
[254738,"Lang","Patrick","Lang Patrick"]
[254738,"Lang","Patrick","Lang Patrick"]
[254738,"Lang","Patrick","Lang Patrick"]
[254733,"Gujer","Nicole","Gujer Nicole"]
[254733,"Gujer","Nicole","Gujer Nicole"]
[0,"Heim","Aaron","Heim Aaron"]
[931602,"Dobler","Rolf","Dobler Rolf"]
[397565,"Haag","Severin","Haag Severin"]
[254749,"Moser","Walter","Moser Walter"]
[254749,"Moser","Walter","Moser Walter"]
[294050,"von Rickenbach","Jürg","von Rickenbach Jürg"]
[294050,"von Rickenbach","Jürg","von Rickenbach Jürg"]
[329176,"Hasler","Felix","Hasler Felix"]
[329176,"Hasler","Felix","Hasler Felix"]
[303341,"Müller","Joel","Müller Joel"]
[931601,"Gyssler","Bernhard","Gyssler Bernhard"]
[931601,"Gyssler","Bernhard","Gyssler Bernhard"]
[823753,"Futscher","Roland","Futscher Roland"]
[823753,"Futscher","Roland",{"$f":"B1347&\" \"&C1347","v":"Futscher Roland"}]
[748336,"Pfister","Quirin","Pfister Quirin"]
[222882,"Hofmann","Edi","Hofmann Edi"]
[222882,"Hofmann","Edi","Hofmann Edi"]
[777199,"Drolshagen","Björn","Drolshagen Björn"]
[748337,"Jacobi","Benjamin","Jacobi Benjamin"]
[0,"Zweig","Yoel","Zweig Yoel"]
[0,"Zweig","Yoel","Zweig Yoel"]
[0,"Zelenskii","Aleksandr","Zelenskii Aleksandr"]
[0,"Zelenskii","Aleksandr","Zelenskii Aleksandr"]
[254749,"Moser","Walter","Moser Walter"]
[0,"Hürlimann","Luis","Hürlimann Luis"]
[0,"Hürlimann","Luis","Hürlimann Luis"]
[294050,"von Rickenbach","Jürg","von Rickenbach Jürg"]
[329176,"Hasler","Felix","Hasler Felix"]
[329176,"Hasler","Felix","Hasler Felix"]
[329176,"Hasler","Felix","Hasler Felix"]
[329176,"Hasler","Felix","Hasler Felix"]
[329176,"Hasler","Felix","Hasler Felix"]
[0,"Unger","Yannick","Unger Yannick"]
[0,"Unger","Yannick","Unger Yannick"]
[0,"Moore","Tobin","Moore Tobin"]
[0,"Moore","Tobin","Moore Tobin"]
[0,"De Crignis","Valerio","De Crignis Valerio"]
[0,"De Crignis","Valerio","De Crignis Valerio"]
[222882,"Hofmann","Edi","Hofmann Edi"]
[222882,"Hofmann","Edi","Hofmann Edi"]
[0,"Reiser","Andrin","Reiser Andrin"]
[0,"Reiser","Andrin","Reiser Andrin"]
[0,"Schön","Alina","Schön Alina"]
[0,"Schön","Alina","Schön Alina"]
[780586,"Bernet","Dominic","Bernet Dominic"]
[780586,"Bernet","Dominic","Bernet Dominic"]
[885436,"Stauffer","Siro","Stauffer Siro"]
[885436,"Stauffer","Siro","Stauffer Siro"]
[254759,"Guyer","Hansjörg","Guyer Hansjörg"]
[793262,"Crepaldi","Michael","Crepaldi Michael"]
[793262,"Crepaldi","Michael","Crepaldi Michael"]
[830876,"Bernet","Tabea","Bernet Tabea"]
[830876,"Bernet","Tabea","Bernet Tabea"]
[254761,"Leuenberger","Max","Leuenberger Max"]
[254761,"Leuenberger","Max","Leuenberger Max"]
[254761,"Leuenberger","Max","Leuenberger Max"]
[913052,"Guntern","Chantal","Guntern Chantal"]
[913052,"Guntern","Chantal","Guntern Chantal"]
[254755,"Eicher","Marc","Eicher Marc"]
[254755,"Eicher","Marc","Eicher Marc"]
[254755,"Eicher","Marc","Eicher Marc"]
[742369,"Riexinger","Nicola","Riexinger Nicola"]
[742369,"Riexinger","Nicola","Riexinger Nicola"]
[294068,"Ritzmann","Markus","Ritzmann Markus"]
[294068,"Ritzmann","Markus","Ritzmann Markus"]
[4626,"Meier","Andrin","Meier Andrin"]
[4626,"Meier","Andrin","Meier Andrin"]
[852013,"Hefti","Janine","Hefti Janine"]
[852013,"Hefti","Janine","Hefti Janine"]
[254762,"Meier","Werner","Meier Werner"]
[153214,"Bührer","Hans","Bührer Hans"]
[153214,"Bührer","Hans","Bührer Hans"]
[153214,"Bührer","Hans","Bührer Hans"]
[742371,"Karrer","Florian","Karrer Florian"]
[742371,"Karrer","Florian","Karrer Florian"]
[162591,"Rüegg","Edy","Rüegg Edy"]
[16209,"Barbagallo","Nicole","Barbagallo Nicole"]
[16209,"Barbagallo","Nicole",{"$f":"B1411&\" \"&C1411","v":"Barbagallo Nicole"}]
[254763,"Müller","Benjamin","Müller Benjamin"]
[294071,"Bieri","Reto","Bieri Reto"]
[294071,"Bieri","Reto","Bieri Reto"]
[294071,"Bieri","Reto","Bieri Reto"]
[117803,"Wüest","Markus","Wüest Markus"]
[117803,"Wüest","Markus","Wüest Markus"]
[117803,"Wüest","Markus","Wüest Markus"]
[118501,"Hiestand","Robert","Hiestand Robert"]
[118501,"Hiestand","Robert","Hiestand Robert"]
[118501,"Hiestand","Robert","Hiestand Robert"]
[545254,"Geitner","Philipp","Geitner Philipp"]
[545254,"Geitner","Philipp","Geitner Philipp"]
[941064,"Guntern","Joshua","Guntern Joshua"]
[941064,"Guntern","Joshua","Guntern Joshua"]
[913051,"Guntern","Heinz","Guntern Heinz"]
[913051,"Guntern","Heinz","Guntern Heinz"]
[254764,"Sigg","Rudolf","Sigg Rudolf"]
[254764,"Sigg","Rudolf","Sigg Rudolf"]
[254764,"Sigg","Rudolf","Sigg Rudolf"]
[123684,"Rupper","Andreas","Rupper Andreas"]
[613002,"Mötteli","Dominic","Mötteli Dominic"]
[613002,"Mötteli","Dominic","Mötteli Dominic"]
[294057,"Hefti","Christian","Hefti Christian"]
[294057,"Hefti","Christian","Hefti Christian"]
[294057,"Hefti","Christian","Hefti Christian"]
[0,"Zehnder","Tulio","Zehnder Tulio"]
[0,"Rieder","Julian","Rieder Julian"]
[830876,"Bernet","Tabea","Bernet Tabea"]
[913052,"Guntern","Chantal","Guntern Chantal"]
[294068,"Ritzmann","Markus","Ritzmann Markus"]
[0,"Renner","Maximilian","Renner Maximilian"]
[0,"Eberle","Malena","Eberle Malena"]
[0,"Barbagallo","Jan Mika","Barbagallo Jan Mika"]
[0,"Bernet","Marlen","Bernet Marlen"]
[0,"Lameira Carvalho","Lucas","Lameira Carvalho Lucas"]
[545254,"Geitner","Philipp","Geitner Philipp"]
[0,"Tecin","Aylin","Tecin Aylin"]
[941064,"Guntern","Joshua","Guntern Joshua"]
[0,"Valenta","Tomas","Valenta Tomas"]
[0,"Varmen","Siva","Varmen Siva"]
[8095,"Guntern","Anjali","Guntern Anjali"]
[0,"Forster","Ramon","Forster Ramon"]
[294057,"Hefti","Christian","Hefti Christian"]
[0,"Zehnder","Tulio","Zehnder Tulio"]
[885436,"Stauffer","Siro","Stauffer Siro"]
[885436,"Stauffer","Siro","Stauffer Siro"]
[793262,"Crepaldi","Michael","Crepaldi Michael"]
[0,"Tabord","Jonas","Tabord Jonas"]
[0,"Tabord","Jonas","Tabord Jonas"]
[830876,"Bernet","Tabea","Bernet Tabea"]
[0,"Brand","Larissa","Brand Larissa"]
[294068,"Ritzmann","Markus","Ritzmann Markus"]
[294068,"Ritzmann","Markus","Ritzmann Markus"]
[0,"Renner","Maximilian","Renner Maximilian"]
[4626,"Meier","Andrin","Meier Andrin"]
[4626,"Meier","Andrin","Meier Andrin"]
[0,"Barbagallo","Jan Mika","Barbagallo Jan Mika"]
[153214,"Bührer","Hans","Bührer Hans"]
[153214,"Bührer","Hans","Bührer Hans"]
[153214,"Bührer","Hans","Bührer Hans"]
[0,"Schulthess","Vito","Schulthess Vito"]
[0,"Schulthess","Vito","Schulthess Vito"]
[0,"Bernet","Marlen","Bernet Marlen"]
[0,"Lameira Carvalho","Lucas",{"$f":"B1475&\" \"&C1475","v":"Lameira Carvalho Lucas"}]
[294071,"Bieri","Reto","Bieri Reto"]
[117803,"Wüest","Markus","Wüest Markus"]
[118501,"Hiestand","Robert","Hiestand Robert"]
[0,"Tecin","Aylin","Tecin Aylin"]
[941064,"Guntern","Joshua","Guntern Joshua"]
[0,"Valenta","Tomas","Valenta Tomas"]
[8095,"Guntern","Anjali","Guntern Anjali"]
[0,"Zwicky","Nico","Zwicky Nico"]
[613002,"Mötteli","Dominic","Mötteli Dominic"]
[613002,"Mötteli","Dominic","Mötteli Dominic"]
[294057,"Hefti","Christian","Hefti Christian"]
[294057,"Hefti","Christian","Hefti Christian"]
[294057,"Hefti","Christian","Hefti Christian"]
[294057,"Hefti","Christian","Hefti Christian"]
[0,"Corti","Nevio","Corti Nevio"]
[0,"Corti","Nevio","Corti Nevio"]
[254783,"Winkler","Eduard","Winkler Eduard"]
[254778,"Müller","Bruno","Müller Bruno"]
[280117,"Fritz","Oliver","Fritz Oliver"]
[254782,"Wettach","Franz","Wettach Franz"]
[254783,"Winkler","Eduard","Winkler Eduard"]
[254783,"Winkler","Eduard","Winkler Eduard"]
[254783,"Winkler","Eduard","Winkler Eduard"]
[254778,"Müller","Bruno","Müller Bruno"]
[280117,"Fritz","Oliver","Fritz Oliver"]
[254782,"Wettach","Franz","Wettach Franz"]
[938663,"Jud","Anton","Jud Anton"]
[254805,"Beeler","René","Beeler René"]
[300313,"Sens","Silke","Sens Silke"]
[254812,"Ruhstaller","Franz","Ruhstaller Franz"]
[126337,"Schnyder","Reto","Schnyder Reto"]
[126136,"Egli","Niklaus","Egli Niklaus"]
[254809,"Müller","Peter","Müller Peter"]
[226081,"Besmer","Bruno","Besmer Bruno"]
[255722,"Heuberger","Arnold","Heuberger Arnold"]
[205935,"Kälin","Raphael","Kälin Raphael"]
[698320,"Zimmermann","Walter","Zimmermann Walter"]
[254805,"Beeler","René","Beeler René"]
[254805,"Beeler","René","Beeler René"]
[126325,"Mächler","August","Mächler August"]
[254812,"Ruhstaller","Franz","Ruhstaller Franz"]
[0,"Dürst","Janine","Dürst Janine"]
[255722,"Heuberger","Arnold","Heuberger Arnold"]
[255722,"Heuberger","Arnold","Heuberger Arnold"]
[329176,"Hasler","Felix","Hasler Felix"]
[148448,"Moor","Ernst","Moor Ernst"]
[254675,"Steiger","Niklaus","Steiger Niklaus"]
[255770,"Brühlmann","Andreas","Brühlmann Andreas"]
[255754,"Kappeler","Wolfgang","Kappeler Wolfgang"]
[254407,"Suter","Franz","Suter Franz"]
[748299,"Lienhard","Reto","Lienhard Reto"]
[787141,"Puster","Herbert","Puster Herbert"]
[162088,"Trittibach","Peter","Trittibach Peter"]
[254232,"Fröhlich","Alfred","Fröhlich Alfred"]
[254336,"Siffert","Marie-Theres","Siffert Marie-Theres"]
[254482,"Kägi","René","Kägi René"]
[254212,"Fried","Mario","Fried Mario"]
[254238,"Kuhn","Hans","Kuhn Hans"]
[128320,"Gantenbein","Paul","Gantenbein Paul"]
[253756,"Keller","Rolf","Keller Rolf"]
[254426,"Wild","Kurt","Wild Kurt"]
[287558,"Meili","René","Meili René"]
[173530,"Jud","Peter","Jud Peter"]
[254420,"Portner","Markus",{"$f":"B1539&\" \"&C1539","v":"Portner Markus"}]
[254795,"Böhler","Walter","Böhler Walter"]
[254479,"Egli","Albert","Egli Albert"]
[254630,"Reiffer","Hans","Reiffer Hans"]
[254477,"Brunner","Ueli","Brunner Ueli"]
[107605,"Gohl","Walter","Gohl Walter"]
[153977,"Wegmann","Heinz","Wegmann Heinz"]
[290362,"Frischknecht","Werner","Frischknecht Werner"]
[254199,"Krebs","Robert","Krebs Robert"]
[140929,"Berger","Ueli","Berger Ueli"]
[325639,"Steiner","Erwin","Steiner Erwin"]
[254269,"Münger","Werner","Münger Werner"]
[254725,"Berli","Rico","Berli Rico"]
[254384,"Tschanz","Durs","Tschanz Durs"]
[254222,"Diethelm","Josef","Diethelm Josef"]
[254222,"Diethelm","Josef","Diethelm Josef"]
[175444,"Roth","Paul","Roth Paul"]
[175444,"Roth","Paul","Roth Paul"]
[254192,"Fürst","Willy","Fürst Willy"]
[837984,"Fürst","Armin","Fürst Armin"]
[254773,"Röthlin","Kurt","Röthlin Kurt"]
[103980,"Siegfried","Ruedi","Siegfried Ruedi"]
[254154,"Illi","Freddy","Illi Freddy"]
[254376,"Baumgartner","Michel","Baumgartner Michel"]
[240402,"Räss","Richard","Räss Richard"]
[148448,"Moor","Ernst","Moor Ernst"]
[254517,"Brügger","Rosmarie","Brügger Rosmarie"]
[226081,"Besmer","Bruno","Besmer Bruno"]
[255765,"Streit","Walter","Streit Walter"]
[191694,"Wiesmann","Ernst","Wiesmann Ernst"]
[254506,"Wohlgemuth","Ralph","Wohlgemuth Ralph"]
[254748,"Hollenstein","Ernst","Hollenstein Ernst"]
[205708,"Kuriger","Fritz","Kuriger Fritz"]
[255755,"Langhans","Dieter","Langhans Dieter"]
[118501,"Hiestand","Robert","Hiestand Robert"]
[254356,"Gerber","Hans","Gerber Hans"]
[255794,"Sauzet","René","Sauzet René"]
[254560,"Aebersold","Andreas","Aebersold Andreas"]
[171289,"Winzeler","Bruno","Winzeler Bruno"]
[253769,"Schlatter","Peter","Schlatter Peter"]
[197204,"Gohl","Bruno","Gohl Bruno"]
[253726,"Schelling","Andreas","Schelling Andreas"]
[254239,"Meier","Ruth","Meier Ruth"]
[255770,"Brühlmann","Andreas","Brühlmann Andreas"]
[254676,"Steinemann","Roland","Steinemann Roland"]
[108512,"Bührer","Armin","Bührer Armin"]
[255764,"Stoll","Hans Peter","Stoll Hans Peter"]
[253712,"Brönnimann","Fritz","Brönnimann Fritz"]
[254205,"Wegmann","Hans","Wegmann Hans"]
[202644,"Winkler","Ruedi","Winkler Ruedi"]
[254768,"Felber","Markus","Felber Markus"]
[254393,"Marty","Fredi","Marty Fredi"]
[254635,"Blöchlinger","Franz","Blöchlinger Franz"]
[254515,"Angst","Hans","Angst Hans"]
[255796,"Schrag","Eugen","Schrag Eugen"]
[254151,"Götschi","Martha","Götschi Martha"]
[254750,"Schmid","Stephan","Schmid Stephan"]
[254555,"Nägeli","Samuel","Nägeli Samuel"]
[202349,"Hess","Thomas","Hess Thomas"]
[312415,"Koch","Rainer","Koch Rainer"]
[254547,"Bachmann","Rolf","Bachmann Rolf"]
[254536,"Haller","Anton","Haller Anton"]
[254761,"Leuenberger","Max","Leuenberger Max"]
[254442,"Bertschinger","Hansruedi","Bertschinger Hansruedi"]
[168178,"Mock","Anton",{"$f":"B1603&\" \"&C1603","v":"Mock Anton"}]
[254178,"Meier","Peter","Meier Peter"]
[254231,"Frei","Arthur","Frei Arthur"]
[254563,"Fischer","Alwin","Fischer Alwin"]
[110741,"Schueller","Pascal","Schueller Pascal"]
[121363,"Egli","Walter","Egli Walter"]
[254431,"Frey","Max","Frey Max"]
[203385,"Landolt","Bruno","Landolt Bruno"]
[148950,"Morf","André","Morf André"]
[254749,"Moser","Walter","Moser Walter"]
[254783,"Winkler","Eduard","Winkler Eduard"]
[254168,"Sternberger","Horst","Sternberger Horst"]
[254427,"Zihlmann","Richard","Zihlmann Richard"]
[254380,"Näf","Peter","Näf Peter"]
[170772,"Lenherr","Beat","Lenherr Beat"]
[254156,"Keller","Peter","Keller Peter"]
[254221,"Tschachtli","Martin","Tschachtli Martin"]
[254277,"Ruckstuhl","Albert","Ruckstuhl Albert"]
[254382,"Nägeli","Stefan","Nägeli Stefan"]
[254170,"Bachofner","Heinrich","Bachofner Heinrich"]
[254305,"De Zordi","Peter","De Zordi Peter"]
[254521,"Kräutli","Luciano","Kräutli Luciano"]
[254157,"Krättli","Ruedi","Krättli Ruedi"]
[254268,"Meili","Renate","Meili Renate"]
[700558,"Haubold","Urs","Haubold Urs"]
[156937,"Bodmer","Urs","Bodmer Urs"]
[121298,"Carigiet","Meinrad","Carigiet Meinrad"]
[205730,"Schmid","Christian","Schmid Christian"]
[254438,"Lannois","Harry","Lannois Harry"]
[254424,"Tanner","Eric","Tanner Eric"]
[255848,"Veyhl","Fridolin","Veyhl Fridolin"]
[254732,"Greutert","Walter","Greutert Walter"]
[307945,"Bertschinger","Vreni","Bertschinger Vreni"]
[254421,"Raschle","Richard","Raschle Richard"]
[254198,"Krebs","Emil","Krebs Emil"]
[135716,"Staub","Max","Staub Max"]
[254522,"Lussi","Josef","Lussi Josef"]
[254667,"Hinnen","Peter","Hinnen Peter"]
[254573,"Vollenweider","Willi","Vollenweider Willi"]
[126625,"Galbier-Raschle","Verena","Galbier-Raschle Verena"]
[221312,"Kaiser","Franz","Kaiser Franz"]
[254632,"Rusterholz","Adolf","Rusterholz Adolf"]
[153214,"Bührer","Hans","Bührer Hans"]
[299841,"Siffert","Toni","Siffert Toni"]
[160888,"Berger","Guido","Berger Guido"]
[254162,"Eigenheer","Lorenz","Eigenheer Lorenz"]
[736660,"Pichler","Michael","Pichler Michael"]
[254569,"Oetiker","Bruno","Oetiker Bruno"]
[545251,"Angehrn","Leo","Angehrn Leo"]
[254405,"Notz","Jakob","Notz Jakob"]
[255795,"Schefer","Alfred","Schefer Alfred"]
[254734,"Gujer","Daniel","Gujer Daniel"]
[167730,"Ott","Arnold","Ott Arnold"]
[107356,"Werner","Ernst","Werner Ernst"]
[288391,"Müller","Albert","Müller Albert"]
[254551,"Truninger","Rainer","Truninger Rainer"]
[254414,"Bachofner","Heinrich","Bachofner Heinrich"]
[135936,"Bucher","Ernst","Bucher Ernst"]
[255758,"Nungesser","Dietmar","Nungesser Dietmar"]
[129381,"Burkhalter","Andreas","Burkhalter Andreas"]
[254459,"Gloor","Peter","Gloor Peter"]
[118448,"Patt","Josef","Patt Josef"]
[171132,"Steinmann","Andreas","Steinmann Andreas"]
[254495,"Simmler","Urs","Simmler Urs"]
[254526,"Rinderknecht","Ruth",{"$f":"B1667&\" \"&C1667","v":"Rinderknecht Ruth"}]
[106714,"Steinmann","Hans","Steinmann Hans"]
[253772,"Seeberger","Hans","Seeberger Hans"]
[222882,"Hofmann","Edi","Hofmann Edi"]
[222882,"Hofmann","Edi","Hofmann Edi"]
[104757,"Hediger","Emil","Hediger Emil"]
[254564,"Grubenmann","Margrit","Grubenmann Margrit"]
[254500,"Spalinger","Bernhard","Spalinger Bernhard"]
[978702,"Landolt","Ravi","Landolt Ravi"]
[253713,"Vogel","Martin","Vogel Martin"]
[254227,"Müller","Heinz","Müller Heinz"]
[110089,"Bolliger","Heinz","Bolliger Heinz"]
[254675,"Steiger","Niklaus","Steiger Niklaus"]
[156737,"Blaser","Marcel","Blaser Marcel"]
[172160,"Weiss","Hansruedi","Weiss Hansruedi"]
[254634,"Zweifel","Josef","Zweifel Josef"]
[254200,"Lenggenhager","Max","Lenggenhager Max"]
[255749,"Eigenmann","Bruno","Eigenmann Bruno"]
[329172,"Eggenberger","Kurt","Eggenberger Kurt"]
[254760,"Haubold","Heide","Haubold Heide"]
[254558,"Widmer","Ruth","Widmer Ruth"]
[117665,"Grob","Jakob","Grob Jakob"]
[167942,"Manser","Erich","Manser Erich"]
[254471,"Weibel","Rolf","Weibel Rolf"]
[254189,"Christoffel","Eduard","Christoffel Eduard"]
[254661,"Caviezel","Andreas","Caviezel Andreas"]
[254545,"Zimmermann","Alfred","Zimmermann Alfred"]
[254636,"Blöchlinger","Thomas","Blöchlinger Thomas"]
[998348,"Hirschi","Heinz","Hirschi Heinz"]
[254483,"Meili","Heinrich","Meili Heinrich"]
[255754,"Kappeler","Wolfgang","Kappeler Wolfgang"]
[254536,"Haller","Anton","Haller Anton"]
[254536,"Haller","Anton","Haller Anton"]
[254277,"Ruckstuhl","Albert","Ruckstuhl Albert"]
[254521,"Kräutli","Luciano","Kräutli Luciano"]
[254477,"Brunner","Ueli","Brunner Ueli"]
[221312,"Kaiser","Franz","Kaiser Franz"]
[288391,"Müller","Albert","Müller Albert"]
[253713,"Vogel","Martin","Vogel Martin"]
[254675,"Steiger","Niklaus","Steiger Niklaus"]
[253726,"Schelling","Andreas","Schelling Andreas"]
[253780,"Venturi","Luigi","Venturi Luigi"]
[255503,"Rüegg","Anton","Rüegg Anton"]
[253745,"Dober","Urs","Dober Urs"]
[255474,"Huwiler","Christian","Huwiler Christian"]
[254888,"Schnidrig","Otto","Schnidrig Otto"]
[515264,"Bertschi","Stefan","Bertschi Stefan"]
[253782,"Wyss","Silvan","Wyss Silvan"]
[253767,"Rey","Peter","Rey Peter"]
[307426,"Kaufmann","Madeleine","Kaufmann Madeleine"]
[255539,"Banzer","Urs","Banzer Urs"]
[114392,"Marbach","Karl","Marbach Karl"]
[253754,"Hediger","Roland","Hediger Roland"]
[255092,"Niederberger","Eugen","Niederberger Eugen"]
[255034,"Leder","Urs","Leder Urs"]
[255465,"Willi","André","Willi André"]
[254979,"Bättig","Urs","Bättig Urs"]
[225389,"Eichholzer","Bernhard","Eichholzer Bernhard"]
[254990,"Felber","Eveline","Felber Eveline"]
[255551,"Wüest","Andreas","Wüest Andreas"]
[0,"Hugener","Veronika","Hugener Veronika"]
[253717,"Dönni","Peter","Dönni Peter"]
[298650,"Koch","Thomas","Koch Thomas"]
[298650,"Koch","Thomas","Koch Thomas"]
[255503,"Rüegg","Anton",{"$f":"B1731&\" \"&C1731","v":"Rüegg Anton"}]
[236399,"Wetli","Guido","Wetli Guido"]
[255807,"Tonina","Stefanie","Tonina Stefanie"]
[255807,"Tonina","Stefanie","Tonina Stefanie"]
[255490,"Hochuli","Esther","Hochuli Esther"]
[255096,"Richener","Ruedi","Richener Ruedi"]
[320767,"Felber","Tobias","Felber Tobias"]
[0,"Windlin","Anita","Windlin Anita"]
[254888,"Schnidrig","Otto","Schnidrig Otto"]
[0,"Spiess","Bruno","Spiess Bruno"]
[255211,"Bucheli","Franz","Bucheli Franz"]
[115637,"Spiess","Josef","Spiess Josef"]
[253754,"Hediger","Roland","Hediger Roland"]
[255496,"Eggenberger","Stephan","Eggenberger Stephan"]
[255496,"Eggenberger","Stephan","Eggenberger Stephan"]
[255496,"Eggenberger","Stephan","Eggenberger Stephan"]
[255496,"Eggenberger","Stephan","Eggenberger Stephan"]
[174685,"Amgwerd","Albin","Amgwerd Albin"]
[253778,"Tonina","Alfredo","Tonina Alfredo"]
[255488,"Hediger","Michael","Hediger Michael"]
[134615,"Schnidrig","Meinrad","Schnidrig Meinrad"]
[254888,"Schnidrig","Otto","Schnidrig Otto"]
[253782,"Wyss","Silvan","Wyss Silvan"]
[253782,"Wyss","Silvan","Wyss Silvan"]
[254881,"Stiefel","Peter","Stiefel Peter"]
[253754,"Hediger","Roland","Hediger Roland"]
[255143,"Kalt","Robert","Kalt Robert"]
[172541,"Fricker","Konrad","Fricker Konrad"]
[255146,"Stäuble","Marcel","Stäuble Marcel"]
[151375,"Luginbühl","Stephan","Luginbühl Stephan"]
[254888,"Schnidrig","Otto","Schnidrig Otto"]
[254888,"Schnidrig","Otto","Schnidrig Otto"]
[253782,"Wyss","Silvan","Wyss Silvan"]
[253782,"Wyss","Silvan","Wyss Silvan"]
[254881,"Stiefel","Peter","Stiefel Peter"]
[151375,"Luginbühl","Stephan","Luginbühl Stephan"]
[151375,"Luginbühl","Stephan","Luginbühl Stephan"]
[151375,"Luginbühl","Stephan","Luginbühl Stephan"]
[254905,"Zimmermann","Josef","Zimmermann Josef"]
[0,"Kaufmann","Patrik","Kaufmann Patrik"]
[0,"Durrer","Walter","Durrer Walter"]
[0,"Windlin","Anita","Windlin Anita"]
[254905,"Zimmermann","Josef","Zimmermann Josef"]
[254905,"Zimmermann","Josef","Zimmermann Josef"]
[0,"Heinzer","Karl","Heinzer Karl"]
[3640,"Räuftlin","Ruedi","Räuftlin Ruedi"]
[781889,"Fluri","Martin","Fluri Martin"]
[254930,"Stecher","Alois","Stecher Alois"]
[102611,"Zihler","Markus","Zihler Markus"]
[102585,"Heutschi","René","Heutschi René"]
[255465,"Willi","André","Willi André"]
[254924,"Fluri","Roger","Fluri Roger"]
[104682,"Bloch","Eugen","Bloch Eugen"]
[102612,"Zihler","Rudolf","Zihler Rudolf"]
[236000,"Heutschi","Alban","Heutschi Alban"]
[102613,"Zihler","Ruedi","Zihler Ruedi"]
[254930,"Stecher","Alois","Stecher Alois"]
[254930,"Stecher","Alois","Stecher Alois"]
[102611,"Zihler","Markus","Zihler Markus"]
[102611,"Zihler","Markus","Zihler Markus"]
[102585,"Heutschi","René","Heutschi René"]
[254924,"Fluri","Roger","Fluri Roger"]
[104682,"Bloch","Eugen","Bloch Eugen"]
[104682,"Bloch","Eugen","Bloch Eugen"]
[102613,"Zihler","Ruedi",{"$f":"B1795&\" \"&C1795","v":"Zihler Ruedi"}]
[255468,"Egger","Fabian","Egger Fabian"]
[283918,"Nagy","Robert","Nagy Robert"]
[110676,"Herger","Michel","Herger Michel"]
[101411,"Merz","Käthy","Merz Käthy"]
[110702,"Zürcher","Hans","Zürcher Hans"]
[254944,"Johann","Gaby","Johann Gaby"]
[284020,"Wespisser","André","Wespisser André"]
[110908,"Zubler","Martina","Zubler Martina"]
[255468,"Egger","Fabian","Egger Fabian"]
[110676,"Herger","Michel","Herger Michel"]
[110702,"Zürcher","Hans","Zürcher Hans"]
[110908,"Zubler","Martina","Zubler Martina"]
[254954,"Meisinger","Stephan","Meisinger Stephan"]
[254976,"Wiese","Elisabeth","Wiese Elisabeth"]
[254969,"Reichmuth","Daniel","Reichmuth Daniel"]
[254965,"Flühler","Stefan","Flühler Stefan"]
[254973,"Schuler","Pirmin","Schuler Pirmin"]
[254954,"Meisinger","Stephan","Meisinger Stephan"]
[254954,"Meisinger","Stephan","Meisinger Stephan"]
[254976,"Wiese","Elisabeth","Wiese Elisabeth"]
[254976,"Wiese","Elisabeth","Wiese Elisabeth"]
[254976,"Wiese","Elisabeth","Wiese Elisabeth"]
[254969,"Reichmuth","Daniel","Reichmuth Daniel"]
[254965,"Flühler","Stefan","Flühler Stefan"]
[254965,"Flühler","Stefan","Flühler Stefan"]
[254990,"Felber","Eveline","Felber Eveline"]
[254990,"Felber","Eveline","Felber Eveline"]
[294908,"Hansen","Jonas","Hansen Jonas"]
[254989,"Felber","Hans","Felber Hans"]
[182911,"Schwegler","Bernhard","Schwegler Bernhard"]
[320767,"Felber","Tobias","Felber Tobias"]
[488452,"Schumacher","David","Schumacher David"]
[23272,"Bucherer","Felix","Bucherer Felix"]
[114392,"Marbach","Karl","Marbach Karl"]
[114392,"Marbach","Karl","Marbach Karl"]
[255002,"Suppiger","Alois","Suppiger Alois"]
[114438,"Graber-Marbach","Nadja","Graber-Marbach Nadja"]
[254998,"Marbach","Florentin","Marbach Florentin"]
[241955,"May","Stefan","May Stefan"]
[257032,"Hermann","Martin","Hermann Martin"]
[103691,"Häfliger","Walter","Häfliger Walter"]
[254989,"Felber","Hans","Felber Hans"]
[4129,"Zemp","Elias","Zemp Elias"]
[717683,"Helfenstein","Sarina","Helfenstein Sarina"]
[320767,"Felber","Tobias","Felber Tobias"]
[4131,"Vonwyl","Sarah","Vonwyl Sarah"]
[0,"Dousse","Danilo","Dousse Danilo"]
[7463,"Balsiger","Joel","Balsiger Joel"]
[17101,"Helfenstein","Ronja","Helfenstein Ronja"]
[0,"Widmer","Robin","Widmer Robin"]
[7464,"Zemp","Louis","Zemp Louis"]
[0,"Bösch","Gian","Bösch Gian"]
[254990,"Felber","Eveline","Felber Eveline"]
[254990,"Felber","Eveline","Felber Eveline"]
[294908,"Hansen","Jonas","Hansen Jonas"]
[254989,"Felber","Hans","Felber Hans"]
[717683,"Helfenstein","Sarina","Helfenstein Sarina"]
[0,"Vonarburg","Celine","Vonarburg Celine"]
[0,"Wicki","Stefan","Wicki Stefan"]
[0,"Rölli","Simon","Rölli Simon"]
[0,"Walker","Maximilian","Walker Maximilian"]
[0,"Schraner","Roman","Schraner Roman"]
[0,"Felber-Luterbach","Doris","Felber-Luterbach Doris"]
[15840,"Graber","Valerie",{"$f":"B1859&\" \"&C1859","v":"Graber Valerie"}]
[103691,"Häfliger","Walter","Häfliger Walter"]
[860775,"Würsch","Martin","Würsch Martin"]
[860775,"Würsch","Martin","Würsch Martin"]
[860776,"Würsch","Andrin","Würsch Andrin"]
[860776,"Würsch","Andrin","Würsch Andrin"]
[254888,"Schnidrig","Otto","Schnidrig Otto"]
[254841,"Janssen","Doris","Janssen Doris"]
[254881,"Stiefel","Peter","Stiefel Peter"]
[139770,"Siegrist","Max","Siegrist Max"]
[255034,"Leder","Urs","Leder Urs"]
[255033,"Ingold","Franz","Ingold Franz"]
[255033,"Ingold","Franz","Ingold Franz"]
[832059,"Suarez","Noel","Suarez Noel"]
[832059,"Suarez","Noel","Suarez Noel"]
[194401,"Vogt","Willi","Vogt Willi"]
[194401,"Vogt","Willi","Vogt Willi"]
[254903,"Weiss","Anton","Weiss Anton"]
[254903,"Weiss","Anton","Weiss Anton"]
[0,"Honegger","Alexander","Honegger Alexander"]
[0,"Honegger","Alexander","Honegger Alexander"]
[254881,"Stiefel","Peter","Stiefel Peter"]
[255033,"Ingold","Franz","Ingold Franz"]
[832059,"Suarez","Noel","Suarez Noel"]
[254903,"Weiss","Anton","Weiss Anton"]
[0,"Friedrich","Priska","Friedrich Priska"]
[716854,"Barmettler","Lara","Barmettler Lara"]
[255086,"Hofmann","Meinrad","Hofmann Meinrad"]
[255086,"Hofmann","Meinrad","Hofmann Meinrad"]
[308268,"Ambauen","Roland","Ambauen Roland"]
[255096,"Richener","Ruedi","Richener Ruedi"]
[219795,"Niederberger","Richard","Niederberger Richard"]
[219795,"Niederberger","Richard","Niederberger Richard"]
[114331,"Joller","Josef","Joller Josef"]
[255099,"Schweizer","Willy","Schweizer Willy"]
[255099,"Schweizer","Willy","Schweizer Willy"]
[290928,"Schweizer","Pascal","Schweizer Pascal"]
[398198,"Odermatt","Jonas","Odermatt Jonas"]
[906607,"Renggli","Ninja","Renggli Ninja"]
[219801,"Odermatt","Josef","Odermatt Josef"]
[219801,"Odermatt","Josef","Odermatt Josef"]
[238259,"Felder","Toni","Felder Toni"]
[4332,"Baumann","Dario","Baumann Dario"]
[255092,"Niederberger","Eugen","Niederberger Eugen"]
[255092,"Niederberger","Eugen","Niederberger Eugen"]
[518331,"Niederberger","Stefan","Niederberger Stefan"]
[255097,"Rohrer","Anton","Rohrer Anton"]
[255097,"Rohrer","Anton","Rohrer Anton"]
[152651,"Niederberger","Paul","Niederberger Paul"]
[152651,"Niederberger","Paul","Niederberger Paul"]
[255088,"Näpflin","Josef","Näpflin Josef"]
[255088,"Näpflin","Josef","Näpflin Josef"]
[716855,"Niederberger","Michelle","Niederberger Michelle"]
[255087,"Minder","Josef","Minder Josef"]
[255087,"Minder","Josef","Minder Josef"]
[22846,"Frei","Joe","Frei Joe"]
[255096,"Richener","Ruedi","Richener Ruedi"]
[255096,"Richener","Ruedi","Richener Ruedi"]
[255096,"Richener","Ruedi","Richener Ruedi"]
[0,"Renggli","Larissa","Renggli Larissa"]
[290928,"Schweizer","Pascal","Schweizer Pascal"]
[398198,"Odermatt","Jonas","Odermatt Jonas"]
[4332,"Baumann","Dario","Baumann Dario"]
[255092,"Niederberger","Eugen","Niederberger Eugen"]
[255097,"Rohrer","Anton",{"$f":"B1923&\" \"&C1923","v":"Rohrer Anton"}]
[716855,"Niederberger","Michelle","Niederberger Michelle"]
[0,"Odermatt","Elena","Odermatt Elena"]
[205189,"Aeschlimann","Walter","Aeschlimann Walter"]
[253716,"Albisser","Anton","Albisser Anton"]
[828899,"Gehri","Kevin","Gehri Kevin"]
[342672,"Perrollaz","Christian","Perrollaz Christian"]
[134708,"Portmann","Toni","Portmann Toni"]
[134708,"Portmann","Toni","Portmann Toni"]
[294936,"Hasler","Michael","Hasler Michael"]
[791796,"Anicic","Marko","Anicic Marko"]
[791796,"Anicic","Marko","Anicic Marko"]
[866047,"Duss","André","Duss André"]
[255138,"Jauch","Erhard","Jauch Erhard"]
[322200,"Hasler","Peter","Hasler Peter"]
[322200,"Hasler","Peter","Hasler Peter"]
[301096,"Baggenstos","Regula","Baggenstos Regula"]
[12916,"Rohrer","Yasmin","Rohrer Yasmin"]
[255135,"Räber","Edy","Räber Edy"]
[866047,"Duss","André","Duss André"]
[0,"Anicic","Josip","Anicic Josip"]
[0,"Anicic","Josip","Anicic Josip"]
[205189,"Aeschlimann","Walter","Aeschlimann Walter"]
[0,"Sztipanovics","Balazs","Sztipanovics Balazs"]
[0,"Sztipanovics","Balazs","Sztipanovics Balazs"]
[0,"Roth","Verena","Roth Verena"]
[0,"Portmann","Nico","Portmann Nico"]
[0,"Portmann","Nico","Portmann Nico"]
[0,"Ostgen","Anina","Ostgen Anina"]
[0,"Ostgen","Anina","Ostgen Anina"]
[134708,"Portmann","Toni","Portmann Toni"]
[294936,"Hasler","Michael","Hasler Michael"]
[866047,"Duss","André","Duss André"]
[866047,"Duss","André","Duss André"]
[866047,"Duss","André","Duss André"]
[0,"Portmann","Chris","Portmann Chris"]
[0,"Portmann","Chris","Portmann Chris"]
[0,"Sztipanovics","Blanka","Sztipanovics Blanka"]
[0,"Sztipanovics","Blanka","Sztipanovics Blanka"]
[301096,"Baggenstos","Regula","Baggenstos Regula"]
[255135,"Räber","Edy","Räber Edy"]
[255147,"Schmid","Renate","Schmid Renate"]
[255143,"Kalt","Robert","Kalt Robert"]
[255145,"Schmid","Theo","Schmid Theo"]
[255140,"Imhof-Berger","Yvonne","Imhof-Berger Yvonne"]
[110702,"Zürcher","Hans","Zürcher Hans"]
[172541,"Fricker","Konrad","Fricker Konrad"]
[277709,"Venhoda","Sabine","Venhoda Sabine"]
[255146,"Stäuble","Marcel","Stäuble Marcel"]
[255146,"Stäuble","Marcel","Stäuble Marcel"]
[255140,"Imhof-Berger","Yvonne","Imhof-Berger Yvonne"]
[255140,"Imhof-Berger","Yvonne","Imhof-Berger Yvonne"]
[110702,"Zürcher","Hans","Zürcher Hans"]
[110702,"Zürcher","Hans","Zürcher Hans"]
[0,"Röthlisberger","Julia","Röthlisberger Julia"]
[277709,"Venhoda","Sabine","Venhoda Sabine"]
[277709,"Venhoda","Sabine","Venhoda Sabine"]
[294908,"Hansen","Jonas","Hansen Jonas"]
[137979,"Arnold","Christof","Arnold Christof"]
[205537,"Luzzani","Roger","Luzzani Roger"]
[205537,"Luzzani","Roger","Luzzani Roger"]
[109424,"Dittli","Heinrich","Dittli Heinrich"]
[461816,"Kempf","Daniel","Kempf Daniel"]
[461816,"Kempf","Daniel","Kempf Daniel"]
[115822,"Walker","Franz",{"$f":"B1987&\" \"&C1987","v":"Walker Franz"}]
[115822,"Walker","Franz","Walker Franz"]
[114513,"Sicher","Vali","Sicher Vali"]
[114513,"Sicher","Vali","Sicher Vali"]
[7391,"Walker","Silvan","Walker Silvan"]
[7391,"Walker","Silvan","Walker Silvan"]
[115821,"Loretz","Stephan","Loretz Stephan"]
[115821,"Loretz","Stephan","Loretz Stephan"]
[310423,"Walker","Gabriel","Walker Gabriel"]
[310423,"Walker","Gabriel","Walker Gabriel"]
[113897,"Arnold","Adrian","Arnold Adrian"]
[113897,"Arnold","Adrian","Arnold Adrian"]
[0,"Walker","Darius","Walker Darius"]
[0,"Walker","Darius","Walker Darius"]
[0,"Jauch","Luca","Jauch Luca"]
[0,"Jauch","Luca","Jauch Luca"]
[205537,"Luzzani","Roger","Luzzani Roger"]
[0,"Walker","Julian","Walker Julian"]
[0,"Walker","Julian","Walker Julian"]
[0,"Walker","Laurin","Walker Laurin"]
[0,"Walker","Laurin","Walker Laurin"]
[0,"Jauch","Sandro","Jauch Sandro"]
[0,"Jauch","Sandro","Jauch Sandro"]
[461816,"Kempf","Daniel","Kempf Daniel"]
[0,"Gamma","Matteo","Gamma Matteo"]
[0,"Gamma","Matteo","Gamma Matteo"]
[0,"Baumann","Livio","Baumann Livio"]
[114513,"Sicher","Vali","Sicher Vali"]
[7391,"Walker","Silvan","Walker Silvan"]
[0,"Panzeri","Loris","Panzeri Loris"]
[0,"Panzeri","Loris","Panzeri Loris"]
[115821,"Loretz","Stephan","Loretz Stephan"]
[115821,"Loretz","Stephan","Loretz Stephan"]
[115821,"Loretz","Stephan","Loretz Stephan"]
[0,"Kempf","Keanu","Kempf Keanu"]
[0,"Kempf","Keanu","Kempf Keanu"]
[310423,"Walker","Gabriel","Walker Gabriel"]
[0,"Baumann","Livio","Baumann Livio"]
[951448,"Luthiger","Joe","Luthiger Joe"]
[255222,"Suter","Daniel","Suter Daniel"]
[255209,"Baumgartner","Alois","Baumgartner Alois"]
[255209,"Baumgartner","Alois","Baumgartner Alois"]
[255215,"Luthiger","Beat","Luthiger Beat"]
[255215,"Luthiger","Beat","Luthiger Beat"]
[269097,"Gretener","August","Gretener August"]
[255229,"Werder","Michael","Werder Michael"]
[255229,"Werder","Michael","Werder Michael"]
[975827,"Baum","Rebekka","Baum Rebekka"]
[255213,"Bütler","Daniel","Bütler Daniel"]
[255211,"Bucheli","Franz","Bucheli Franz"]
[255211,"Bucheli","Franz","Bucheli Franz"]
[255227,"Syfrig","Armin","Syfrig Armin"]
[255226,"Syfrig","Beat","Syfrig Beat"]
[954927,"Gemperle","Alex","Gemperle Alex"]
[255228,"Thomann","Martin","Thomann Martin"]
[908352,"Werder","Regula","Werder Regula"]
[255221,"Studer","Patrick","Studer Patrick"]
[513401,"Luthiger","Christina","Luthiger Christina"]
[342246,"Peterhans","Ruth","Peterhans Ruth"]
[115799,"Baumgartner","Peter","Baumgartner Peter"]
[115799,"Baumgartner","Peter","Baumgartner Peter"]
[8183,"Bär","Sylvia","Bär Sylvia"]
[255209,"Baumgartner","Alois","Baumgartner Alois"]
[255209,"Baumgartner","Alois","Baumgartner Alois"]
[255209,"Baumgartner","Alois",{"$f":"B2051&\" \"&C2051","v":"Baumgartner Alois"}]
[255215,"Luthiger","Beat","Luthiger Beat"]
[255215,"Luthiger","Beat","Luthiger Beat"]
[255229,"Werder","Michael","Werder Michael"]
[255211,"Bucheli","Franz","Bucheli Franz"]
[255211,"Bucheli","Franz","Bucheli Franz"]
[255226,"Syfrig","Beat","Syfrig Beat"]
[255228,"Thomann","Martin","Thomann Martin"]
[513401,"Luthiger","Christina","Luthiger Christina"]
[114331,"Joller","Josef","Joller Josef"]
[398198,"Odermatt","Jonas","Odermatt Jonas"]
[4332,"Baumann","Dario","Baumann Dario"]
[114452,"Wirz","Peter","Wirz Peter"]
[112271,"Wyss","Pius","Wyss Pius"]
[241955,"May","Stefan","May Stefan"]
[241955,"May","Stefan","May Stefan"]
[241955,"May","Stefan","May Stefan"]
[839123,"Patelli","Nino","Patelli Nino"]
[906601,"Dober","Roman","Dober Roman"]
[255272,"Dober","Beat","Dober Beat"]
[971931,"Hess","Urs","Hess Urs"]
[255270,"Ambauen","Lukas","Ambauen Lukas"]
[115786,"Eberhard","Markus","Eberhard Markus"]
[255273,"Dober","Bruno","Dober Bruno"]
[936057,"Schwendener","Hans","Schwendener Hans"]
[255268,"Ambauen","Peter","Ambauen Peter"]
[23829,"Van Glahn Lepple","Martina","Van Glahn Lepple Martina"]
[243992,"Eberhard","Theres","Eberhard Theres"]
[0,"Ambauen","Raphael","Ambauen Raphael"]
[255272,"Dober","Beat","Dober Beat"]
[255272,"Dober","Beat","Dober Beat"]
[255270,"Ambauen","Lukas","Ambauen Lukas"]
[115786,"Eberhard","Markus","Eberhard Markus"]
[115786,"Eberhard","Markus","Eberhard Markus"]
[255268,"Ambauen","Peter","Ambauen Peter"]
[0,"Ambauen","Dominik","Ambauen Dominik"]
[209440,"Nussbaumer","Bruno","Nussbaumer Bruno"]
[255241,"Lüscher","Ernst","Lüscher Ernst"]
[255238,"Hugener","Karl","Hugener Karl"]
[227999,"Annen","Marcel","Annen Marcel"]
[648508,"Landolt","Stefan","Landolt Stefan"]
[231415,"Hugener","Markus","Hugener Markus"]
[225398,"Niederberger","Pius","Niederberger Pius"]
[255242,"Lüthold","René","Lüthold René"]
[255242,"Lüthold","René","Lüthold René"]
[290186,"Hoppler","Dominic","Hoppler Dominic"]
[752723,"Iten","Yanik","Iten Yanik"]
[225389,"Eichholzer","Bernhard","Eichholzer Bernhard"]
[222959,"Barmet","Stefan","Barmet Stefan"]
[255252,"Kränzlin","Gerhard","Kränzlin Gerhard"]
[0,"Hugener","Veronika","Hugener Veronika"]
[255238,"Hugener","Karl","Hugener Karl"]
[231415,"Hugener","Markus","Hugener Markus"]
[0,"Gegenschatz","Florin","Gegenschatz Florin"]
[917397,"Bürgisser","Silvan","Bürgisser Silvan"]
[225398,"Niederberger","Pius","Niederberger Pius"]
[225389,"Eichholzer","Bernhard","Eichholzer Bernhard"]
[225389,"Eichholzer","Bernhard","Eichholzer Bernhard"]
[225389,"Eichholzer","Bernhard","Eichholzer Bernhard"]
[908340,"Marfurt","Hubert","Marfurt Hubert"]
[13076,"Wüest","Anita","Wüest Anita"]
[255296,"Künzle","Rolf","Künzle Rolf"]
[11482,"Gautschi","Christoph","Gautschi Christoph"]
[255294,"Kottmann","Daniel","Kottmann Daniel"]
[824896,"Stirnimann","Caroline",{"$f":"B2115&\" \"&C2115","v":"Stirnimann Caroline"}]
[255293,"Koller","Friedrich","Koller Friedrich"]
[515264,"Bertschi","Stefan","Bertschi Stefan"]
[153590,"Kottmann","Jost","Kottmann Jost"]
[181794,"Gautschi","Peter","Gautschi Peter"]
[174740,"Leu","Roland","Leu Roland"]
[515004,"Wegst","Daniel","Wegst Daniel"]
[908340,"Marfurt","Hubert","Marfurt Hubert"]
[255296,"Künzle","Rolf","Künzle Rolf"]
[11482,"Gautschi","Christoph","Gautschi Christoph"]
[255293,"Koller","Friedrich","Koller Friedrich"]
[255293,"Koller","Friedrich","Koller Friedrich"]
[174740,"Leu","Roland","Leu Roland"]
[255294,"Kottmann","Daniel","Kottmann Daniel"]
[174740,"Leu","Roland","Leu Roland"]
[515004,"Wegst","Daniel","Wegst Daniel"]
[551155,"Ernst","Stefan","Ernst Stefan"]
[185737,"Holliger","Otto","Holliger Otto"]
[255306,"Kuster","Marcel","Kuster Marcel"]
[551154,"Leutwyler","Tobias","Leutwyler Tobias"]
[551155,"Ernst","Stefan","Ernst Stefan"]
[551155,"Ernst","Stefan","Ernst Stefan"]
[0,"Hess","Ben","Hess Ben"]
[255306,"Kuster","Marcel","Kuster Marcel"]
[255306,"Kuster","Marcel","Kuster Marcel"]
[255306,"Kuster","Marcel","Kuster Marcel"]
[0,"Hochuli","Marc","Hochuli Marc"]
[25283,"Cupta","Naveen","Cupta Naveen"]
[255468,"Egger","Fabian","Egger Fabian"]
[116747,"Meury","Thomas","Meury Thomas"]
[255464,"Wampfler","Hans","Wampfler Hans"]
[974443,"Fuhrmann","Uwe","Fuhrmann Uwe"]
[255466,"Wussler","Stefan","Wussler Stefan"]
[288870,"Geiser","Hanspeter","Geiser Hanspeter"]
[307426,"Kaufmann","Madeleine","Kaufmann Madeleine"]
[255459,"Manser","Fridolin","Manser Fridolin"]
[255459,"Manser","Fridolin","Manser Fridolin"]
[25284,"Citton","Marco","Citton Marco"]
[255327,"Kaufmann","Franz","Kaufmann Franz"]
[165877,"von Allmen","Erwin","von Allmen Erwin"]
[255461,"Ryffel","Georges","Ryffel Georges"]
[116747,"Meury","Thomas","Meury Thomas"]
[255466,"Wussler","Stefan","Wussler Stefan"]
[288870,"Geiser","Hanspeter","Geiser Hanspeter"]
[288870,"Geiser","Hanspeter","Geiser Hanspeter"]
[307426,"Kaufmann","Madeleine","Kaufmann Madeleine"]
[255327,"Kaufmann","Franz","Kaufmann Franz"]
[518335,"Huwiler","Jana","Huwiler Jana"]
[24408,"Spiess","Lars","Spiess Lars"]
[974578,"Hurni","Marcel","Hurni Marcel"]
[974577,"Marinkovic","Dusan","Marinkovic Dusan"]
[317429,"Schmid","Seppi","Schmid Seppi"]
[167874,"Steiner","Gregor","Steiner Gregor"]
[255474,"Huwiler","Christian","Huwiler Christian"]
[255477,"Spiess","Markus","Spiess Markus"]
[114651,"Schmid","Hanspeter","Schmid Hanspeter"]
[255197,"Egli","Ferdi","Egli Ferdi"]
[576279,"Spiess","Thomas","Spiess Thomas"]
[462059,"Wyrsch","Stefan","Wyrsch Stefan"]
[255478,"Unternährer","Bruno","Unternährer Bruno"]
[24408,"Spiess","Lars","Spiess Lars"]
[0,"Spiess","Patrizia","Spiess Patrizia"]
[167874,"Steiner","Gregor","Steiner Gregor"]
[255474,"Huwiler","Christian","Huwiler Christian"]
[0,"Spiess","Bruno",{"$f":"B2179&\" \"&C2179","v":"Spiess Bruno"}]
[255477,"Spiess","Markus","Spiess Markus"]
[255197,"Egli","Ferdi","Egli Ferdi"]
[255197,"Egli","Ferdi","Egli Ferdi"]
[462059,"Wyrsch","Stefan","Wyrsch Stefan"]
[255478,"Unternährer","Bruno","Unternährer Bruno"]
[255488,"Hediger","Michael","Hediger Michael"]
[291002,"Müller","Bruno","Müller Bruno"]
[943998,"Zimmerli","Urs","Zimmerli Urs"]
[255490,"Hochuli","Esther","Hochuli Esther"]
[255490,"Hochuli","Esther","Hochuli Esther"]
[167648,"Urech","René","Urech René"]
[538098,"Hediger","Nicole","Hediger Nicole"]
[253782,"Wyss","Silvan","Wyss Silvan"]
[253754,"Hediger","Roland","Hediger Roland"]
[253754,"Hediger","Roland","Hediger Roland"]
[543872,"Hediger","Klaus","Hediger Klaus"]
[151375,"Luginbühl","Stephan","Luginbühl Stephan"]
[291002,"Müller","Bruno","Müller Bruno"]
[943998,"Zimmerli","Urs","Zimmerli Urs"]
[255490,"Hochuli","Esther","Hochuli Esther"]
[167648,"Urech","René","Urech René"]
[253782,"Wyss","Silvan","Wyss Silvan"]
[253782,"Wyss","Silvan","Wyss Silvan"]
[253782,"Wyss","Silvan","Wyss Silvan"]
[253754,"Hediger","Roland","Hediger Roland"]
[151375,"Luginbühl","Stephan","Luginbühl Stephan"]
[115800,"Frey","André","Frey André"]
[115800,"Frey","André","Frey André"]
[291806,"Brüschweiler","Joel","Brüschweiler Joel"]
[289027,"Kirsch","Tanja","Kirsch Tanja"]
[174716,"Emmenegger","Hans","Emmenegger Hans"]
[547875,"Christen","Heinz","Christen Heinz"]
[174686,"Bucher","Fridolin","Bucher Fridolin"]
[115802,"Gelzer","Jan","Gelzer Jan"]
[255507,"Rüegg","Käthy","Rüegg Käthy"]
[255507,"Rüegg","Käthy","Rüegg Käthy"]
[255497,"Felder","Walter","Felder Walter"]
[255497,"Felder","Walter","Felder Walter"]
[253780,"Venturi","Luigi","Venturi Luigi"]
[253780,"Venturi","Luigi","Venturi Luigi"]
[303175,"Hurschler","Monika","Hurschler Monika"]
[303175,"Hurschler","Monika","Hurschler Monika"]
[320767,"Felber","Tobias","Felber Tobias"]
[553327,"Jans","Viktor","Jans Viktor"]
[13399,"Hösli","Simon","Hösli Simon"]
[255502,"Portmann","Fredi","Portmann Fredi"]
[869195,"Pirovino","Sabrina","Pirovino Sabrina"]
[869195,"Pirovino","Sabrina","Pirovino Sabrina"]
[295006,"Felder","David","Felder David"]
[295006,"Felder","David","Felder David"]
[255515,"Frey","Sonja","Frey Sonja"]
[255238,"Hugener","Karl","Hugener Karl"]
[318470,"Häusler","Rolf","Häusler Rolf"]
[318470,"Häusler","Rolf","Häusler Rolf"]
[488452,"Schumacher","David","Schumacher David"]
[231415,"Hugener","Markus","Hugener Markus"]
[255514,"Stritmatter","Josef","Stritmatter Josef"]
[255516,"Wyss","Jakob","Wyss Jakob"]
[254908,"Hüsser","Leo","Hüsser Leo"]
[290929,"Rüttimann","Michael","Rüttimann Michael"]
[255496,"Eggenberger","Stephan","Eggenberger Stephan"]
[295013,"Felder","Flavio","Felder Flavio"]
[174685,"Amgwerd","Albin","Amgwerd Albin"]
[255499,"Jans","Xaver",{"$f":"B2243&\" \"&C2243","v":"Jans Xaver"}]
[674946,"Marti","Nils","Marti Nils"]
[674946,"Marti","Nils","Marti Nils"]
[255511,"Schnüriger","Beat","Schnüriger Beat"]
[255517,"Zimmermann","René","Zimmermann René"]
[115812,"Schmid","Jakob","Schmid Jakob"]
[303173,"Göldi","Pascal","Göldi Pascal"]
[303176,"Hurschler","Reto","Hurschler Reto"]
[278548,"Birchler","Urs","Birchler Urs"]
[115793,"Kühni","Silvia","Kühni Silvia"]
[115800,"Frey","André","Frey André"]
[115800,"Frey","André","Frey André"]
[115800,"Frey","André","Frey André"]
[115800,"Frey","André","Frey André"]
[174716,"Emmenegger","Hans","Emmenegger Hans"]
[0,"Hösli","Florian","Hösli Florian"]
[255497,"Felder","Walter","Felder Walter"]
[255497,"Felder","Walter","Felder Walter"]
[255497,"Felder","Walter","Felder Walter"]
[255497,"Felder","Walter","Felder Walter"]
[255497,"Felder","Walter","Felder Walter"]
[303175,"Hurschler","Monika","Hurschler Monika"]
[13399,"Hösli","Simon","Hösli Simon"]
[255515,"Frey","Sonja","Frey Sonja"]
[318470,"Häusler","Rolf","Häusler Rolf"]
[0,"Blattmann","Patrick","Blattmann Patrick"]
[255514,"Stritmatter","Josef","Stritmatter Josef"]
[290929,"Rüttimann","Michael","Rüttimann Michael"]
[255496,"Eggenberger","Stephan","Eggenberger Stephan"]
[255496,"Eggenberger","Stephan","Eggenberger Stephan"]
[674946,"Marti","Nils","Marti Nils"]
[0,"Schlumpf","Philipp","Schlumpf Philipp"]
[0,"Schlumpf","Philipp","Schlumpf Philipp"]
[255523,"Costa","Mirco","Costa Mirco"]
[519649,"Zürcher","Dominik","Zürcher Dominik"]
[519649,"Zürcher","Dominik","Zürcher Dominik"]
[125948,"Costa","Vittorio","Costa Vittorio"]
[253717,"Dönni","Peter","Dönni Peter"]
[253717,"Dönni","Peter","Dönni Peter"]
[298650,"Koch","Thomas","Koch Thomas"]
[298650,"Koch","Thomas","Koch Thomas"]
[255519,"Jöhl","Michael","Jöhl Michael"]
[255530,"Lüthi","Heinz","Lüthi Heinz"]
[255530,"Lüthi","Heinz","Lüthi Heinz"]
[295031,"Frei","Roman","Frei Roman"]
[295031,"Frei","Roman","Frei Roman"]
[255535,"Zeindler","Walter","Zeindler Walter"]
[255527,"Hausmann","Max","Hausmann Max"]
[253761,"Meyer","Stephan","Meyer Stephan"]
[253718,"Koch","Franz","Koch Franz"]
[255526,"Frei","Stefan","Frei Stefan"]
[255526,"Frei","Stefan","Frei Stefan"]
[718879,"Brändli","Benjamin","Brändli Benjamin"]
[718879,"Brändli","Benjamin","Brändli Benjamin"]
[255534,"Zeindler","Markus","Zeindler Markus"]
[255528,"Kaiser","Patrick","Kaiser Patrick"]
[253717,"Dönni","Peter","Dönni Peter"]
[253717,"Dönni","Peter","Dönni Peter"]
[298650,"Koch","Thomas","Koch Thomas"]
[298650,"Koch","Thomas","Koch Thomas"]
[298650,"Koch","Thomas","Koch Thomas"]
[255530,"Lüthi","Heinz","Lüthi Heinz"]
[255535,"Zeindler","Walter","Zeindler Walter"]
[253718,"Koch","Franz","Koch Franz"]
[255526,"Frei","Stefan",{"$f":"B2307&\" \"&C2307","v":"Frei Stefan"}]
[255526,"Frei","Stefan","Frei Stefan"]
[255552,"Zemp","Franz","Zemp Franz"]
[255552,"Zemp","Franz","Zemp Franz"]
[255551,"Wüest","Andreas","Wüest Andreas"]
[255551,"Wüest","Andreas","Wüest Andreas"]
[114507,"Ferrari","Michael","Ferrari Michael"]
[137979,"Arnold","Christof","Arnold Christof"]
[325456,"Schneider","Reto","Schneider Reto"]
[325456,"Schneider","Reto","Schneider Reto"]
[253919,"Bieri","Ramona","Bieri Ramona"]
[702070,"Luthiger","Angela","Luthiger Angela"]
[228062,"Garo","Werner","Garo Werner"]
[228062,"Garo","Werner","Garo Werner"]
[283136,"Elsener","Patrick","Elsener Patrick"]
[114428,"Garo","Nils","Garo Nils"]
[236399,"Wetli","Guido","Wetli Guido"]
[255214,"Greter","Roger","Greter Roger"]
[228055,"Durrer","Walter","Durrer Walter"]
[228055,"Durrer","Walter","Durrer Walter"]
[329884,"Peters","Frederic","Peters Frederic"]
[228056,"Durrer","Elsa","Durrer Elsa"]
[114658,"Bütler","Marcel","Bütler Marcel"]
[329881,"Mätzler","André","Mätzler André"]
[329883,"Blas","Raimund","Blas Raimund"]
[329876,"Walser","Albin","Walser Albin"]
[329876,"Walser","Albin","Walser Albin"]
[115659,"Stuber","Michel","Stuber Michel"]
[325455,"Schneider","Jürg","Schneider Jürg"]
[255539,"Banzer","Urs","Banzer Urs"]
[255539,"Banzer","Urs","Banzer Urs"]
[113884,"Arnold","Alice","Arnold Alice"]
[329880,"Heinrich","Adalbert","Heinrich Adalbert"]
[255127,"Barandun","Horst","Barandun Horst"]
[174685,"Amgwerd","Albin","Amgwerd Albin"]
[115643,"Gössi","Bruno","Gössi Bruno"]
[550693,"Immoos","Andrea","Immoos Andrea"]
[255542,"Krummenacher","Christian","Krummenacher Christian"]
[255542,"Krummenacher","Christian","Krummenacher Christian"]
[115821,"Loretz","Stephan","Loretz Stephan"]
[255128,"Barandun","Ivo","Barandun Ivo"]
[255545,"Peter","Ralph","Peter Ralph"]
[278548,"Birchler","Urs","Birchler Urs"]
[254463,"Grob","Peter","Grob Peter"]
[329882,"Villiger","Albert","Villiger Albert"]
[329882,"Villiger","Albert","Villiger Albert"]
[115800,"Frey","André","Frey André"]
[291806,"Brüschweiler","Joel","Brüschweiler Joel"]
[114507,"Ferrari","Michael","Ferrari Michael"]
[137979,"Arnold","Christof","Arnold Christof"]
[236399,"Wetli","Guido","Wetli Guido"]
[325455,"Schneider","Jürg","Schneider Jürg"]
[255127,"Barandun","Horst","Barandun Horst"]
[255127,"Barandun","Horst","Barandun Horst"]
[174685,"Amgwerd","Albin","Amgwerd Albin"]
[550693,"Immoos","Andrea","Immoos Andrea"]
[818869,"Tribelhorn","Patrick","Tribelhorn Patrick"]
[255807,"Tonina","Stefanie","Tonina Stefanie"]
[255807,"Tonina","Stefanie","Tonina Stefanie"]
[255810,"Bruderer","Jakob","Bruderer Jakob"]
[255808,"Wegmüller","Urs","Wegmüller Urs"]
[393661,"Zimmermann","Terence","Zimmermann Terence"]
[253778,"Tonina","Alfredo","Tonina Alfredo"]
[253778,"Tonina","Alfredo","Tonina Alfredo"]
[818869,"Tribelhorn","Patrick",{"$f":"B2371&\" \"&C2371","v":"Tribelhorn Patrick"}]
[255810,"Bruderer","Jakob","Bruderer Jakob"]
[255808,"Wegmüller","Urs","Wegmüller Urs"]
[0,"Tonina","Claudio","Tonina Claudio"]
[253778,"Tonina","Alfredo","Tonina Alfredo"]
[253778,"Tonina","Alfredo","Tonina Alfredo"]
[254989,"Felber","Hans","Felber Hans"]
[137979,"Arnold","Christof","Arnold Christof"]
[174716,"Emmenegger","Hans","Emmenegger Hans"]
[253739,"Berweger","Hans","Berweger Hans"]
[182911,"Schwegler","Bernhard","Schwegler Bernhard"]
[255209,"Baumgartner","Alois","Baumgartner Alois"]
[125948,"Costa","Vittorio","Costa Vittorio"]
[228062,"Garo","Werner","Garo Werner"]
[255086,"Hofmann","Meinrad","Hofmann Meinrad"]
[236399,"Wetli","Guido","Wetli Guido"]
[228055,"Durrer","Walter","Durrer Walter"]
[255219,"Schmid","Karl","Schmid Karl"]
[255241,"Lüscher","Ernst","Lüscher Ernst"]
[255238,"Hugener","Karl","Hugener Karl"]
[255464,"Wampfler","Hans","Wampfler Hans"]
[255477,"Spiess","Markus","Spiess Markus"]
[114651,"Schmid","Hanspeter","Schmid Hanspeter"]
[253761,"Meyer","Stephan","Meyer Stephan"]
[288870,"Geiser","Hanspeter","Geiser Hanspeter"]
[255272,"Dober","Beat","Dober Beat"]
[971931,"Hess","Urs","Hess Urs"]
[253782,"Wyss","Silvan","Wyss Silvan"]
[231415,"Hugener","Markus","Hugener Markus"]
[255516,"Wyss","Jakob","Wyss Jakob"]
[255459,"Manser","Fridolin","Manser Fridolin"]
[114513,"Sicher","Vali","Sicher Vali"]
[254908,"Hüsser","Leo","Hüsser Leo"]
[254881,"Stiefel","Peter","Stiefel Peter"]
[253718,"Koch","Franz","Koch Franz"]
[255808,"Wegmüller","Urs","Wegmüller Urs"]
[255002,"Suppiger","Alois","Suppiger Alois"]
[255496,"Eggenberger","Stephan","Eggenberger Stephan"]
[102198,"Graber","Josef","Graber Josef"]
[115786,"Eberhard","Markus","Eberhard Markus"]
[255273,"Dober","Bruno","Dober Bruno"]
[255033,"Ingold","Franz","Ingold Franz"]
[181794,"Gautschi","Peter","Gautschi Peter"]
[255252,"Kränzlin","Gerhard","Kränzlin Gerhard"]
[255135,"Räber","Edy","Räber Edy"]
[255551,"Wüest","Andreas","Wüest Andreas"]
[254989,"Felber","Hans","Felber Hans"]
[209440,"Nussbaumer","Bruno","Nussbaumer Bruno"]
[253739,"Berweger","Hans","Berweger Hans"]
[174686,"Bucher","Fridolin","Bucher Fridolin"]
[253716,"Albisser","Anton","Albisser Anton"]
[14207,"von Glahn","Martina","von Glahn Martina"]
[255507,"Rüegg","Käthy","Rüegg Käthy"]
[253717,"Dönni","Peter","Dönni Peter"]
[255497,"Felder","Walter","Felder Walter"]
[860775,"Würsch","Martin","Würsch Martin"]
[253780,"Venturi","Luigi","Venturi Luigi"]
[255296,"Künzle","Rolf","Künzle Rolf"]
[269097,"Gretener","August","Gretener August"]
[255807,"Tonina","Stefanie","Tonina Stefanie"]
[255096,"Richener","Ruedi","Richener Ruedi"]
[255810,"Bruderer","Jakob","Bruderer Jakob"]
[255474,"Huwiler","Christian","Huwiler Christian"]
[254888,"Schnidrig","Otto","Schnidrig Otto"]
[167876,"Steiner","Leo",{"$f":"B2435&\" \"&C2435","v":"Steiner Leo"}]
[318470,"Häusler","Rolf","Häusler Rolf"]
[974443,"Fuhrmann","Uwe","Fuhrmann Uwe"]
[219795,"Niederberger","Richard","Niederberger Richard"]
[219795,"Niederberger","Richard","Niederberger Richard"]
[255211,"Bucheli","Franz","Bucheli Franz"]
[255099,"Schweizer","Willy","Schweizer Willy"]
[576279,"Spiess","Thomas","Spiess Thomas"]
[255535,"Zeindler","Walter","Zeindler Walter"]
[219801,"Odermatt","Josef","Odermatt Josef"]
[255293,"Koller","Friedrich","Koller Friedrich"]
[255249,"Durrer","Franz","Durrer Franz"]
[515264,"Bertschi","Stefan","Bertschi Stefan"]
[134708,"Portmann","Toni","Portmann Toni"]
[307426,"Kaufmann","Madeleine","Kaufmann Madeleine"]
[255514,"Stritmatter","Josef","Stritmatter Josef"]
[254841,"Janssen","Doris","Janssen Doris"]
[954927,"Gemperle","Alex","Gemperle Alex"]
[113884,"Arnold","Alice","Arnold Alice"]
[253754,"Hediger","Roland","Hediger Roland"]
[255092,"Niederberger","Eugen","Niederberger Eugen"]
[791796,"Anicic","Marko","Anicic Marko"]
[255808,"Wegmüller","Urs","Wegmüller Urs"]
[255097,"Rohrer","Anton","Rohrer Anton"]
[152651,"Niederberger","Paul","Niederberger Paul"]
[255327,"Kaufmann","Franz","Kaufmann Franz"]
[255088,"Näpflin","Josef","Näpflin Josef"]
[139770,"Siegrist","Max","Siegrist Max"]
[255127,"Barandun","Horst","Barandun Horst"]
[255034,"Leder","Urs","Leder Urs"]
[110702,"Zürcher","Hans","Zürcher Hans"]
[153590,"Kottmann","Jost","Kottmann Jost"]
[174685,"Amgwerd","Albin","Amgwerd Albin"]
[255499,"Jans","Xaver","Jans Xaver"]
[255033,"Ingold","Franz","Ingold Franz"]
[255526,"Frei","Stefan","Frei Stefan"]
[115799,"Baumgartner","Peter","Baumgartner Peter"]
[255511,"Schnüriger","Beat","Schnüriger Beat"]
[243992,"Eberhard","Theres","Eberhard Theres"]
[194401,"Vogt","Willi","Vogt Willi"]
[228967,"Kuster","Fritz","Kuster Fritz"]
[115812,"Schmid","Jakob","Schmid Jakob"]
[198058,"Niederberger","Walter","Niederberger Walter"]
[190236,"Kesselbach","Joachim","Kesselbach Joachim"]
[225389,"Eichholzer","Bernhard","Eichholzer Bernhard"]
[151375,"Luginbühl","Stephan","Luginbühl Stephan"]
[278548,"Birchler","Urs","Birchler Urs"]
[115793,"Kühni","Silvia","Kühni Silvia"]
[222959,"Barmet","Stefan","Barmet Stefan"]
[255461,"Ryffel","Georges","Ryffel Georges"]
[253778,"Tonina","Alfredo","Tonina Alfredo"]
[255087,"Minder","Josef","Minder Josef"]
[255096,"Richener","Ruedi","Richener Ruedi"]
[255241,"Lüscher","Ernst","Lüscher Ernst"]
[254881,"Stiefel","Peter","Stiefel Peter"]
[255097,"Rohrer","Anton","Rohrer Anton"]
[151375,"Luginbühl","Stephan","Luginbühl Stephan"]
[253778,"Tonina","Alfredo","Tonina Alfredo"]
[256175,"Dennler","Hans","Dennler Hans"]
[242406,"Tschiemer","Hansueli","Tschiemer Hansueli"]
[119920,"Schneider","Martin","Schneider Martin"]
[256180,"Rickli","Bethli","Rickli Bethli"]
[253912,"Burkhalter","Hans","Burkhalter Hans"]
[217964,"Schneider","Willy","Schneider Willy"]
[253910,"Bolanz","Albert",{"$f":"B2499&\" \"&C2499","v":"Bolanz Albert"}]
[253742,"Stettler","Christina","Stettler Christina"]
[253940,"Egli","Rudolf","Egli Rudolf"]
[254073,"Rickli","Gottfried","Rickli Gottfried"]
[120570,"Eschmann","René","Eschmann René"]
[177386,"Jost","Ueli","Jost Ueli"]
[156034,"Zaugg","Heinz","Zaugg Heinz"]
[159313,"Gamper","Peter","Gamper Peter"]
[120576,"König","Robert","König Robert"]
[242406,"Tschiemer","Hansueli","Tschiemer Hansueli"]
[253805,"Bangerter","Gottfried","Bangerter Gottfried"]
[134905,"Forrer","Wendel","Forrer Wendel"]
[253774,"Streuli","Hans","Streuli Hans"]
[119920,"Schneider","Martin","Schneider Martin"]
[312705,"Näf","Bruno","Näf Bruno"]
[312705,"Näf","Bruno","Näf Bruno"]
[312705,"Näf","Bruno","Näf Bruno"]
[236399,"Wetli","Guido","Wetli Guido"]
[254075,"Zürcher","Heidi","Zürcher Heidi"]
[254081,"Bottinelli","Jean-Marc","Bottinelli Jean-Marc"]
[0,"Doulaz","léon","Doulaz léon"]
[156064,"Zimmermann","Hans","Zimmermann Hans"]
[156064,"Zimmermann","Hans","Zimmermann Hans"]
[172100,"Steiner","Markus","Steiner Markus"]
[135152,"Rothen","Peter","Rothen Peter"]
[0,"Roland Leuenberger","BEKB / BCBE","Roland Leuenberger BEKB / BCBE"]
[253807,"Gurtner","Roland","Gurtner Roland"]
[253807,"Gurtner","Roland","Gurtner Roland"]
[253746,"Dummermuth","Paul","Dummermuth Paul"]
[105708,"Käufeler","Erika","Käufeler Erika"]
[120857,"Schweizer","Erwin","Schweizer Erwin"]
[253742,"Stettler","Christina","Stettler Christina"]
[253933,"Siegenthaler","Alfred","Siegenthaler Alfred"]
[303025,"Siegenthaler","Roger","Siegenthaler Roger"]
[238259,"Felder","Toni","Felder Toni"]
[238259,"Felder","Toni","Felder Toni"]
[129381,"Burkhalter","Andreas","Burkhalter Andreas"]
[254073,"Rickli","Gottfried","Rickli Gottfried"]
[244960,"Roth","Markus","Roth Markus"]
[0,"Schneider","Monya","Schneider Monya"]
[0,"Schneider","Monya","Schneider Monya"]
[0,"Schneider","Monya","Schneider Monya"]
[171110,"Grimm","Thomas","Grimm Thomas"]
[279099,"Jost","Patrick","Jost Patrick"]
[279099,"Jost","Patrick","Jost Patrick"]
[279099,"Jost","Patrick","Jost Patrick"]
[279099,"Jost","Patrick","Jost Patrick"]
[119926,"Schiess","Ernst","Schiess Ernst"]
[120570,"Eschmann","René","Eschmann René"]
[174602,"Marti","Erich","Marti Erich"]
[156034,"Zaugg","Heinz","Zaugg Heinz"]
[119281,"Mollet","Urs","Mollet Urs"]
[159313,"Gamper","Peter","Gamper Peter"]
[0,"Schneider","Astrid","Schneider Astrid"]
[120576,"König","Robert","König Robert"]
[120576,"König","Robert","König Robert"]
[120568,"Carrera","Jean-Michel","Carrera Jean-Michel"]
[120568,"Carrera","Jean-Michel","Carrera Jean-Michel"]
[845565,"Kocher","Jennifer","Kocher Jennifer"]
[253796,"Ueltschi","Erwin","Ueltschi Erwin"]
[120567,"Burkhalter","Hans","Burkhalter Hans"]
[596948,"Uhlmann","Rolf","Uhlmann Rolf"]
[596948,"Uhlmann","Rolf","Uhlmann Rolf"]
[120582,"Schenkel","Thomas","Schenkel Thomas"]
[253785,"De Jonckheere","Marcel",{"$f":"B2563&\" \"&C2563","v":"De Jonckheere Marcel"}]
[678810,"Steiner","Alicia","Steiner Alicia"]
[120578,"Michel","Yves","Michel Yves"]
[120578,"Michel","Yves","Michel Yves"]
[253791,"Eschmann","Marc","Eschmann Marc"]
[194660,"Schaffter","Olivier Pierre","Schaffter Olivier Pierre"]
[120570,"Eschmann","René","Eschmann René"]
[120570,"Eschmann","René","Eschmann René"]
[120570,"Eschmann","René","Eschmann René"]
[602486,"Gogniat","Audrey","Gogniat Audrey"]
[156034,"Zaugg","Heinz","Zaugg Heinz"]
[253795,"Ueltschi","Kurt","Ueltschi Kurt"]
[120576,"König","Robert","König Robert"]
[120576,"König","Robert","König Robert"]
[120576,"König","Robert","König Robert"]
[120576,"König","Robert","König Robert"]
[120568,"Carrera","Jean-Michel","Carrera Jean-Michel"]
[120568,"Carrera","Jean-Michel","Carrera Jean-Michel"]
[120568,"Carrera","Jean-Michel","Carrera Jean-Michel"]
[845565,"Kocher","Jennifer","Kocher Jennifer"]
[845565,"Kocher","Jennifer","Kocher Jennifer"]
[253796,"Ueltschi","Erwin","Ueltschi Erwin"]
[253796,"Ueltschi","Erwin","Ueltschi Erwin"]
[120567,"Burkhalter","Hans","Burkhalter Hans"]
[596948,"Uhlmann","Rolf","Uhlmann Rolf"]
[596948,"Uhlmann","Rolf","Uhlmann Rolf"]
[596948,"Uhlmann","Rolf","Uhlmann Rolf"]
[596948,"Uhlmann","Rolf","Uhlmann Rolf"]
[596948,"Uhlmann","Rolf","Uhlmann Rolf"]
[120582,"Schenkel","Thomas","Schenkel Thomas"]
[120582,"Schenkel","Thomas","Schenkel Thomas"]
[253785,"De Jonckheere","Marcel","De Jonckheere Marcel"]
[253785,"De Jonckheere","Marcel","De Jonckheere Marcel"]
[678810,"Steiner","Alicia","Steiner Alicia"]
[678810,"Steiner","Alicia","Steiner Alicia"]
[120578,"Michel","Yves","Michel Yves"]
[120578,"Michel","Yves","Michel Yves"]
[120578,"Michel","Yves","Michel Yves"]
[120578,"Michel","Yves","Michel Yves"]
[120578,"Michel","Yves","Michel Yves"]
[120578,"Michel","Yves","Michel Yves"]
[120578,"Michel","Yves","Michel Yves"]
[253791,"Eschmann","Marc","Eschmann Marc"]
[253791,"Eschmann","Marc","Eschmann Marc"]
[194660,"Schaffter","Olivier Pierre","Schaffter Olivier Pierre"]
[194660,"Schaffter","Olivier Pierre","Schaffter Olivier Pierre"]
[120570,"Eschmann","René","Eschmann René"]
[120570,"Eschmann","René","Eschmann René"]
[120570,"Eschmann","René","Eschmann René"]
[120570,"Eschmann","René","Eschmann René"]
[120570,"Eschmann","René","Eschmann René"]
[120570,"Eschmann","René","Eschmann René"]
[120570,"Eschmann","René","Eschmann René"]
[120570,"Eschmann","René","Eschmann René"]
[233777,"Hirt","Géza","Hirt Géza"]
[602486,"Gogniat","Audrey","Gogniat Audrey"]
[602486,"Gogniat","Audrey","Gogniat Audrey"]
[156034,"Zaugg","Heinz","Zaugg Heinz"]
[156034,"Zaugg","Heinz","Zaugg Heinz"]
[156034,"Zaugg","Heinz","Zaugg Heinz"]
[307709,"Grande","Claudia","Grande Claudia"]
[253795,"Ueltschi","Kurt","Ueltschi Kurt"]
[253795,"Ueltschi","Kurt","Ueltschi Kurt"]
[253795,"Ueltschi","Kurt","Ueltschi Kurt"]
[253805,"Bangerter","Gottfried",{"$f":"B2627&\" \"&C2627","v":"Bangerter Gottfried"}]
[156064,"Zimmermann","Hans","Zimmermann Hans"]
[253809,"Held","Daniel","Held Daniel"]
[253807,"Gurtner","Roland","Gurtner Roland"]
[253815,"Rupp","Oswald","Rupp Oswald"]
[298860,"Venner","Arthur","Venner Arthur"]
[284121,"Tüscher","Sandro","Tüscher Sandro"]
[156034,"Zaugg","Heinz","Zaugg Heinz"]
[253812,"Lysser","Eduard","Lysser Eduard"]
[253808,"Hammer","Urs","Hammer Urs"]
[253805,"Bangerter","Gottfried","Bangerter Gottfried"]
[253805,"Bangerter","Gottfried","Bangerter Gottfried"]
[156064,"Zimmermann","Hans","Zimmermann Hans"]
[156064,"Zimmermann","Hans","Zimmermann Hans"]
[253809,"Held","Daniel","Held Daniel"]
[253809,"Held","Daniel","Held Daniel"]
[253809,"Held","Daniel","Held Daniel"]
[253809,"Held","Daniel","Held Daniel"]
[253807,"Gurtner","Roland","Gurtner Roland"]
[253807,"Gurtner","Roland","Gurtner Roland"]
[253807,"Gurtner","Roland","Gurtner Roland"]
[253815,"Rupp","Oswald","Rupp Oswald"]
[253815,"Rupp","Oswald","Rupp Oswald"]
[298860,"Venner","Arthur","Venner Arthur"]
[298860,"Venner","Arthur","Venner Arthur"]
[298860,"Venner","Arthur","Venner Arthur"]
[284121,"Tüscher","Sandro","Tüscher Sandro"]
[284121,"Tüscher","Sandro","Tüscher Sandro"]
[284121,"Tüscher","Sandro","Tüscher Sandro"]
[253812,"Lysser","Eduard","Lysser Eduard"]
[253812,"Lysser","Eduard","Lysser Eduard"]
[253812,"Lysser","Eduard","Lysser Eduard"]
[253808,"Hammer","Urs","Hammer Urs"]
[253808,"Hammer","Urs","Hammer Urs"]
[253808,"Hammer","Urs","Hammer Urs"]
[253808,"Hammer","Urs","Hammer Urs"]
[253805,"Bangerter","Gottfried","Bangerter Gottfried"]
[156064,"Zimmermann","Hans","Zimmermann Hans"]
[253809,"Held","Daniel","Held Daniel"]
[253807,"Gurtner","Roland","Gurtner Roland"]
[253815,"Rupp","Oswald","Rupp Oswald"]
[298860,"Venner","Arthur","Venner Arthur"]
[284121,"Tüscher","Sandro","Tüscher Sandro"]
[253805,"Bangerter","Gottfried","Bangerter Gottfried"]
[253805,"Bangerter","Gottfried","Bangerter Gottfried"]
[253805,"Bangerter","Gottfried","Bangerter Gottfried"]
[253805,"Bangerter","Gottfried","Bangerter Gottfried"]
[156064,"Zimmermann","Hans","Zimmermann Hans"]
[156064,"Zimmermann","Hans","Zimmermann Hans"]
[156064,"Zimmermann","Hans","Zimmermann Hans"]
[253809,"Held","Daniel","Held Daniel"]
[253809,"Held","Daniel","Held Daniel"]
[253809,"Held","Daniel","Held Daniel"]
[253809,"Held","Daniel","Held Daniel"]
[253807,"Gurtner","Roland","Gurtner Roland"]
[253807,"Gurtner","Roland","Gurtner Roland"]
[253807,"Gurtner","Roland","Gurtner Roland"]
[253815,"Rupp","Oswald","Rupp Oswald"]
[253815,"Rupp","Oswald","Rupp Oswald"]
[298860,"Venner","Arthur","Venner Arthur"]
[298860,"Venner","Arthur","Venner Arthur"]
[298860,"Venner","Arthur","Venner Arthur"]
[284121,"Tüscher","Sandro","Tüscher Sandro"]
[284121,"Tüscher","Sandro","Tüscher Sandro"]
[284121,"Tüscher","Sandro",{"$f":"B2691&\" \"&C2691","v":"Tüscher Sandro"}]
[284121,"Tüscher","Sandro","Tüscher Sandro"]
[120215,"Adolf","Roland","Adolf Roland"]
[217968,"Schulthess","Renato","Schulthess Renato"]
[120193,"Steiner","Samuel","Steiner Samuel"]
[120857,"Schweizer","Erwin","Schweizer Erwin"]
[120783,"Ruchti","Erwin","Ruchti Erwin"]
[171110,"Grimm","Thomas","Grimm Thomas"]
[321156,"Gerber","Michael","Gerber Michael"]
[120215,"Adolf","Roland","Adolf Roland"]
[120215,"Adolf","Roland","Adolf Roland"]
[120215,"Adolf","Roland","Adolf Roland"]
[120215,"Adolf","Roland","Adolf Roland"]
[217968,"Schulthess","Renato","Schulthess Renato"]
[217968,"Schulthess","Renato","Schulthess Renato"]
[217968,"Schulthess","Renato","Schulthess Renato"]
[120193,"Steiner","Samuel","Steiner Samuel"]
[120193,"Steiner","Samuel","Steiner Samuel"]
[120193,"Steiner","Samuel","Steiner Samuel"]
[120857,"Schweizer","Erwin","Schweizer Erwin"]
[120857,"Schweizer","Erwin","Schweizer Erwin"]
[120783,"Ruchti","Erwin","Ruchti Erwin"]
[120783,"Ruchti","Erwin","Ruchti Erwin"]
[171110,"Grimm","Thomas","Grimm Thomas"]
[171110,"Grimm","Thomas","Grimm Thomas"]
[321156,"Gerber","Michael","Gerber Michael"]
[321156,"Gerber","Michael","Gerber Michael"]
[260230,"Finger","Hans","Finger Hans"]
[253844,"Staub","Markus","Staub Markus"]
[0,"Ellenberger","Adrian","Ellenberger Adrian"]
[260230,"Finger","Hans","Finger Hans"]
[260230,"Finger","Hans","Finger Hans"]
[260230,"Finger","Hans","Finger Hans"]
[156034,"Zaugg","Heinz","Zaugg Heinz"]
[253844,"Staub","Markus","Staub Markus"]
[253844,"Staub","Markus","Staub Markus"]
[253844,"Staub","Markus","Staub Markus"]
[253844,"Staub","Markus","Staub Markus"]
[253844,"Staub","Markus","Staub Markus"]
[253844,"Staub","Markus","Staub Markus"]
[253844,"Staub","Markus","Staub Markus"]
[161309,"Cotting","André Claude","Cotting André Claude"]
[161299,"Broillet","Fabien","Broillet Fabien"]
[276342,"Progin","Kévin","Progin Kévin"]
[161322,"Moullet","Jacques","Moullet Jacques"]
[161310,"Devaud","André","Devaud André"]
[161309,"Cotting","André Claude","Cotting André Claude"]
[161309,"Cotting","André Claude","Cotting André Claude"]
[161299,"Broillet","Fabien","Broillet Fabien"]
[161299,"Broillet","Fabien","Broillet Fabien"]
[161299,"Broillet","Fabien","Broillet Fabien"]
[276342,"Progin","Kévin","Progin Kévin"]
[276342,"Progin","Kévin","Progin Kévin"]
[161322,"Moullet","Jacques","Moullet Jacques"]
[161322,"Moullet","Jacques","Moullet Jacques"]
[161322,"Moullet","Jacques","Moullet Jacques"]
[161322,"Moullet","Jacques","Moullet Jacques"]
[161322,"Moullet","Jacques","Moullet Jacques"]
[161322,"Moullet","Jacques","Moullet Jacques"]
[161322,"Moullet","Jacques","Moullet Jacques"]
[161322,"Moullet","Jacques","Moullet Jacques"]
[161310,"Devaud","André","Devaud André"]
[161310,"Devaud","André","Devaud André"]
[119623,"Sarbach","Erich","Sarbach Erich"]
[869254,"Trachsel","Andreas",{"$f":"B2755&\" \"&C2755","v":"Trachsel Andreas"}]
[253919,"Bieri","Ramona","Bieri Ramona"]
[253919,"Bieri","Ramona","Bieri Ramona"]
[16161,"Ryter","Sandrine","Ryter Sandrine"]
[7682,"Schneider","Marvin","Schneider Marvin"]
[119920,"Schneider","Martin","Schneider Martin"]
[119920,"Schneider","Martin","Schneider Martin"]
[869255,"Marti","Nolwenn","Marti Nolwenn"]
[284331,"Mühlemann","Matthias","Mühlemann Matthias"]
[158075,"Trachsel","Christoph","Trachsel Christoph"]
[154595,"Stoller","Markus","Stoller Markus"]
[154595,"Stoller","Markus","Stoller Markus"]
[158020,"Maurer","Alfred","Maurer Alfred"]
[158020,"Maurer","Alfred","Maurer Alfred"]
[253884,"Ryter","Marcel","Ryter Marcel"]
[174605,"Marti","Roland","Marti Roland"]
[174605,"Marti","Roland","Marti Roland"]
[983503,"Grossen","Sven","Grossen Sven"]
[303014,"von Deschwanden","Severin","von Deschwanden Severin"]
[183451,"Wäfler","Hans","Wäfler Hans"]
[183451,"Wäfler","Hans","Wäfler Hans"]
[793264,"Schneider","Manuel","Schneider Manuel"]
[793264,"Schneider","Manuel","Schneider Manuel"]
[119916,"Inniger","Andreas","Inniger Andreas"]
[119916,"Inniger","Andreas","Inniger Andreas"]
[279099,"Jost","Patrick","Jost Patrick"]
[253882,"Marti","Monika","Marti Monika"]
[174602,"Marti","Erich","Marti Erich"]
[174602,"Marti","Erich","Marti Erich"]
[119922,"Zahnd","Monika","Zahnd Monika"]
[119623,"Sarbach","Erich","Sarbach Erich"]
[119623,"Sarbach","Erich","Sarbach Erich"]
[869254,"Trachsel","Andreas","Trachsel Andreas"]
[869254,"Trachsel","Andreas","Trachsel Andreas"]
[7682,"Schneider","Marvin","Schneider Marvin"]
[119920,"Schneider","Martin","Schneider Martin"]
[119920,"Schneider","Martin","Schneider Martin"]
[869255,"Marti","Nolwenn","Marti Nolwenn"]
[284331,"Mühlemann","Matthias","Mühlemann Matthias"]
[154595,"Stoller","Markus","Stoller Markus"]
[154595,"Stoller","Markus","Stoller Markus"]
[158020,"Maurer","Alfred","Maurer Alfred"]
[158020,"Maurer","Alfred","Maurer Alfred"]
[158020,"Maurer","Alfred","Maurer Alfred"]
[781996,"Grossen","Kevin","Grossen Kevin"]
[174605,"Marti","Roland","Marti Roland"]
[174605,"Marti","Roland","Marti Roland"]
[183451,"Wäfler","Hans","Wäfler Hans"]
[183451,"Wäfler","Hans","Wäfler Hans"]
[793264,"Schneider","Manuel","Schneider Manuel"]
[793264,"Schneider","Manuel","Schneider Manuel"]
[119916,"Inniger","Andreas","Inniger Andreas"]
[279099,"Jost","Patrick","Jost Patrick"]
[174602,"Marti","Erich","Marti Erich"]
[174602,"Marti","Erich","Marti Erich"]
[174602,"Marti","Erich","Marti Erich"]
[174602,"Marti","Erich","Marti Erich"]
[174602,"Marti","Erich","Marti Erich"]
[174602,"Marti","Erich","Marti Erich"]
[119922,"Zahnd","Monika","Zahnd Monika"]
[979247,"Stoller","Philipp","Stoller Philipp"]
[253919,"Bieri","Ramona","Bieri Ramona"]
[253919,"Bieri","Ramona","Bieri Ramona"]
[253919,"Bieri","Ramona","Bieri Ramona"]
[253919,"Bieri","Ramona",{"$f":"B2819&\" \"&C2819","v":"Bieri Ramona"}]
[16161,"Ryter","Sandrine","Ryter Sandrine"]
[16161,"Ryter","Sandrine","Ryter Sandrine"]
[7682,"Schneider","Marvin","Schneider Marvin"]
[7682,"Schneider","Marvin","Schneider Marvin"]
[119920,"Schneider","Martin","Schneider Martin"]
[119920,"Schneider","Martin","Schneider Martin"]
[119920,"Schneider","Martin","Schneider Martin"]
[119920,"Schneider","Martin","Schneider Martin"]
[869255,"Marti","Nolwenn","Marti Nolwenn"]
[284331,"Mühlemann","Matthias","Mühlemann Matthias"]
[158075,"Trachsel","Christoph","Trachsel Christoph"]
[158075,"Trachsel","Christoph","Trachsel Christoph"]
[988975,"Steffen","Lara","Steffen Lara"]
[154595,"Stoller","Markus","Stoller Markus"]
[154595,"Stoller","Markus","Stoller Markus"]
[158020,"Maurer","Alfred","Maurer Alfred"]
[253884,"Ryter","Marcel","Ryter Marcel"]
[253884,"Ryter","Marcel","Ryter Marcel"]
[0,"Ryter","Lars","Ryter Lars"]
[174605,"Marti","Roland","Marti Roland"]
[174605,"Marti","Roland","Marti Roland"]
[174605,"Marti","Roland","Marti Roland"]
[174605,"Marti","Roland","Marti Roland"]
[983503,"Grossen","Sven","Grossen Sven"]
[983503,"Grossen","Sven","Grossen Sven"]
[983503,"Grossen","Sven","Grossen Sven"]
[303014,"von Deschwanden","Severin","von Deschwanden Severin"]
[303014,"von Deschwanden","Severin","von Deschwanden Severin"]
[303014,"von Deschwanden","Severin","von Deschwanden Severin"]
[183451,"Wäfler","Hans","Wäfler Hans"]
[183451,"Wäfler","Hans","Wäfler Hans"]
[793264,"Schneider","Manuel","Schneider Manuel"]
[793264,"Schneider","Manuel","Schneider Manuel"]
[119916,"Inniger","Andreas","Inniger Andreas"]
[119916,"Inniger","Andreas","Inniger Andreas"]
[119916,"Inniger","Andreas","Inniger Andreas"]
[119916,"Inniger","Andreas","Inniger Andreas"]
[0,"Schneider","Monya","Schneider Monya"]
[279099,"Jost","Patrick","Jost Patrick"]
[279099,"Jost","Patrick","Jost Patrick"]
[279099,"Jost","Patrick","Jost Patrick"]
[253882,"Marti","Monika","Marti Monika"]
[253882,"Marti","Monika","Marti Monika"]
[174602,"Marti","Erich","Marti Erich"]
[174602,"Marti","Erich","Marti Erich"]
[174602,"Marti","Erich","Marti Erich"]
[174602,"Marti","Erich","Marti Erich"]
[207290,"Burkhalter","Erwin","Burkhalter Erwin"]
[253910,"Bolanz","Albert","Bolanz Albert"]
[253910,"Bolanz","Albert","Bolanz Albert"]
[253923,"Weber","Stefan","Weber Stefan"]
[253915,"Heiniger","Beat","Heiniger Beat"]
[128621,"Grunder","Hans-Peter","Grunder Hans-Peter"]
[0,"Brand","Joel","Brand Joel"]
[0,"Peter","Colin","Peter Colin"]
[207290,"Burkhalter","Erwin","Burkhalter Erwin"]
[207290,"Burkhalter","Erwin","Burkhalter Erwin"]
[207290,"Burkhalter","Erwin","Burkhalter Erwin"]
[253910,"Bolanz","Albert","Bolanz Albert"]
[253910,"Bolanz","Albert","Bolanz Albert"]
[253910,"Bolanz","Albert","Bolanz Albert"]
[253910,"Bolanz","Albert","Bolanz Albert"]
[253910,"Bolanz","Albert","Bolanz Albert"]
[253923,"Weber","Stefan",{"$f":"B2883&\" \"&C2883","v":"Weber Stefan"}]
[253923,"Weber","Stefan","Weber Stefan"]
[253923,"Weber","Stefan","Weber Stefan"]
[253923,"Weber","Stefan","Weber Stefan"]
[253923,"Weber","Stefan","Weber Stefan"]
[253915,"Heiniger","Beat","Heiniger Beat"]
[253915,"Heiniger","Beat","Heiniger Beat"]
[0,"Steiner","Joshua","Steiner Joshua"]
[0,"Müller","Lian","Müller Lian"]
[128621,"Grunder","Hans-Peter","Grunder Hans-Peter"]
[128621,"Grunder","Hans-Peter","Grunder Hans-Peter"]
[128621,"Grunder","Hans-Peter","Grunder Hans-Peter"]
[128621,"Grunder","Hans-Peter","Grunder Hans-Peter"]
[0,"Brand","Elias","Brand Elias"]
[253930,"Riesen","Peter","Riesen Peter"]
[242978,"Friedli","Arthur","Friedli Arthur"]
[231903,"Salvisberg","Mario","Salvisberg Mario"]
[253929,"Riesen","Monika","Riesen Monika"]
[253933,"Siegenthaler","Alfred","Siegenthaler Alfred"]
[303025,"Siegenthaler","Roger","Siegenthaler Roger"]
[781974,"Zimmermann","Verena","Zimmermann Verena"]
[161796,"Zürcher","Hans-Ulrich","Zürcher Hans-Ulrich"]
[253930,"Riesen","Peter","Riesen Peter"]
[253930,"Riesen","Peter","Riesen Peter"]
[253930,"Riesen","Peter","Riesen Peter"]
[253930,"Riesen","Peter","Riesen Peter"]
[242978,"Friedli","Arthur","Friedli Arthur"]
[242978,"Friedli","Arthur","Friedli Arthur"]
[231903,"Salvisberg","Mario","Salvisberg Mario"]
[231903,"Salvisberg","Mario","Salvisberg Mario"]
[253929,"Riesen","Monika","Riesen Monika"]
[253929,"Riesen","Monika","Riesen Monika"]
[253929,"Riesen","Monika","Riesen Monika"]
[0,"Rüfenacht","Melina","Rüfenacht Melina"]
[0,"Rüfenacht","Melina","Rüfenacht Melina"]
[0,"Pagnard","Lenny","Pagnard Lenny"]
[253933,"Siegenthaler","Alfred","Siegenthaler Alfred"]
[253933,"Siegenthaler","Alfred","Siegenthaler Alfred"]
[253933,"Siegenthaler","Alfred","Siegenthaler Alfred"]
[253933,"Siegenthaler","Alfred","Siegenthaler Alfred"]
[303025,"Siegenthaler","Roger","Siegenthaler Roger"]
[303025,"Siegenthaler","Roger","Siegenthaler Roger"]
[303025,"Siegenthaler","Roger","Siegenthaler Roger"]
[781974,"Zimmermann","Verena","Zimmermann Verena"]
[781974,"Zimmermann","Verena","Zimmermann Verena"]
[781974,"Zimmermann","Verena","Zimmermann Verena"]
[922462,"Bouquet","Fabrice","Bouquet Fabrice"]
[922462,"Bouquet","Fabrice","Bouquet Fabrice"]
[922462,"Bouquet","Fabrice","Bouquet Fabrice"]
[0,"Baumann","Loic","Baumann Loic"]
[0,"Baumann","Loic","Baumann Loic"]
[161796,"Zürcher","Hans-Ulrich","Zürcher Hans-Ulrich"]
[161796,"Zürcher","Hans-Ulrich","Zürcher Hans-Ulrich"]
[161796,"Zürcher","Hans-Ulrich","Zürcher Hans-Ulrich"]
[161796,"Zürcher","Hans-Ulrich","Zürcher Hans-Ulrich"]
[161796,"Zürcher","Hans-Ulrich","Zürcher Hans-Ulrich"]
[120215,"Adolf","Roland","Adolf Roland"]
[217968,"Schulthess","Renato","Schulthess Renato"]
[120193,"Steiner","Samuel","Steiner Samuel"]
[253833,"Burri","Heinz","Burri Heinz"]
[238259,"Felder","Toni","Felder Toni"]
[171110,"Grimm","Thomas","Grimm Thomas"]
[120215,"Adolf","Roland","Adolf Roland"]
[120215,"Adolf","Roland","Adolf Roland"]
[120215,"Adolf","Roland",{"$f":"B2947&\" \"&C2947","v":"Adolf Roland"}]
[217968,"Schulthess","Renato","Schulthess Renato"]
[217968,"Schulthess","Renato","Schulthess Renato"]
[217968,"Schulthess","Renato","Schulthess Renato"]
[217968,"Schulthess","Renato","Schulthess Renato"]
[217968,"Schulthess","Renato","Schulthess Renato"]
[120193,"Steiner","Samuel","Steiner Samuel"]
[120193,"Steiner","Samuel","Steiner Samuel"]
[120193,"Steiner","Samuel","Steiner Samuel"]
[0,"Böhlen","Martin","Böhlen Martin"]
[0,"Blaser","Stefan","Blaser Stefan"]
[253833,"Burri","Heinz","Burri Heinz"]
[253833,"Burri","Heinz","Burri Heinz"]
[238259,"Felder","Toni","Felder Toni"]
[238259,"Felder","Toni","Felder Toni"]
[171110,"Grimm","Thomas","Grimm Thomas"]
[171110,"Grimm","Thomas","Grimm Thomas"]
[171110,"Grimm","Thomas","Grimm Thomas"]
[253835,"Rentsch","Werner","Rentsch Werner"]
[458109,"Steiner","Mirco","Steiner Mirco"]
[119623,"Sarbach","Erich","Sarbach Erich"]
[119622,"Renfer","Peter","Renfer Peter"]
[159107,"Gerber","Stefan","Gerber Stefan"]
[283219,"Pegoraro","Hans","Pegoraro Hans"]
[255460,"Pegoraro","Cornelia","Pegoraro Cornelia"]
[119623,"Sarbach","Erich","Sarbach Erich"]
[119623,"Sarbach","Erich","Sarbach Erich"]
[119623,"Sarbach","Erich","Sarbach Erich"]
[119623,"Sarbach","Erich","Sarbach Erich"]
[119622,"Renfer","Peter","Renfer Peter"]
[119622,"Renfer","Peter","Renfer Peter"]
[119622,"Renfer","Peter","Renfer Peter"]
[119622,"Renfer","Peter","Renfer Peter"]
[119622,"Renfer","Peter","Renfer Peter"]
[159107,"Gerber","Stefan","Gerber Stefan"]
[159107,"Gerber","Stefan","Gerber Stefan"]
[283219,"Pegoraro","Hans","Pegoraro Hans"]
[283219,"Pegoraro","Hans","Pegoraro Hans"]
[119608,"Buchser","Doris","Buchser Doris"]
[255460,"Pegoraro","Cornelia","Pegoraro Cornelia"]
[255460,"Pegoraro","Cornelia","Pegoraro Cornelia"]
[255460,"Pegoraro","Cornelia","Pegoraro Cornelia"]
[254019,"Dürig","Ruth","Dürig Ruth"]
[254020,"Dürig","Bruno","Dürig Bruno"]
[254019,"Dürig","Ruth","Dürig Ruth"]
[254019,"Dürig","Ruth","Dürig Ruth"]
[254020,"Dürig","Bruno","Dürig Bruno"]
[254020,"Dürig","Bruno","Dürig Bruno"]
[254020,"Dürig","Bruno","Dürig Bruno"]
[122730,"Bichsel","Daniel","Bichsel Daniel"]
[176333,"Hulliger","René","Hulliger René"]
[120960,"Schneider","Beat","Schneider Beat"]
[120946,"Berger","Andreas","Berger Andreas"]
[120957,"Sahli","Alfred","Sahli Alfred"]
[120857,"Schweizer","Erwin","Schweizer Erwin"]
[120783,"Ruchti","Erwin","Ruchti Erwin"]
[120854,"Krebs","Ulrich","Krebs Ulrich"]
[120620,"Schöni","Rudolf","Schöni Rudolf"]
[120960,"Schneider","Beat","Schneider Beat"]
[120960,"Schneider","Beat","Schneider Beat"]
[120946,"Berger","Andreas","Berger Andreas"]
[120946,"Berger","Andreas","Berger Andreas"]
[120957,"Sahli","Alfred","Sahli Alfred"]
[120957,"Sahli","Alfred","Sahli Alfred"]
[120957,"Sahli","Alfred",{"$f":"B3011&\" \"&C3011","v":"Sahli Alfred"}]
[120857,"Schweizer","Erwin","Schweizer Erwin"]
[120857,"Schweizer","Erwin","Schweizer Erwin"]
[120857,"Schweizer","Erwin","Schweizer Erwin"]
[120857,"Schweizer","Erwin","Schweizer Erwin"]
[120783,"Ruchti","Erwin","Ruchti Erwin"]
[120783,"Ruchti","Erwin","Ruchti Erwin"]
[120854,"Krebs","Ulrich","Krebs Ulrich"]
[120854,"Krebs","Ulrich","Krebs Ulrich"]
[120854,"Krebs","Ulrich","Krebs Ulrich"]
[120854,"Krebs","Ulrich","Krebs Ulrich"]
[120620,"Schöni","Rudolf","Schöni Rudolf"]
[120620,"Schöni","Rudolf","Schöni Rudolf"]
[120620,"Schöni","Rudolf","Schöni Rudolf"]
[120620,"Schöni","Rudolf","Schöni Rudolf"]
[254333,"Meichtry","Alfred","Meichtry Alfred"]
[119927,"Wild","Markus","Wild Markus"]
[253978,"Egli","Alfred","Egli Alfred"]
[120937,"Stalder","Kurt","Stalder Kurt"]
[260256,"Däppen","René","Däppen René"]
[120933,"Scheuner","Ronald","Scheuner Ronald"]
[259835,"Isenschmid","Samuel","Isenschmid Samuel"]
[253980,"Stalder","Elisabeth","Stalder Elisabeth"]
[254333,"Meichtry","Alfred","Meichtry Alfred"]
[254333,"Meichtry","Alfred","Meichtry Alfred"]
[119927,"Wild","Markus","Wild Markus"]
[119927,"Wild","Markus","Wild Markus"]
[119927,"Wild","Markus","Wild Markus"]
[253978,"Egli","Alfred","Egli Alfred"]
[253978,"Egli","Alfred","Egli Alfred"]
[253978,"Egli","Alfred","Egli Alfred"]
[253978,"Egli","Alfred","Egli Alfred"]
[120937,"Stalder","Kurt","Stalder Kurt"]
[120937,"Stalder","Kurt","Stalder Kurt"]
[120937,"Stalder","Kurt","Stalder Kurt"]
[120937,"Stalder","Kurt","Stalder Kurt"]
[120937,"Stalder","Kurt","Stalder Kurt"]
[120937,"Stalder","Kurt","Stalder Kurt"]
[260256,"Däppen","René","Däppen René"]
[260256,"Däppen","René","Däppen René"]
[120933,"Scheuner","Ronald","Scheuner Ronald"]
[120933,"Scheuner","Ronald","Scheuner Ronald"]
[120933,"Scheuner","Ronald","Scheuner Ronald"]
[259835,"Isenschmid","Samuel","Isenschmid Samuel"]
[259835,"Isenschmid","Samuel","Isenschmid Samuel"]
[253980,"Stalder","Elisabeth","Stalder Elisabeth"]
[253980,"Stalder","Elisabeth","Stalder Elisabeth"]
[253980,"Stalder","Elisabeth","Stalder Elisabeth"]
[253950,"Wyss","Margrith","Wyss Margrith"]
[869254,"Trachsel","Andreas","Trachsel Andreas"]
[279099,"Jost","Patrick","Jost Patrick"]
[938259,"Baumann","Jürg","Baumann Jürg"]
[177386,"Jost","Ueli","Jost Ueli"]
[253957,"Germann","Willi","Germann Willi"]
[253950,"Wyss","Margrith","Wyss Margrith"]
[253950,"Wyss","Margrith","Wyss Margrith"]
[869254,"Trachsel","Andreas","Trachsel Andreas"]
[869254,"Trachsel","Andreas","Trachsel Andreas"]
[869254,"Trachsel","Andreas","Trachsel Andreas"]
[279099,"Jost","Patrick","Jost Patrick"]
[279099,"Jost","Patrick","Jost Patrick"]
[279099,"Jost","Patrick","Jost Patrick"]
[279099,"Jost","Patrick","Jost Patrick"]
[279099,"Jost","Patrick","Jost Patrick"]
[938259,"Baumann","Jürg",{"$f":"B3075&\" \"&C3075","v":"Baumann Jürg"}]
[938259,"Baumann","Jürg","Baumann Jürg"]
[177386,"Jost","Ueli","Jost Ueli"]
[177386,"Jost","Ueli","Jost Ueli"]
[177386,"Jost","Ueli","Jost Ueli"]
[177386,"Jost","Ueli","Jost Ueli"]
[177386,"Jost","Ueli","Jost Ueli"]
[177386,"Jost","Ueli","Jost Ueli"]
[253957,"Germann","Willi","Germann Willi"]
[253957,"Germann","Willi","Germann Willi"]
[253983,"Tschiemer","Stefan","Tschiemer Stefan"]
[253983,"Tschiemer","Stefan","Tschiemer Stefan"]
[922537,"Grossglauser","Aaron","Grossglauser Aaron"]
[242406,"Tschiemer","Hansueli","Tschiemer Hansueli"]
[119516,"Dossenbach","Josef","Dossenbach Josef"]
[119516,"Dossenbach","Josef","Dossenbach Josef"]
[119899,"Koller","Peter","Koller Peter"]
[119899,"Koller","Peter","Koller Peter"]
[312705,"Näf","Bruno","Näf Bruno"]
[16189,"Frutiger","Alain","Frutiger Alain"]
[16189,"Frutiger","Alain","Frutiger Alain"]
[870744,"Grossglauser","Ivan","Grossglauser Ivan"]
[157457,"Studer","Marc","Studer Marc"]
[253994,"Studer","Roger","Studer Roger"]
[253994,"Studer","Roger","Studer Roger"]
[119530,"Wyss","Peter","Wyss Peter"]
[119530,"Wyss","Peter","Wyss Peter"]
[253985,"Abegglen","Heinz","Abegglen Heinz"]
[253987,"Frutiger","Ulrich","Frutiger Ulrich"]
[253987,"Frutiger","Ulrich","Frutiger Ulrich"]
[119926,"Schiess","Ernst","Schiess Ernst"]
[119926,"Schiess","Ernst","Schiess Ernst"]
[253991,"Näf","Hansruedi","Näf Hansruedi"]
[156034,"Zaugg","Heinz","Zaugg Heinz"]
[157444,"Jaggi","Peter","Jaggi Peter"]
[157444,"Jaggi","Peter","Jaggi Peter"]
[253983,"Tschiemer","Stefan","Tschiemer Stefan"]
[253983,"Tschiemer","Stefan","Tschiemer Stefan"]
[253983,"Tschiemer","Stefan","Tschiemer Stefan"]
[253983,"Tschiemer","Stefan","Tschiemer Stefan"]
[922537,"Grossglauser","Aaron","Grossglauser Aaron"]
[242406,"Tschiemer","Hansueli","Tschiemer Hansueli"]
[242406,"Tschiemer","Hansueli","Tschiemer Hansueli"]
[242406,"Tschiemer","Hansueli","Tschiemer Hansueli"]
[242406,"Tschiemer","Hansueli","Tschiemer Hansueli"]
[242406,"Tschiemer","Hansueli","Tschiemer Hansueli"]
[119516,"Dossenbach","Josef","Dossenbach Josef"]
[119516,"Dossenbach","Josef","Dossenbach Josef"]
[119516,"Dossenbach","Josef","Dossenbach Josef"]
[119516,"Dossenbach","Josef","Dossenbach Josef"]
[119899,"Koller","Peter","Koller Peter"]
[119899,"Koller","Peter","Koller Peter"]
[119899,"Koller","Peter","Koller Peter"]
[312705,"Näf","Bruno","Näf Bruno"]
[312705,"Näf","Bruno","Näf Bruno"]
[312705,"Näf","Bruno","Näf Bruno"]
[16189,"Frutiger","Alain","Frutiger Alain"]
[16189,"Frutiger","Alain","Frutiger Alain"]
[16189,"Frutiger","Alain","Frutiger Alain"]
[16189,"Frutiger","Alain","Frutiger Alain"]
[16189,"Frutiger","Alain","Frutiger Alain"]
[870744,"Grossglauser","Ivan","Grossglauser Ivan"]
[157457,"Studer","Marc","Studer Marc"]
[157457,"Studer","Marc","Studer Marc"]
[253994,"Studer","Roger",{"$f":"B3139&\" \"&C3139","v":"Studer Roger"}]
[253994,"Studer","Roger","Studer Roger"]
[253994,"Studer","Roger","Studer Roger"]
[119530,"Wyss","Peter","Wyss Peter"]
[119530,"Wyss","Peter","Wyss Peter"]
[119530,"Wyss","Peter","Wyss Peter"]
[119530,"Wyss","Peter","Wyss Peter"]
[119530,"Wyss","Peter","Wyss Peter"]
[119530,"Wyss","Peter","Wyss Peter"]
[253985,"Abegglen","Heinz","Abegglen Heinz"]
[253985,"Abegglen","Heinz","Abegglen Heinz"]
[0,"Luginbühl","Nathalie","Luginbühl Nathalie"]
[253987,"Frutiger","Ulrich","Frutiger Ulrich"]
[253987,"Frutiger","Ulrich","Frutiger Ulrich"]
[253987,"Frutiger","Ulrich","Frutiger Ulrich"]
[253987,"Frutiger","Ulrich","Frutiger Ulrich"]
[253987,"Frutiger","Ulrich","Frutiger Ulrich"]
[253987,"Frutiger","Ulrich","Frutiger Ulrich"]
[119926,"Schiess","Ernst","Schiess Ernst"]
[119926,"Schiess","Ernst","Schiess Ernst"]
[119926,"Schiess","Ernst","Schiess Ernst"]
[119926,"Schiess","Ernst","Schiess Ernst"]
[119926,"Schiess","Ernst","Schiess Ernst"]
[119926,"Schiess","Ernst","Schiess Ernst"]
[119926,"Schiess","Ernst","Schiess Ernst"]
[253991,"Näf","Hansruedi","Näf Hansruedi"]
[253991,"Näf","Hansruedi","Näf Hansruedi"]
[157444,"Jaggi","Peter","Jaggi Peter"]
[157444,"Jaggi","Peter","Jaggi Peter"]
[157444,"Jaggi","Peter","Jaggi Peter"]
[157444,"Jaggi","Peter","Jaggi Peter"]
[156709,"Rothen","Hans","Rothen Hans"]
[253998,"Berger","Martin","Berger Martin"]
[292415,"Staudenmann","Luca","Staudenmann Luca"]
[396754,"Hostettler","Ricco","Hostettler Ricco"]
[292417,"Guggisberg","Markus","Guggisberg Markus"]
[161656,"Beyeler","Irene","Beyeler Irene"]
[242978,"Friedli","Arthur","Friedli Arthur"]
[254004,"Guggisberg","Ueli","Guggisberg Ueli"]
[156654,"Bachofner","Paul","Bachofner Paul"]
[156654,"Bachofner","Paul","Bachofner Paul"]
[254011,"Riesen","Hans-Rudolf","Riesen Hans-Rudolf"]
[231903,"Salvisberg","Mario","Salvisberg Mario"]
[135152,"Rothen","Peter","Rothen Peter"]
[135152,"Rothen","Peter","Rothen Peter"]
[120937,"Stalder","Kurt","Stalder Kurt"]
[260564,"Zwahlen","Christoph","Zwahlen Christoph"]
[161020,"Sturny","Norbert","Sturny Norbert"]
[253933,"Siegenthaler","Alfred","Siegenthaler Alfred"]
[303025,"Siegenthaler","Roger","Siegenthaler Roger"]
[153031,"Zwahlen","Niklaus","Zwahlen Niklaus"]
[120918,"Guggisberg","Max","Guggisberg Max"]
[254012,"Rüst","Bernhard","Rüst Bernhard"]
[156727,"Zbinden","Alfred","Zbinden Alfred"]
[253999,"Burri","Peter","Burri Peter"]
[253999,"Burri","Peter","Burri Peter"]
[146356,"Beyeler","Simon","Beyeler Simon"]
[750252,"Wegmüller","Philipp Samuel","Wegmüller Philipp Samuel"]
[113013,"Graf","Roland","Graf Roland"]
[254016,"Zwahlen","Kurt","Zwahlen Kurt"]
[254016,"Zwahlen","Kurt","Zwahlen Kurt"]
[292415,"Staudenmann","Luca","Staudenmann Luca"]
[292415,"Staudenmann","Luca","Staudenmann Luca"]
[292417,"Guggisberg","Markus","Guggisberg Markus"]
[292417,"Guggisberg","Markus",{"$f":"B3203&\" \"&C3203","v":"Guggisberg Markus"}]
[161656,"Beyeler","Irene","Beyeler Irene"]
[161656,"Beyeler","Irene","Beyeler Irene"]
[242978,"Friedli","Arthur","Friedli Arthur"]
[242978,"Friedli","Arthur","Friedli Arthur"]
[254004,"Guggisberg","Ueli","Guggisberg Ueli"]
[254004,"Guggisberg","Ueli","Guggisberg Ueli"]
[254004,"Guggisberg","Ueli","Guggisberg Ueli"]
[254004,"Guggisberg","Ueli","Guggisberg Ueli"]
[156654,"Bachofner","Paul","Bachofner Paul"]
[156654,"Bachofner","Paul","Bachofner Paul"]
[156654,"Bachofner","Paul","Bachofner Paul"]
[156654,"Bachofner","Paul","Bachofner Paul"]
[156654,"Bachofner","Paul","Bachofner Paul"]
[231903,"Salvisberg","Mario","Salvisberg Mario"]
[231903,"Salvisberg","Mario","Salvisberg Mario"]
[231903,"Salvisberg","Mario","Salvisberg Mario"]
[231903,"Salvisberg","Mario","Salvisberg Mario"]
[135152,"Rothen","Peter","Rothen Peter"]
[135152,"Rothen","Peter","Rothen Peter"]
[135152,"Rothen","Peter","Rothen Peter"]
[120937,"Stalder","Kurt","Stalder Kurt"]
[120937,"Stalder","Kurt","Stalder Kurt"]
[120937,"Stalder","Kurt","Stalder Kurt"]
[120937,"Stalder","Kurt","Stalder Kurt"]
[0,"Kreuter","Robin","Kreuter Robin"]
[253933,"Siegenthaler","Alfred","Siegenthaler Alfred"]
[253933,"Siegenthaler","Alfred","Siegenthaler Alfred"]
[303025,"Siegenthaler","Roger","Siegenthaler Roger"]
[303025,"Siegenthaler","Roger","Siegenthaler Roger"]
[303025,"Siegenthaler","Roger","Siegenthaler Roger"]
[303025,"Siegenthaler","Roger","Siegenthaler Roger"]
[0,"Hostettler","Hermann","Hostettler Hermann"]
[153031,"Zwahlen","Niklaus","Zwahlen Niklaus"]
[153031,"Zwahlen","Niklaus","Zwahlen Niklaus"]
[120918,"Guggisberg","Max","Guggisberg Max"]
[120918,"Guggisberg","Max","Guggisberg Max"]
[254012,"Rüst","Bernhard","Rüst Bernhard"]
[254012,"Rüst","Bernhard","Rüst Bernhard"]
[0,"Brügger","Joel","Brügger Joel"]
[253999,"Burri","Peter","Burri Peter"]
[253999,"Burri","Peter","Burri Peter"]
[253999,"Burri","Peter","Burri Peter"]
[253999,"Burri","Peter","Burri Peter"]
[253999,"Burri","Peter","Burri Peter"]
[253999,"Burri","Peter","Burri Peter"]
[253999,"Burri","Peter","Burri Peter"]
[146356,"Beyeler","Simon","Beyeler Simon"]
[146356,"Beyeler","Simon","Beyeler Simon"]
[254016,"Zwahlen","Kurt","Zwahlen Kurt"]
[254016,"Zwahlen","Kurt","Zwahlen Kurt"]
[254016,"Zwahlen","Kurt","Zwahlen Kurt"]
[119646,"Moser","Fritz","Moser Fritz"]
[119646,"Moser","Fritz","Moser Fritz"]
[200120,"Monnerat","Guillaume","Monnerat Guillaume"]
[200120,"Monnerat","Guillaume","Monnerat Guillaume"]
[119870,"Schäfer","Monika","Schäfer Monika"]
[119870,"Schäfer","Monika","Schäfer Monika"]
[254050,"Berger","Paul","Berger Paul"]
[119276,"Bangerter","Hans-Ulrich","Bangerter Hans-Ulrich"]
[119276,"Bangerter","Hans-Ulrich","Bangerter Hans-Ulrich"]
[119934,"Ruchti","Heinz","Ruchti Heinz"]
[119934,"Ruchti","Heinz","Ruchti Heinz"]
[119908,"Oberli","Bruno","Oberli Bruno"]
[119908,"Oberli","Bruno",{"$f":"B3267&\" \"&C3267","v":"Oberli Bruno"}]
[111876,"Berger","Anton","Berger Anton"]
[177386,"Jost","Ueli","Jost Ueli"]
[119646,"Moser","Fritz","Moser Fritz"]
[119646,"Moser","Fritz","Moser Fritz"]
[119646,"Moser","Fritz","Moser Fritz"]
[119646,"Moser","Fritz","Moser Fritz"]
[119646,"Moser","Fritz","Moser Fritz"]
[119646,"Moser","Fritz","Moser Fritz"]
[200120,"Monnerat","Guillaume","Monnerat Guillaume"]
[200120,"Monnerat","Guillaume","Monnerat Guillaume"]
[200120,"Monnerat","Guillaume","Monnerat Guillaume"]
[200120,"Monnerat","Guillaume","Monnerat Guillaume"]
[119870,"Schäfer","Monika","Schäfer Monika"]
[119870,"Schäfer","Monika","Schäfer Monika"]
[119870,"Schäfer","Monika","Schäfer Monika"]
[119870,"Schäfer","Monika","Schäfer Monika"]
[119870,"Schäfer","Monika","Schäfer Monika"]
[119870,"Schäfer","Monika","Schäfer Monika"]
[119870,"Schäfer","Monika","Schäfer Monika"]
[254050,"Berger","Paul","Berger Paul"]
[254050,"Berger","Paul","Berger Paul"]
[119276,"Bangerter","Hans-Ulrich","Bangerter Hans-Ulrich"]
[119276,"Bangerter","Hans-Ulrich","Bangerter Hans-Ulrich"]
[119276,"Bangerter","Hans-Ulrich","Bangerter Hans-Ulrich"]
[119276,"Bangerter","Hans-Ulrich","Bangerter Hans-Ulrich"]
[119276,"Bangerter","Hans-Ulrich","Bangerter Hans-Ulrich"]
[119276,"Bangerter","Hans-Ulrich","Bangerter Hans-Ulrich"]
[119276,"Bangerter","Hans-Ulrich","Bangerter Hans-Ulrich"]
[119276,"Bangerter","Hans-Ulrich","Bangerter Hans-Ulrich"]
[119276,"Bangerter","Hans-Ulrich","Bangerter Hans-Ulrich"]
[119934,"Ruchti","Heinz","Ruchti Heinz"]
[119934,"Ruchti","Heinz","Ruchti Heinz"]
[119934,"Ruchti","Heinz","Ruchti Heinz"]
[119934,"Ruchti","Heinz","Ruchti Heinz"]
[119934,"Ruchti","Heinz","Ruchti Heinz"]
[119934,"Ruchti","Heinz","Ruchti Heinz"]
[119908,"Oberli","Bruno","Oberli Bruno"]
[119908,"Oberli","Bruno","Oberli Bruno"]
[119908,"Oberli","Bruno","Oberli Bruno"]
[119908,"Oberli","Bruno","Oberli Bruno"]
[119908,"Oberli","Bruno","Oberli Bruno"]
[111876,"Berger","Anton","Berger Anton"]
[111876,"Berger","Anton","Berger Anton"]
[111876,"Berger","Anton","Berger Anton"]
[177386,"Jost","Ueli","Jost Ueli"]
[177386,"Jost","Ueli","Jost Ueli"]
[254071,"Lauper","David","Lauper David"]
[254075,"Zürcher","Heidi","Zürcher Heidi"]
[254070,"Jakob","Beat","Jakob Beat"]
[254067,"Hosner","Heinz","Hosner Heinz"]
[292422,"Aebi","Karin","Aebi Karin"]
[254073,"Rickli","Gottfried","Rickli Gottfried"]
[0,"Zürcher","Daniel","Zürcher Daniel"]
[254071,"Lauper","David","Lauper David"]
[254071,"Lauper","David","Lauper David"]
[254071,"Lauper","David","Lauper David"]
[254075,"Zürcher","Heidi","Zürcher Heidi"]
[254075,"Zürcher","Heidi","Zürcher Heidi"]
[254075,"Zürcher","Heidi","Zürcher Heidi"]
[254070,"Jakob","Beat","Jakob Beat"]
[254070,"Jakob","Beat","Jakob Beat"]
[254067,"Hosner","Heinz","Hosner Heinz"]
[254067,"Hosner","Heinz","Hosner Heinz"]
[254067,"Hosner","Heinz",{"$f":"B3331&\" \"&C3331","v":"Hosner Heinz"}]
[254067,"Hosner","Heinz","Hosner Heinz"]
[292422,"Aebi","Karin","Aebi Karin"]
[292422,"Aebi","Karin","Aebi Karin"]
[292422,"Aebi","Karin","Aebi Karin"]
[254069,"Schneeberger","Doris","Schneeberger Doris"]
[254069,"Schneeberger","Doris","Schneeberger Doris"]
[254073,"Rickli","Gottfried","Rickli Gottfried"]
[254073,"Rickli","Gottfried","Rickli Gottfried"]
[254073,"Rickli","Gottfried","Rickli Gottfried"]
[296307,"Péchin","Frédéric","Péchin Frédéric"]
[254086,"Vaucher","Jean-Paul","Vaucher Jean-Paul"]
[254081,"Bottinelli","Jean-Marc","Bottinelli Jean-Marc"]
[19565,"Schaller","Christophe","Schaller Christophe"]
[254082,"Brossard","Steeve","Brossard Steeve"]
[329117,"Dessaules","Mike","Dessaules Mike"]
[204895,"Kocher","Boris","Kocher Boris"]
[194660,"Schaffter","Olivier Pierre","Schaffter Olivier Pierre"]
[942968,"Strahm","Gregory","Strahm Gregory"]
[321154,"Wenger","Quentin","Wenger Quentin"]
[446158,"Sutter","Jérôme","Sutter Jérôme"]
[712103,"Jourdain","Jean","Jourdain Jean"]
[254085,"Steinegger","Vincent","Steinegger Vincent"]
[296307,"Péchin","Frédéric","Péchin Frédéric"]
[254086,"Vaucher","Jean-Paul","Vaucher Jean-Paul"]
[254086,"Vaucher","Jean-Paul","Vaucher Jean-Paul"]
[254086,"Vaucher","Jean-Paul","Vaucher Jean-Paul"]
[254081,"Bottinelli","Jean-Marc","Bottinelli Jean-Marc"]
[254081,"Bottinelli","Jean-Marc","Bottinelli Jean-Marc"]
[19565,"Schaller","Christophe","Schaller Christophe"]
[254082,"Brossard","Steeve","Brossard Steeve"]
[254082,"Brossard","Steeve","Brossard Steeve"]
[254082,"Brossard","Steeve","Brossard Steeve"]
[254082,"Brossard","Steeve","Brossard Steeve"]
[254082,"Brossard","Steeve","Brossard Steeve"]
[254082,"Brossard","Steeve","Brossard Steeve"]
[254082,"Brossard","Steeve","Brossard Steeve"]
[0,"Gekle","Dominique","Gekle Dominique"]
[329117,"Dessaules","Mike","Dessaules Mike"]
[329117,"Dessaules","Mike","Dessaules Mike"]
[204895,"Kocher","Boris","Kocher Boris"]
[204895,"Kocher","Boris","Kocher Boris"]
[204895,"Kocher","Boris","Kocher Boris"]
[194660,"Schaffter","Olivier Pierre","Schaffter Olivier Pierre"]
[942968,"Strahm","Gregory","Strahm Gregory"]
[942968,"Strahm","Gregory","Strahm Gregory"]
[321154,"Wenger","Quentin","Wenger Quentin"]
[446158,"Sutter","Jérôme","Sutter Jérôme"]
[446158,"Sutter","Jérôme","Sutter Jérôme"]
[446158,"Sutter","Jérôme","Sutter Jérôme"]
[712103,"Jourdain","Jean","Jourdain Jean"]
[712103,"Jourdain","Jean","Jourdain Jean"]
[712103,"Jourdain","Jean","Jourdain Jean"]
[254085,"Steinegger","Vincent","Steinegger Vincent"]
[254085,"Steinegger","Vincent","Steinegger Vincent"]
[254085,"Steinegger","Vincent","Steinegger Vincent"]
[172100,"Steiner","Markus","Steiner Markus"]
[172100,"Steiner","Markus","Steiner Markus"]
[289713,"Milosz","Jerzy","Milosz Jerzy"]
[253966,"Meier","Albrecht","Meier Albrecht"]
[253966,"Meier","Albrecht","Meier Albrecht"]
[172139,"Wymann","Hans-Rudolf","Wymann Hans-Rudolf"]
[217889,"Lüthi","Martin","Lüthi Martin"]
[321156,"Gerber","Michael","Gerber Michael"]
[171990,"Kiener","Ernst",{"$f":"B3395&\" \"&C3395","v":"Kiener Ernst"}]
[20209,"Wüthrich","Ramon","Wüthrich Ramon"]
[20209,"Wüthrich","Ramon","Wüthrich Ramon"]
[347286,"Pfister","Juha","Pfister Juha"]
[172104,"Stucki","Thomas","Stucki Thomas"]
[171899,"Gerber","Hans","Gerber Hans"]
[172103,"Stucki","Markus","Stucki Markus"]
[172103,"Stucki","Markus","Stucki Markus"]
[172100,"Steiner","Markus","Steiner Markus"]
[172100,"Steiner","Markus","Steiner Markus"]
[172100,"Steiner","Markus","Steiner Markus"]
[172100,"Steiner","Markus","Steiner Markus"]
[172100,"Steiner","Markus","Steiner Markus"]
[172100,"Steiner","Markus","Steiner Markus"]
[172100,"Steiner","Markus","Steiner Markus"]
[172100,"Steiner","Markus","Steiner Markus"]
[289713,"Milosz","Jerzy","Milosz Jerzy"]
[289713,"Milosz","Jerzy","Milosz Jerzy"]
[289713,"Milosz","Jerzy","Milosz Jerzy"]
[253966,"Meier","Albrecht","Meier Albrecht"]
[253966,"Meier","Albrecht","Meier Albrecht"]
[253966,"Meier","Albrecht","Meier Albrecht"]
[172139,"Wymann","Hans-Rudolf","Wymann Hans-Rudolf"]
[172139,"Wymann","Hans-Rudolf","Wymann Hans-Rudolf"]
[172139,"Wymann","Hans-Rudolf","Wymann Hans-Rudolf"]
[172139,"Wymann","Hans-Rudolf","Wymann Hans-Rudolf"]
[321156,"Gerber","Michael","Gerber Michael"]
[321156,"Gerber","Michael","Gerber Michael"]
[321156,"Gerber","Michael","Gerber Michael"]
[171990,"Kiener","Ernst","Kiener Ernst"]
[171990,"Kiener","Ernst","Kiener Ernst"]
[347286,"Pfister","Juha","Pfister Juha"]
[347286,"Pfister","Juha","Pfister Juha"]
[0,"Gerber","Kathrin","Gerber Kathrin"]
[171899,"Gerber","Hans","Gerber Hans"]
[171899,"Gerber","Hans","Gerber Hans"]
[254096,"Stettler","Rolf","Stettler Rolf"]
[230296,"Steiner","Simon","Steiner Simon"]
[526233,"Hediger","Fabian","Hediger Fabian"]
[265151,"Scheidegger","Walter","Scheidegger Walter"]
[149501,"Tanner","Samuel","Tanner Samuel"]
[265150,"Sägesser","Werner","Sägesser Werner"]
[254095,"Tanner-Kunz","Cécile","Tanner-Kunz Cécile"]
[626808,"Scheidegger","Ernst","Scheidegger Ernst"]
[0,"Reber","Rosmarie","Reber Rosmarie"]
[254096,"Stettler","Rolf","Stettler Rolf"]
[254096,"Stettler","Rolf","Stettler Rolf"]
[254096,"Stettler","Rolf","Stettler Rolf"]
[254096,"Stettler","Rolf","Stettler Rolf"]
[0,"Sommer","Daniel","Sommer Daniel"]
[230296,"Steiner","Simon","Steiner Simon"]
[230296,"Steiner","Simon","Steiner Simon"]
[230296,"Steiner","Simon","Steiner Simon"]
[230296,"Steiner","Simon","Steiner Simon"]
[526233,"Hediger","Fabian","Hediger Fabian"]
[526233,"Hediger","Fabian","Hediger Fabian"]
[0,"Sommer","Lukas","Sommer Lukas"]
[265151,"Scheidegger","Walter","Scheidegger Walter"]
[265151,"Scheidegger","Walter","Scheidegger Walter"]
[265151,"Scheidegger","Walter","Scheidegger Walter"]
[149501,"Tanner","Samuel","Tanner Samuel"]
[149501,"Tanner","Samuel","Tanner Samuel"]
[149501,"Tanner","Samuel","Tanner Samuel"]
[149501,"Tanner","Samuel","Tanner Samuel"]
[265150,"Sägesser","Werner",{"$f":"B3459&\" \"&C3459","v":"Sägesser Werner"}]
[265150,"Sägesser","Werner","Sägesser Werner"]
[254095,"Tanner-Kunz","Cécile","Tanner-Kunz Cécile"]
[254095,"Tanner-Kunz","Cécile","Tanner-Kunz Cécile"]
[626808,"Scheidegger","Ernst","Scheidegger Ernst"]
[626808,"Scheidegger","Ernst","Scheidegger Ernst"]
[12568,"Marti","Ernst","Marti Ernst"]
[286316,"Länzlinger","Thomas","Länzlinger Thomas"]
[156415,"Stauffer","Werner","Stauffer Werner"]
[156411,"Salzmann","Ulrich","Salzmann Ulrich"]
[156393,"Howald","Hans-Rudolf","Howald Hans-Rudolf"]
[190736,"Wenger","Joseph","Wenger Joseph"]
[156388,"Gysin","Rolf","Gysin Rolf"]
[12568,"Marti","Ernst","Marti Ernst"]
[12568,"Marti","Ernst","Marti Ernst"]
[286316,"Länzlinger","Thomas","Länzlinger Thomas"]
[156415,"Stauffer","Werner","Stauffer Werner"]
[156415,"Stauffer","Werner","Stauffer Werner"]
[316589,"Stoller","Melchior","Stoller Melchior"]
[156411,"Salzmann","Ulrich","Salzmann Ulrich"]
[156411,"Salzmann","Ulrich","Salzmann Ulrich"]
[156393,"Howald","Hans-Rudolf","Howald Hans-Rudolf"]
[156393,"Howald","Hans-Rudolf","Howald Hans-Rudolf"]
[190736,"Wenger","Joseph","Wenger Joseph"]
[190736,"Wenger","Joseph","Wenger Joseph"]
[190736,"Wenger","Joseph","Wenger Joseph"]
[190736,"Wenger","Joseph","Wenger Joseph"]
[190736,"Wenger","Joseph","Wenger Joseph"]
[190736,"Wenger","Joseph","Wenger Joseph"]
[156388,"Gysin","Rolf","Gysin Rolf"]
[156388,"Gysin","Rolf","Gysin Rolf"]
[331188,"Meyer","Lorenz","Meyer Lorenz"]
[254032,"Loepfe","Urs","Loepfe Urs"]
[308098,"Kunz","Sören","Kunz Sören"]
[308099,"Katna","Andreas","Katna Andreas"]
[781362,"Loepfe","Chiara","Loepfe Chiara"]
[254030,"Soldini","Fausto","Soldini Fausto"]
[254032,"Loepfe","Urs","Loepfe Urs"]
[254032,"Loepfe","Urs","Loepfe Urs"]
[254032,"Loepfe","Urs","Loepfe Urs"]
[308098,"Kunz","Sören","Kunz Sören"]
[308099,"Katna","Andreas","Katna Andreas"]
[308099,"Katna","Andreas","Katna Andreas"]
[308099,"Katna","Andreas","Katna Andreas"]
[781362,"Loepfe","Chiara","Loepfe Chiara"]
[781362,"Loepfe","Chiara","Loepfe Chiara"]
[781362,"Loepfe","Chiara","Loepfe Chiara"]
[254030,"Soldini","Fausto","Soldini Fausto"]
[254030,"Soldini","Fausto","Soldini Fausto"]
[254030,"Soldini","Fausto","Soldini Fausto"]
[308098,"Kunz","Sören","Kunz Sören"]
[308098,"Kunz","Sören","Kunz Sören"]
[308098,"Kunz","Sören","Kunz Sören"]
[308098,"Kunz","Sören","Kunz Sören"]
[308098,"Kunz","Sören","Kunz Sören"]
[119922,"Zahnd","Monika","Zahnd Monika"]
[120215,"Adolf","Roland","Adolf Roland"]
[119623,"Sarbach","Erich","Sarbach Erich"]
[120576,"König","Robert","König Robert"]
[120568,"Carrera","Jean-Michel","Carrera Jean-Michel"]
[161656,"Beyeler","Irene","Beyeler Irene"]
[253919,"Bieri","Ramona","Bieri Ramona"]
[119516,"Dossenbach","Josef","Dossenbach Josef"]
[120193,"Steiner","Samuel","Steiner Samuel"]
[231903,"Salvisberg","Mario",{"$f":"B3523&\" \"&C3523","v":"Salvisberg Mario"}]
[231903,"Salvisberg","Mario","Salvisberg Mario"]
[135152,"Rothen","Peter","Rothen Peter"]
[120582,"Schenkel","Thomas","Schenkel Thomas"]
[154595,"Stoller","Markus","Stoller Markus"]
[120937,"Stalder","Kurt","Stalder Kurt"]
[120937,"Stalder","Kurt","Stalder Kurt"]
[253807,"Gurtner","Roland","Gurtner Roland"]
[260256,"Däppen","René","Däppen René"]
[119276,"Bangerter","Hans-Ulrich","Bangerter Hans-Ulrich"]
[120857,"Schweizer","Erwin","Schweizer Erwin"]
[174605,"Marti","Roland","Marti Roland"]
[254069,"Schneeberger","Doris","Schneeberger Doris"]
[120578,"Michel","Yves","Michel Yves"]
[303025,"Siegenthaler","Roger","Siegenthaler Roger"]
[587117,"Dürig","Andreas","Dürig Andreas"]
[119530,"Wyss","Peter","Wyss Peter"]
[194660,"Schaffter","Olivier Pierre","Schaffter Olivier Pierre"]
[183451,"Wäfler","Hans","Wäfler Hans"]
[120653,"Vogt","Bernd","Vogt Bernd"]
[120933,"Scheuner","Ronald","Scheuner Ronald"]
[119916,"Inniger","Andreas","Inniger Andreas"]
[552212,"Baumgartner","Joëlle Pascale","Baumgartner Joëlle Pascale"]
[161310,"Devaud","André","Devaud André"]
[156396,"Kiener","Bernhard","Kiener Bernhard"]
[279099,"Jost","Patrick","Jost Patrick"]
[111876,"Berger","Anton","Berger Anton"]
[119926,"Schiess","Ernst","Schiess Ernst"]
[120570,"Eschmann","René","Eschmann René"]
[174602,"Marti","Erich","Marti Erich"]
[174602,"Marti","Erich","Marti Erich"]
[321156,"Gerber","Michael","Gerber Michael"]
[146356,"Beyeler","Simon","Beyeler Simon"]
[750252,"Wegmüller","Philipp Samuel","Wegmüller Philipp Samuel"]
[156034,"Zaugg","Heinz","Zaugg Heinz"]
[119281,"Mollet","Urs","Mollet Urs"]
[157444,"Jaggi","Peter","Jaggi Peter"]
[458109,"Steiner","Mirco","Steiner Mirco"]
[217992,"Tschanz","Heinrich","Tschanz Heinrich"]
[120576,"König","Robert","König Robert"]
[120576,"König","Robert","König Robert"]
[119916,"Inniger","Andreas","Inniger Andreas"]
[552212,"Baumgartner","Joëlle Pascale","Baumgartner Joëlle Pascale"]
[156034,"Zaugg","Heinz","Zaugg Heinz"]
[119622,"Renfer","Peter","Renfer Peter"]
[120576,"König","Robert","König Robert"]
[119516,"Dossenbach","Josef","Dossenbach Josef"]
[231903,"Salvisberg","Mario","Salvisberg Mario"]
[135152,"Rothen","Peter","Rothen Peter"]
[254067,"Hosner","Heinz","Hosner Heinz"]
[120620,"Schöni","Rudolf","Schöni Rudolf"]
[119646,"Moser","Fritz","Moser Fritz"]
[156709,"Rothen","Hans","Rothen Hans"]
[254333,"Meichtry","Alfred","Meichtry Alfred"]
[119623,"Sarbach","Erich","Sarbach Erich"]
[202785,"Seiler","Hanspeter","Seiler Hanspeter"]
[120568,"Carrera","Jean-Michel","Carrera Jean-Michel"]
[253930,"Riesen","Peter","Riesen Peter"]
[253950,"Wyss","Margrith","Wyss Margrith"]
[869254,"Trachsel","Andreas","Trachsel Andreas"]
[242978,"Friedli","Arthur","Friedli Arthur"]
[254004,"Guggisberg","Ueli","Guggisberg Ueli"]
[217968,"Schulthess","Renato","Schulthess Renato"]
[242406,"Tschiemer","Hansueli","Tschiemer Hansueli"]
[156654,"Bachofner","Paul",{"$f":"B3587&\" \"&C3587","v":"Bachofner Paul"}]
[253805,"Bangerter","Gottfried","Bangerter Gottfried"]
[120960,"Schneider","Beat","Schneider Beat"]
[119899,"Koller","Peter","Koller Peter"]
[254086,"Vaucher","Jean-Paul","Vaucher Jean-Paul"]
[120567,"Burkhalter","Hans","Burkhalter Hans"]
[158075,"Trachsel","Christoph","Trachsel Christoph"]
[596948,"Uhlmann","Rolf","Uhlmann Rolf"]
[254011,"Riesen","Hans-Rudolf","Riesen Hans-Rudolf"]
[156064,"Zimmermann","Hans","Zimmermann Hans"]
[172100,"Steiner","Markus","Steiner Markus"]
[158098,"Zurbrügg","Paul","Zurbrügg Paul"]
[289713,"Milosz","Jerzy","Milosz Jerzy"]
[783167,"Bottinelli","Roger","Bottinelli Roger"]
[253929,"Riesen","Monika","Riesen Monika"]
[217964,"Schneider","Willy","Schneider Willy"]
[253809,"Held","Daniel","Held Daniel"]
[207290,"Burkhalter","Erwin","Burkhalter Erwin"]
[253966,"Meier","Albrecht","Meier Albrecht"]
[120937,"Stalder","Kurt","Stalder Kurt"]
[253887,"Zumkehr","Johann","Zumkehr Johann"]
[253785,"De Jonckheere","Marcel","De Jonckheere Marcel"]
[253968,"Spahr","Otto","Spahr Otto"]
[253910,"Bolanz","Albert","Bolanz Albert"]
[260230,"Finger","Hans","Finger Hans"]
[253915,"Heiniger","Beat","Heiniger Beat"]
[260256,"Däppen","René","Däppen René"]
[119276,"Bangerter","Hans-Ulrich","Bangerter Hans-Ulrich"]
[158020,"Maurer","Alfred","Maurer Alfred"]
[120857,"Schweizer","Erwin","Schweizer Erwin"]
[156411,"Salzmann","Ulrich","Salzmann Ulrich"]
[120578,"Michel","Yves","Michel Yves"]
[119271,"Häsler","Willy","Häsler Willy"]
[253969,"Steiner","Peter","Steiner Peter"]
[253969,"Steiner","Peter","Steiner Peter"]
[254041,"Hächler","Jürg","Hächler Jürg"]
[253933,"Siegenthaler","Alfred","Siegenthaler Alfred"]
[253833,"Burri","Heinz","Burri Heinz"]
[253940,"Egli","Rudolf","Egli Rudolf"]
[120918,"Guggisberg","Max","Guggisberg Max"]
[119530,"Wyss","Peter","Wyss Peter"]
[253815,"Rupp","Oswald","Rupp Oswald"]
[183451,"Wäfler","Hans","Wäfler Hans"]
[253985,"Abegglen","Heinz","Abegglen Heinz"]
[254073,"Rickli","Gottfried","Rickli Gottfried"]
[781974,"Zimmermann","Verena","Zimmermann Verena"]
[156393,"Howald","Hans-Rudolf","Howald Hans-Rudolf"]
[120653,"Vogt","Bernd","Vogt Bernd"]
[253971,"Riesen","Erich","Riesen Erich"]
[254038,"Ehlers","Hans","Ehlers Hans"]
[119934,"Ruchti","Heinz","Ruchti Heinz"]
[148961,"Eschmann","Maurice","Eschmann Maurice"]
[120854,"Krebs","Ulrich","Krebs Ulrich"]
[190736,"Wenger","Joseph","Wenger Joseph"]
[156727,"Zbinden","Alfred","Zbinden Alfred"]
[253987,"Frutiger","Ulrich","Frutiger Ulrich"]
[253882,"Marti","Monika","Marti Monika"]
[128621,"Grunder","Hans-Peter","Grunder Hans-Peter"]
[111876,"Berger","Anton","Berger Anton"]
[119926,"Schiess","Ernst","Schiess Ernst"]
[938259,"Baumann","Jürg","Baumann Jürg"]
[253991,"Näf","Hansruedi","Näf Hansruedi"]
[161796,"Zürcher","Hans-Ulrich","Zürcher Hans-Ulrich"]
[120570,"Eschmann","René","Eschmann René"]
[174602,"Marti","Erich",{"$f":"B3651&\" \"&C3651","v":"Marti Erich"}]
[253999,"Burri","Peter","Burri Peter"]
[177386,"Jost","Ueli","Jost Ueli"]
[156034,"Zaugg","Heinz","Zaugg Heinz"]
[119281,"Mollet","Urs","Mollet Urs"]
[120956,"Röthlisberger","Peter","Röthlisberger Peter"]
[253786,"Brawand","Heinz","Brawand Heinz"]
[157444,"Jaggi","Peter","Jaggi Peter"]
[253812,"Lysser","Eduard","Lysser Eduard"]
[253957,"Germann","Willi","Germann Willi"]
[253980,"Stalder","Elisabeth","Stalder Elisabeth"]
[253844,"Staub","Markus","Staub Markus"]
[254085,"Steinegger","Vincent","Steinegger Vincent"]
[254016,"Zwahlen","Kurt","Zwahlen Kurt"]
[253795,"Ueltschi","Kurt","Ueltschi Kurt"]
[242978,"Friedli","Arthur","Friedli Arthur"]
[172100,"Steiner","Markus","Steiner Markus"]
[135152,"Rothen","Peter","Rothen Peter"]
[119926,"Schiess","Ernst","Schiess Ernst"]
[938259,"Baumann","Jürg","Baumann Jürg"]
[177386,"Jost","Ueli","Jost Ueli"]
[156034,"Zaugg","Heinz","Zaugg Heinz"]
[0,"Schneider","Astrid","Schneider Astrid"]
[255710,"Menzi","Robert","Menzi Robert"]
[134905,"Forrer","Wendel","Forrer Wendel"]
[253774,"Streuli","Hans","Streuli Hans"]
[740534,"Gnägi","Reto","Gnägi Reto"]
[255575,"Piller","Pius","Piller Pius"]
[937941,"Wegmann","Rudolf","Wegmann Rudolf"]
[128499,"Liechti","Vreny","Liechti Vreny"]
[253783,"Zellweger","Ernst","Zellweger Ernst"]
[163386,"Grossglauser","Erwin","Grossglauser Erwin"]
[461720,"König","Vreni","König Vreni"]
[255674,"Hartmann","Thomas","Hartmann Thomas"]
[200645,"Schoch","Jakob","Schoch Jakob"]
[128493,"Liechti","Hans","Liechti Hans"]
[255584,"Wildhaber","Manfred","Wildhaber Manfred"]
[253766,"Preisig","Ernst","Preisig Ernst"]
[740536,"Landolt","Anton","Landolt Anton"]
[255693,"Menzi","Bruno","Menzi Bruno"]
[255635,"Heuberger","Bruno","Heuberger Bruno"]
[253720,"Handle","Hanspeter","Handle Hanspeter"]
[253744,"Dalle Case","Marco","Dalle Case Marco"]
[253744,"Dalle Case","Marco","Dalle Case Marco"]
[294833,"Zellweger","Ralf","Zellweger Ralf"]
[253774,"Streuli","Hans","Streuli Hans"]
[290054,"Straub","Silvia","Straub Silvia"]
[227092,"Müller","Jakob","Müller Jakob"]
[253783,"Zellweger","Ernst","Zellweger Ernst"]
[325667,"Bösch","Larissa","Bösch Larissa"]
[163386,"Grossglauser","Erwin","Grossglauser Erwin"]
[255631,"Eugster","Paul","Eugster Paul"]
[294813,"Müller","Raffael","Müller Raffael"]
[294813,"Müller","Raffael","Müller Raffael"]
[275397,"Koch","Melanie","Koch Melanie"]
[255621,"Dalle Case","Daniela","Dalle Case Daniela"]
[113419,"Haag","Stefan","Haag Stefan"]
[255693,"Menzi","Bruno","Menzi Bruno"]
[255702,"Heeb","Urs","Heeb Urs"]
[255702,"Heeb","Urs","Heeb Urs"]
[255702,"Heeb","Urs","Heeb Urs"]
[0,"Meli","Corinne","Meli Corinne"]
[749746,"Breuss","Nicola","Breuss Nicola"]
[749742,"Lüchinger","Dario","Lüchinger Dario"]
[267436,"Eugster","Michael",{"$f":"B3715&\" \"&C3715","v":"Eugster Michael"}]
[112971,"Eugster","Christof","Eugster Christof"]
[255560,"Manser","Michael","Manser Michael"]
[255561,"Manser","August","Manser August"]
[921030,"Steiger","Benjamin","Steiger Benjamin"]
[255555,"Fritsche","Josef","Fritsche Josef"]
[112571,"Duff","Robert","Duff Robert"]
[163386,"Grossglauser","Erwin","Grossglauser Erwin"]
[749743,"Thurnherr","Patrick","Thurnherr Patrick"]
[311405,"Götti","Michael","Götti Michael"]
[255558,"Kellenberger","Walter","Kellenberger Walter"]
[255563,"Schneider","Louis","Schneider Louis"]
[632556,"Winteler","Christoph","Winteler Christoph"]
[163387,"Grossglauser","Maria","Grossglauser Maria"]
[255562,"Obrist","Markus","Obrist Markus"]
[0,"Lüthi","Kyle","Lüthi Kyle"]
[112971,"Eugster","Christof","Eugster Christof"]
[921030,"Steiger","Benjamin","Steiger Benjamin"]
[311405,"Götti","Michael","Götti Michael"]
[255563,"Schneider","Louis","Schneider Louis"]
[255563,"Schneider","Louis","Schneider Louis"]
[632556,"Winteler","Christoph","Winteler Christoph"]
[163387,"Grossglauser","Maria","Grossglauser Maria"]
[163387,"Grossglauser","Maria","Grossglauser Maria"]
[624427,"Hehli","Michael","Hehli Michael"]
[624427,"Hehli","Michael","Hehli Michael"]
[624425,"Hehli","Christoph","Hehli Christoph"]
[624425,"Hehli","Christoph","Hehli Christoph"]
[112889,"Pfister","Gerold","Pfister Gerold"]
[112889,"Pfister","Gerold","Pfister Gerold"]
[124234,"Stefenon","Hans","Stefenon Hans"]
[255575,"Piller","Pius","Piller Pius"]
[255576,"Zumstein","Roland","Zumstein Roland"]
[624429,"Egli","Fabian","Egli Fabian"]
[624430,"Federer","Ivo","Federer Ivo"]
[151807,"Pfister","Walter","Pfister Walter"]
[151807,"Pfister","Walter","Pfister Walter"]
[752617,"Pfister","Ibai","Pfister Ibai"]
[752617,"Pfister","Ibai","Pfister Ibai"]
[112889,"Pfister","Gerold","Pfister Gerold"]
[0,"Bruggner","Corsin","Bruggner Corsin"]
[151807,"Pfister","Walter","Pfister Walter"]
[0,"Piller","Renzo","Piller Renzo"]
[0,"Trunz","Carina","Trunz Carina"]
[624425,"Hehli","Christoph","Hehli Christoph"]
[0,"Trunz","Jasmin","Trunz Jasmin"]
[0,"Trunz","Jasmin","Trunz Jasmin"]
[112889,"Pfister","Gerold","Pfister Gerold"]
[112889,"Pfister","Gerold","Pfister Gerold"]
[255575,"Piller","Pius","Piller Pius"]
[255575,"Piller","Pius","Piller Pius"]
[255576,"Zumstein","Roland","Zumstein Roland"]
[0,"Aeberhard","Glenn","Aeberhard Glenn"]
[0,"Trunz","Luca","Trunz Luca"]
[0,"Frei","Joel","Frei Joel"]
[0,"Dux","Mauro","Dux Mauro"]
[0,"Dux","Mauro","Dux Mauro"]
[0,"Hicsar","Alexander","Hicsar Alexander"]
[0,"Trunz","Andreas","Trunz Andreas"]
[0,"Bruggner","Domenic","Bruggner Domenic"]
[0,"Ceotto","Piereangelo","Ceotto Piereangelo"]
[0,"Ceotto","Piereangelo","Ceotto Piereangelo"]
[0,"Dux","Livio","Dux Livio"]
[0,"Dux","Livio","Dux Livio"]
[290362,"Frischknecht","Werner",{"$f":"B3779&\" \"&C3779","v":"Frischknecht Werner"}]
[519654,"Menzi","Tamara","Menzi Tamara"]
[112803,"Waser","André","Waser André"]
[329421,"Nikles","Ralph","Nikles Ralph"]
[112689,"Schilliger","Marcel","Schilliger Marcel"]
[112781,"Hüppi","Erhard","Hüppi Erhard"]
[325667,"Bösch","Larissa","Bösch Larissa"]
[112801,"Schweizer","Herbert","Schweizer Herbert"]
[255529,"Lüthi","Hans-Ruedi","Lüthi Hans-Ruedi"]
[117762,"Mächler","Martin","Mächler Martin"]
[302662,"Berger","Maria","Berger Maria"]
[112798,"Santoro","Franco","Santoro Franco"]
[290362,"Frischknecht","Werner","Frischknecht Werner"]
[329421,"Nikles","Ralph","Nikles Ralph"]
[130258,"Baumann","Brigitte","Baumann Brigitte"]
[255583,"Rinderer","Clemens","Rinderer Clemens"]
[255584,"Wildhaber","Manfred","Wildhaber Manfred"]
[294792,"Hobi","Thomas","Hobi Thomas"]
[703693,"Lendi","Roman","Lendi Roman"]
[113328,"Hobi","Guido","Hobi Guido"]
[133648,"Rinderer","Bruno","Rinderer Bruno"]
[113328,"Hobi","Guido","Hobi Guido"]
[255584,"Wildhaber","Manfred","Wildhaber Manfred"]
[113328,"Hobi","Guido","Hobi Guido"]
[113328,"Hobi","Guido","Hobi Guido"]
[255584,"Wildhaber","Manfred","Wildhaber Manfred"]
[113328,"Hobi","Guido","Hobi Guido"]
[969563,"Spycher","Daniel","Spycher Daniel"]
[255593,"Brülisauer","Fritz","Brülisauer Fritz"]
[969563,"Spycher","Daniel","Spycher Daniel"]
[11057,"Mösli","Julia","Mösli Julia"]
[275397,"Koch","Melanie","Koch Melanie"]
[955418,"Nickel","Sabrina","Nickel Sabrina"]
[201292,"Brülisauer","Peter","Brülisauer Peter"]
[275397,"Koch","Melanie","Koch Melanie"]
[11058,"Haener","Christian","Haener Christian"]
[699811,"Brülisauer","Lukas","Brülisauer Lukas"]
[201292,"Brülisauer","Peter","Brülisauer Peter"]
[256628,"Troxler","Willi","Troxler Willi"]
[253774,"Streuli","Hans","Streuli Hans"]
[294797,"Dick","Mathias","Dick Mathias"]
[128493,"Liechti","Hans","Liechti Hans"]
[255599,"Konrad","Walter","Konrad Walter"]
[699811,"Brülisauer","Lukas","Brülisauer Lukas"]
[128499,"Liechti","Vreny","Liechti Vreny"]
[291795,"Nägeli","Philipp","Nägeli Philipp"]
[11057,"Mösli","Julia","Mösli Julia"]
[255593,"Brülisauer","Fritz","Brülisauer Fritz"]
[955418,"Nickel","Sabrina","Nickel Sabrina"]
[253774,"Streuli","Hans","Streuli Hans"]
[113278,"Schmid","Benno","Schmid Benno"]
[255589,"Forster","Roland","Forster Roland"]
[255592,"Bischofberger","Paul","Bischofberger Paul"]
[255602,"Thoma","Jakob","Thoma Jakob"]
[254526,"Rinderknecht","Ruth","Rinderknecht Ruth"]
[255601,"Streuli","Reto","Streuli Reto"]
[255595,"Dick","Hanspeter","Dick Hanspeter"]
[0,"Wesselak","Livio","Wesselak Livio"]
[255593,"Brülisauer","Fritz","Brülisauer Fritz"]
[255593,"Brülisauer","Fritz","Brülisauer Fritz"]
[0,"Wesselak","Livio","Wesselak Livio"]
[955418,"Nickel","Sabrina","Nickel Sabrina"]
[275397,"Koch","Melanie","Koch Melanie"]
[699811,"Brülisauer","Lukas","Brülisauer Lukas"]
[0,"Bentham","Aron",{"$f":"B3843&\" \"&C3843","v":"Bentham Aron"}]
[275397,"Koch","Melanie","Koch Melanie"]
[0,"Spycher","Laura","Spycher Laura"]
[11057,"Mösli","Julia","Mösli Julia"]
[253774,"Streuli","Hans","Streuli Hans"]
[256628,"Troxler","Willi","Troxler Willi"]
[128499,"Liechti","Vreny","Liechti Vreny"]
[0,"Künzle","Livio","Künzle Livio"]
[275397,"Koch","Melanie","Koch Melanie"]
[275397,"Koch","Melanie","Koch Melanie"]
[0,"Spycher","Laura","Spycher Laura"]
[16049,"Steger","Placi","Steger Placi"]
[255613,"Manser","Franz","Manser Franz"]
[699442,"Baumann","Gabriela","Baumann Gabriela"]
[255613,"Manser","Franz","Manser Franz"]
[16049,"Steger","Placi","Steger Placi"]
[255696,"Good","Tino","Good Tino"]
[255621,"Dalle Case","Daniela","Dalle Case Daniela"]
[113274,"Müller","Bruno","Müller Bruno"]
[294831,"Hansmann","Linda","Hansmann Linda"]
[905666,"Meier","Astrid","Meier Astrid"]
[908368,"Zbinden","Claudia","Zbinden Claudia"]
[103010,"Brunner","Elio","Brunner Elio"]
[113281,"Steimer","Horst","Steimer Horst"]
[113419,"Haag","Stefan","Haag Stefan"]
[103010,"Brunner","Elio","Brunner Elio"]
[255624,"Merkofer","Daniel","Merkofer Daniel"]
[294833,"Zellweger","Ralf","Zellweger Ralf"]
[305619,"Schweizer","Andreas","Schweizer Andreas"]
[227092,"Müller","Jakob","Müller Jakob"]
[253783,"Zellweger","Ernst","Zellweger Ernst"]
[908368,"Zbinden","Claudia","Zbinden Claudia"]
[294831,"Hansmann","Linda","Hansmann Linda"]
[112894,"Scheuss","Hans","Scheuss Hans"]
[113009,"Weber","Hansueli","Weber Hansueli"]
[21315,"Suttinger","Franz","Suttinger Franz"]
[255626,"Messmer","Peter","Messmer Peter"]
[112894,"Scheuss","Hans","Scheuss Hans"]
[112894,"Scheuss","Hans","Scheuss Hans"]
[253744,"Dalle Case","Marco","Dalle Case Marco"]
[253744,"Dalle Case","Marco","Dalle Case Marco"]
[253744,"Dalle Case","Marco","Dalle Case Marco"]
[294833,"Zellweger","Ralf","Zellweger Ralf"]
[141051,"Furrer","Hansruedi","Furrer Hansruedi"]
[141051,"Furrer","Hansruedi","Furrer Hansruedi"]
[113274,"Müller","Bruno","Müller Bruno"]
[227092,"Müller","Jakob","Müller Jakob"]
[227092,"Müller","Jakob","Müller Jakob"]
[105588,"Forrer","Fritz","Forrer Fritz"]
[105588,"Forrer","Fritz","Forrer Fritz"]
[253783,"Zellweger","Ernst","Zellweger Ernst"]
[253783,"Zellweger","Ernst","Zellweger Ernst"]
[113009,"Weber","Hansueli","Weber Hansueli"]
[113009,"Weber","Hansueli","Weber Hansueli"]
[113281,"Steimer","Horst","Steimer Horst"]
[255624,"Merkofer","Daniel","Merkofer Daniel"]
[255696,"Good","Tino","Good Tino"]
[905666,"Meier","Astrid","Meier Astrid"]
[255621,"Dalle Case","Daniela","Dalle Case Daniela"]
[255621,"Dalle Case","Daniela","Dalle Case Daniela"]
[113419,"Haag","Stefan","Haag Stefan"]
[112895,"Scheuss","Oriana","Scheuss Oriana"]
[112895,"Scheuss","Oriana","Scheuss Oriana"]
[112903,"Zwicker","Guido","Zwicker Guido"]
[112903,"Zwicker","Guido",{"$f":"B3907&\" \"&C3907","v":"Zwicker Guido"}]
[305619,"Schweizer","Andreas","Schweizer Andreas"]
[253783,"Zellweger","Ernst","Zellweger Ernst"]
[4361,"Patt","Michel","Patt Michel"]
[113274,"Müller","Bruno","Müller Bruno"]
[0,"Rakozi","Niclas","Rakozi Niclas"]
[0,"Küffer","Lias","Küffer Lias"]
[941477,"Kessler","Benjamin","Kessler Benjamin"]
[253744,"Dalle Case","Marco","Dalle Case Marco"]
[305619,"Schweizer","Andreas","Schweizer Andreas"]
[255696,"Good","Tino","Good Tino"]
[253720,"Handle","Hanspeter","Handle Hanspeter"]
[105588,"Forrer","Fritz","Forrer Fritz"]
[0,"Küffer","Lias","Küffer Lias"]
[112894,"Scheuss","Hans","Scheuss Hans"]
[0,"Rakozi","Niclas","Rakozi Niclas"]
[294833,"Zellweger","Ralf","Zellweger Ralf"]
[294833,"Zellweger","Ralf","Zellweger Ralf"]
[113274,"Müller","Bruno","Müller Bruno"]
[227092,"Müller","Jakob","Müller Jakob"]
[227092,"Müller","Jakob","Müller Jakob"]
[253783,"Zellweger","Ernst","Zellweger Ernst"]
[253783,"Zellweger","Ernst","Zellweger Ernst"]
[933549,"Patt","Andrea","Patt Andrea"]
[933549,"Patt","Andrea","Patt Andrea"]
[941477,"Kessler","Benjamin","Kessler Benjamin"]
[255624,"Merkofer","Daniel","Merkofer Daniel"]
[4361,"Patt","Michel","Patt Michel"]
[255621,"Dalle Case","Daniela","Dalle Case Daniela"]
[294831,"Hansmann","Linda","Hansmann Linda"]
[155837,"Graf","Emil","Graf Emil"]
[11060,"Handsche","Patricia","Handsche Patricia"]
[11061,"Lang","Markus","Lang Markus"]
[20448,"Nigg","Sonja","Nigg Sonja"]
[255636,"Krüsi","Ernst","Krüsi Ernst"]
[253721,"Eugster","Karl","Eugster Karl"]
[2135,"Büchel","Marianne","Büchel Marianne"]
[255633,"Graf","Markus","Graf Markus"]
[253749,"Eugster","Markus","Eugster Markus"]
[807506,"Gantenbein","Andreas","Gantenbein Andreas"]
[255631,"Eugster","Paul","Eugster Paul"]
[126057,"Büchel","Hans","Büchel Hans"]
[255635,"Heuberger","Bruno","Heuberger Bruno"]
[888237,"Ryser","Sofia","Ryser Sofia"]
[0,"Reithofer","Tobias","Reithofer Tobias"]
[255633,"Graf","Markus","Graf Markus"]
[253749,"Eugster","Markus","Eugster Markus"]
[155837,"Graf","Emil","Graf Emil"]
[126057,"Büchel","Hans","Büchel Hans"]
[253749,"Eugster","Markus","Eugster Markus"]
[0,"Bösch","Dylan","Bösch Dylan"]
[126057,"Büchel","Hans","Büchel Hans"]
[0,"Rechsteiner","Reto","Rechsteiner Reto"]
[253721,"Eugster","Karl","Eugster Karl"]
[0,"Music","Aleksandr","Music Aleksandr"]
[807506,"Gantenbein","Andreas","Gantenbein Andreas"]
[253721,"Eugster","Karl","Eugster Karl"]
[255631,"Eugster","Paul","Eugster Paul"]
[255631,"Eugster","Paul","Eugster Paul"]
[255652,"Hofstetter","Willi","Hofstetter Willi"]
[255693,"Menzi","Bruno","Menzi Bruno"]
[200637,"Diem","Andreas","Diem Andreas"]
[224946,"Weiler","Andreas","Weiler Andreas"]
[255653,"Hofstetter","Ruedi","Hofstetter Ruedi"]
[255657,"Schoch","Walter",{"$f":"B3971&\" \"&C3971","v":"Schoch Walter"}]
[255656,"Schoch","Margrit","Schoch Margrit"]
[224947,"Hofstetter","Edwin","Hofstetter Edwin"]
[224946,"Weiler","Andreas","Weiler Andreas"]
[200645,"Schoch","Jakob","Schoch Jakob"]
[200637,"Diem","Andreas","Diem Andreas"]
[0,"Bösch-Schoch","Sandra","Bösch-Schoch Sandra"]
[200645,"Schoch","Jakob","Schoch Jakob"]
[255653,"Hofstetter","Ruedi","Hofstetter Ruedi"]
[255653,"Hofstetter","Ruedi","Hofstetter Ruedi"]
[255656,"Schoch","Margrit","Schoch Margrit"]
[294816,"Ehrler","Florian","Ehrler Florian"]
[294812,"Müller","Fabian","Müller Fabian"]
[294813,"Müller","Raffael","Müller Raffael"]
[294812,"Müller","Fabian","Müller Fabian"]
[294813,"Müller","Raffael","Müller Raffael"]
[624518,"Leirer","Jean-Michel","Leirer Jean-Michel"]
[624518,"Leirer","Jean-Michel","Leirer Jean-Michel"]
[294811,"Preisig","Reto","Preisig Reto"]
[791693,"Brunner","Valentin","Brunner Valentin"]
[752627,"Leirer","Joel","Leirer Joel"]
[763684,"Meier","Florian","Meier Florian"]
[0,"Knechtle","Dario","Knechtle Dario"]
[0,"Knöpfel","Anina","Knöpfel Anina"]
[624518,"Leirer","Jean-Michel","Leirer Jean-Michel"]
[294811,"Preisig","Reto","Preisig Reto"]
[15475,"Stadelmann","Luca","Stadelmann Luca"]
[752627,"Leirer","Joel","Leirer Joel"]
[0,"Cola","Mia","Cola Mia"]
[294811,"Preisig","Reto","Preisig Reto"]
[763684,"Meier","Florian","Meier Florian"]
[15475,"Stadelmann","Luca","Stadelmann Luca"]
[791693,"Brunner","Valentin","Brunner Valentin"]
[294812,"Müller","Fabian","Müller Fabian"]
[294816,"Ehrler","Florian","Ehrler Florian"]
[752625,"Frey","Nadine","Frey Nadine"]
[274331,"Högger","Jérôme","Högger Jérôme"]
[255680,"Kehl","Marcel","Kehl Marcel"]
[294826,"Koster","Kevin","Koster Kevin"]
[255686,"Zwicker","Christoph","Zwicker Christoph"]
[255688,"Zwicker","Richard","Zwicker Richard"]
[753678,"Frey","Nico","Frey Nico"]
[255676,"Bock","Roman","Bock Roman"]
[172761,"Maurer","Kurt","Maurer Kurt"]
[255682,"Lenherr","Daniel","Lenherr Daniel"]
[752625,"Frey","Nadine","Frey Nadine"]
[294826,"Koster","Kevin","Koster Kevin"]
[294826,"Koster","Kevin","Koster Kevin"]
[255686,"Zwicker","Christoph","Zwicker Christoph"]
[255686,"Zwicker","Christoph","Zwicker Christoph"]
[0,"Büttner","Peter","Büttner Peter"]
[255676,"Bock","Roman","Bock Roman"]
[255676,"Bock","Roman","Bock Roman"]
[325667,"Bösch","Larissa","Bösch Larissa"]
[255702,"Heeb","Urs","Heeb Urs"]
[290052,"Riehl","Claudia","Riehl Claudia"]
[744895,"Eberhard","Otto","Eberhard Otto"]
[329421,"Nikles","Ralph","Nikles Ralph"]
[255710,"Menzi","Robert","Menzi Robert"]
[255699,"Bremgartner","Beat","Bremgartner Beat"]
[307027,"Egger","Daniel","Egger Daniel"]
[255704,"Hobi","Franz","Hobi Franz"]
[744895,"Eberhard","Otto","Eberhard Otto"]
[255709,"Menzi","Jost","Menzi Jost"]
[134905,"Forrer","Wendel",{"$f":"B4035&\" \"&C4035","v":"Forrer Wendel"}]
[753679,"Abderhalden","Yanick","Abderhalden Yanick"]
[117762,"Mächler","Martin","Mächler Martin"]
[134914,"Langenegger","Albert","Langenegger Albert"]
[753679,"Abderhalden","Yanick","Abderhalden Yanick"]
[519654,"Menzi","Tamara","Menzi Tamara"]
[20413,"Gerig","Paul","Gerig Paul"]
[255712,"Nikles","André","Nikles André"]
[920599,"Heierli","Dorian","Heierli Dorian"]
[920599,"Heierli","Dorian","Heierli Dorian"]
[255710,"Menzi","Robert","Menzi Robert"]
[255710,"Menzi","Robert","Menzi Robert"]
[134905,"Forrer","Wendel","Forrer Wendel"]
[290054,"Straub","Silvia","Straub Silvia"]
[255699,"Bremgartner","Beat","Bremgartner Beat"]
[112803,"Waser","André","Waser André"]
[255702,"Heeb","Urs","Heeb Urs"]
[255702,"Heeb","Urs","Heeb Urs"]
[0,"Bruderer","Theres","Bruderer Theres"]
[0,"Eberhard","Reto","Eberhard Reto"]
[329421,"Nikles","Ralph","Nikles Ralph"]
[134905,"Forrer","Wendel","Forrer Wendel"]
[134914,"Langenegger","Albert","Langenegger Albert"]
[0,"Huber","Lukas","Huber Lukas"]
[0,"Hostettler","Kevin","Hostettler Kevin"]
[255712,"Nikles","André","Nikles André"]
[0,"Hostettler","Kevin","Hostettler Kevin"]
[307027,"Egger","Daniel","Egger Daniel"]
[134905,"Forrer","Wendel","Forrer Wendel"]
[255699,"Bremgartner","Beat","Bremgartner Beat"]
[255704,"Hobi","Franz","Hobi Franz"]
[325667,"Bösch","Larissa","Bösch Larissa"]
[112803,"Waser","André","Waser André"]
[0,"Gansner","Mario","Gansner Mario"]
[0,"Gansner","Mario","Gansner Mario"]
[0,"Gerig","Petra","Gerig Petra"]
[519654,"Menzi","Tamara","Menzi Tamara"]
[255529,"Lüthi","Hans-Ruedi","Lüthi Hans-Ruedi"]
[255702,"Heeb","Urs","Heeb Urs"]
[0,"Eberhard","Reto","Eberhard Reto"]
[329421,"Nikles","Ralph","Nikles Ralph"]
[0,"Eicher","Sandro","Eicher Sandro"]
[0,"Huber","Lukas","Huber Lukas"]
[195852,"Fischer","Marco","Fischer Marco"]
[945360,"Fischli","Gabi","Fischli Gabi"]
[255721,"Fischli","Kurt","Fischli Kurt"]
[255720,"Fischer","Hansruedi","Fischer Hansruedi"]
[255723,"Müller","Roland","Müller Roland"]
[945359,"Dürst","Fritz","Dürst Fritz"]
[11065,"Imgrüth","Andreas","Imgrüth Andreas"]
[190880,"Broger","Bruno","Broger Bruno"]
[0,"Laager","Bernadette","Laager Bernadette"]
[255720,"Fischer","Hansruedi","Fischer Hansruedi"]
[255720,"Fischer","Hansruedi","Fischer Hansruedi"]
[255720,"Fischer","Hansruedi","Fischer Hansruedi"]
[11065,"Imgrüth","Andreas","Imgrüth Andreas"]
[888237,"Ryser","Sofia","Ryser Sofia"]
[112971,"Eugster","Christof","Eugster Christof"]
[126057,"Büchel","Hans","Büchel Hans"]
[253749,"Eugster","Markus","Eugster Markus"]
[255561,"Manser","August","Manser August"]
[807506,"Gantenbein","Andreas","Gantenbein Andreas"]
[311405,"Götti","Michael","Götti Michael"]
[163387,"Grossglauser","Maria","Grossglauser Maria"]
[163386,"Grossglauser","Erwin",{"$f":"B4099&\" \"&C4099","v":"Grossglauser Erwin"}]
[2135,"Büchel","Marianne","Büchel Marianne"]
[163386,"Grossglauser","Erwin","Grossglauser Erwin"]
[163386,"Grossglauser","Erwin","Grossglauser Erwin"]
[126275,"Vetter","Andreas","Vetter Andreas"]
[104595,"Schoch","Ernst","Schoch Ernst"]
[126057,"Büchel","Hans","Büchel Hans"]
[255648,"Wietlisbach","Josef","Wietlisbach Josef"]
[255712,"Nikles","André","Nikles André"]
[112894,"Scheuss","Hans","Scheuss Hans"]
[253744,"Dalle Case","Marco","Dalle Case Marco"]
[255710,"Menzi","Robert","Menzi Robert"]
[624425,"Hehli","Christoph","Hehli Christoph"]
[290052,"Riehl","Claudia","Riehl Claudia"]
[141051,"Furrer","Hansruedi","Furrer Hansruedi"]
[134905,"Forrer","Wendel","Forrer Wendel"]
[113274,"Müller","Bruno","Müller Bruno"]
[253774,"Streuli","Hans","Streuli Hans"]
[255561,"Manser","August","Manser August"]
[124234,"Stefenon","Hans","Stefenon Hans"]
[227092,"Müller","Jakob","Müller Jakob"]
[255555,"Fritsche","Josef","Fritsche Josef"]
[255575,"Piller","Pius","Piller Pius"]
[112571,"Duff","Robert","Duff Robert"]
[128499,"Liechti","Vreny","Liechti Vreny"]
[201292,"Brülisauer","Peter","Brülisauer Peter"]
[255656,"Schoch","Margrit","Schoch Margrit"]
[253783,"Zellweger","Ernst","Zellweger Ernst"]
[255599,"Konrad","Walter","Konrad Walter"]
[163386,"Grossglauser","Erwin","Grossglauser Erwin"]
[744895,"Eberhard","Otto","Eberhard Otto"]
[112803,"Waser","André","Waser André"]
[128493,"Liechti","Hans","Liechti Hans"]
[255721,"Fischli","Kurt","Fischli Kurt"]
[255558,"Kellenberger","Walter","Kellenberger Walter"]
[113281,"Steimer","Horst","Steimer Horst"]
[117762,"Mächler","Martin","Mächler Martin"]
[2135,"Büchel","Marianne","Büchel Marianne"]
[255631,"Eugster","Paul","Eugster Paul"]
[255709,"Menzi","Jost","Menzi Jost"]
[253749,"Eugster","Markus","Eugster Markus"]
[113419,"Haag","Stefan","Haag Stefan"]
[163387,"Grossglauser","Maria","Grossglauser Maria"]
[133648,"Rinderer","Bruno","Rinderer Bruno"]
[151807,"Pfister","Walter","Pfister Walter"]
[255702,"Heeb","Urs","Heeb Urs"]
[255593,"Brülisauer","Fritz","Brülisauer Fritz"]
[134914,"Langenegger","Albert","Langenegger Albert"]
[112903,"Zwicker","Guido","Zwicker Guido"]
[255595,"Dick","Hanspeter","Dick Hanspeter"]
[255657,"Schoch","Walter","Schoch Walter"]
[112889,"Pfister","Gerold","Pfister Gerold"]
[200637,"Diem","Andreas","Diem Andreas"]
[113009,"Weber","Hansueli","Weber Hansueli"]
[315697,"Vich","Dino","Vich Dino"]
[255776,"Bührer","Reto","Bührer Reto"]
[108521,"Bührer","Oskar","Bührer Oskar"]
[291819,"Schilter","Martin","Schilter Martin"]
[291818,"Fuchs","Adrian","Fuchs Adrian"]
[108474,"Fuchs","Lukas","Fuchs Lukas"]
[291820,"Wehrli","Dominik","Wehrli Dominik"]
[0,"Höfler","Angelika","Höfler Angelika"]
[108521,"Bührer","Oskar","Bührer Oskar"]
[291819,"Schilter","Martin","Schilter Martin"]
[108474,"Fuchs","Lukas",{"$f":"B4163&\" \"&C4163","v":"Fuchs Lukas"}]
[108512,"Bührer","Armin","Bührer Armin"]
[172417,"Ess","Werner","Ess Werner"]
[253777,"Tobler","Marcel","Tobler Marcel"]
[255997,"Schweiss","Manfred","Schweiss Manfred"]
[239358,"Jünger","Peter","Jünger Peter"]
[255992,"Dünner","Max","Dünner Max"]
[156362,"Berner","Fritz","Berner Fritz"]
[253751,"Grob","Albert","Grob Albert"]
[114859,"Bachofner","Hans","Bachofner Hans"]
[253747,"Eberhart","Iwan","Eberhart Iwan"]
[256127,"Liechti","Ernst","Liechti Ernst"]
[255910,"Schönholzer","Markus","Schönholzer Markus"]
[255927,"Höhener","André","Höhener André"]
[255909,"Schönholzer","Walter","Schönholzer Walter"]
[255983,"Nobs","Urs","Nobs Urs"]
[172395,"Krattiger","Armin","Krattiger Armin"]
[253722,"Baumann","August","Baumann August"]
[112845,"Wagner","Richard","Wagner Richard"]
[253777,"Tobler","Marcel","Tobler Marcel"]
[253751,"Grob","Albert","Grob Albert"]
[255951,"Schmid","Christian","Schmid Christian"]
[277275,"Moser","Tobias","Moser Tobias"]
[226854,"Häberli","Andreas","Häberli Andreas"]
[302203,"Schönholzer","Jasmin","Schönholzer Jasmin"]
[255924,"Germann","Marcel","Germann Marcel"]
[255928,"Holzmann","Arthur","Holzmann Arthur"]
[253777,"Tobler","Marcel","Tobler Marcel"]
[255881,"Kressibucher","Thomas","Kressibucher Thomas"]
[255960,"Holzer","Karin","Holzer Karin"]
[310198,"Schönholzer","Corinne","Schönholzer Corinne"]
[310198,"Schönholzer","Corinne","Schönholzer Corinne"]
[112845,"Wagner","Richard","Wagner Richard"]
[226854,"Häberli","Andreas","Häberli Andreas"]
[278537,"Lattmann","Urs","Lattmann Urs"]
[983498,"Rüegg","Leander","Rüegg Leander"]
[793940,"Odermatt","Lars","Odermatt Lars"]
[917415,"Wüger","Ruben","Wüger Ruben"]
[7085,"Indermaur","Ramona","Indermaur Ramona"]
[5130,"Sitta","Massimo","Sitta Massimo"]
[5130,"Sitta","Massimo","Sitta Massimo"]
[255989,"Amacker","Alex","Amacker Alex"]
[278537,"Lattmann","Urs","Lattmann Urs"]
[278537,"Lattmann","Urs","Lattmann Urs"]
[13794,"Mohn","Roger","Mohn Roger"]
[253777,"Tobler","Marcel","Tobler Marcel"]
[983498,"Rüegg","Leander","Rüegg Leander"]
[983497,"Indermaur","Juri","Indermaur Juri"]
[983497,"Indermaur","Juri","Indermaur Juri"]
[255883,"Mohn","Hermann","Mohn Hermann"]
[278536,"Odermatt-Lattmann","Carmen","Odermatt-Lattmann Carmen"]
[278536,"Odermatt-Lattmann","Carmen","Odermatt-Lattmann Carmen"]
[793940,"Odermatt","Lars","Odermatt Lars"]
[255990,"Antonazzo","Claudio","Antonazzo Claudio"]
[255990,"Antonazzo","Claudio","Antonazzo Claudio"]
[255881,"Kressibucher","Thomas","Kressibucher Thomas"]
[983499,"Wüger","Dina","Wüger Dina"]
[255930,"Hugentobler","Peter","Hugentobler Peter"]
[5129,"Mohn","Mattia","Mohn Mattia"]
[5129,"Mohn","Mattia","Mohn Mattia"]
[917414,"Odermatt","Jens","Odermatt Jens"]
[255890,"Vetter","Marcel","Vetter Marcel"]
[255890,"Vetter","Marcel","Vetter Marcel"]
[917415,"Wüger","Ruben","Wüger Ruben"]
[7085,"Indermaur","Ramona",{"$f":"B4227&\" \"&C4227","v":"Indermaur Ramona"}]
[795077,"Brauchli","Martin","Brauchli Martin"]
[795077,"Brauchli","Martin","Brauchli Martin"]
[5130,"Sitta","Massimo","Sitta Massimo"]
[5130,"Sitta","Massimo","Sitta Massimo"]
[253777,"Tobler","Marcel","Tobler Marcel"]
[983498,"Rüegg","Leander","Rüegg Leander"]
[983498,"Rüegg","Leander","Rüegg Leander"]
[983497,"Indermaur","Juri","Indermaur Juri"]
[983497,"Indermaur","Juri","Indermaur Juri"]
[255883,"Mohn","Hermann","Mohn Hermann"]
[255883,"Mohn","Hermann","Mohn Hermann"]
[793940,"Odermatt","Lars","Odermatt Lars"]
[793940,"Odermatt","Lars","Odermatt Lars"]
[255990,"Antonazzo","Claudio","Antonazzo Claudio"]
[255881,"Kressibucher","Thomas","Kressibucher Thomas"]
[255881,"Kressibucher","Thomas","Kressibucher Thomas"]
[255881,"Kressibucher","Thomas","Kressibucher Thomas"]
[983499,"Wüger","Dina","Wüger Dina"]
[5129,"Mohn","Mattia","Mohn Mattia"]
[5129,"Mohn","Mattia","Mohn Mattia"]
[917414,"Odermatt","Jens","Odermatt Jens"]
[255890,"Vetter","Marcel","Vetter Marcel"]
[255890,"Vetter","Marcel","Vetter Marcel"]
[255890,"Vetter","Marcel","Vetter Marcel"]
[917415,"Wüger","Ruben","Wüger Ruben"]
[917415,"Wüger","Ruben","Wüger Ruben"]
[302203,"Schönholzer","Jasmin","Schönholzer Jasmin"]
[302203,"Schönholzer","Jasmin","Schönholzer Jasmin"]
[255914,"Wüthrich","Beat","Wüthrich Beat"]
[255914,"Wüthrich","Beat","Wüthrich Beat"]
[255897,"Fässler","Sieglinde","Fässler Sieglinde"]
[255903,"Meile-Köchli","Lydia","Meile-Köchli Lydia"]
[255906,"Schönholzer","Christian","Schönholzer Christian"]
[255906,"Schönholzer","Christian","Schönholzer Christian"]
[291770,"Schönholzer","Roman","Schönholzer Roman"]
[291770,"Schönholzer","Roman","Schönholzer Roman"]
[751448,"Staub","Lea","Staub Lea"]
[751448,"Staub","Lea","Staub Lea"]
[922268,"Schärer","Michelle","Schärer Michelle"]
[255908,"Schönholzer","Stefan","Schönholzer Stefan"]
[255898,"Gamper","Andreas","Gamper Andreas"]
[793944,"Negraszus","Dominic","Negraszus Dominic"]
[793944,"Negraszus","Dominic","Negraszus Dominic"]
[317234,"Lacher","Sebastian","Lacher Sebastian"]
[940369,"Staub","Natascha","Staub Natascha"]
[255907,"Schönholzer","Peter","Schönholzer Peter"]
[525327,"Bachmann","Sandro","Bachmann Sandro"]
[525327,"Bachmann","Sandro","Bachmann Sandro"]
[983576,"Baumann","Louann","Baumann Louann"]
[255911,"Stark","Jakob","Stark Jakob"]
[255900,"Kernen","Rolf","Kernen Rolf"]
[291769,"Sager","Stefan","Sager Stefan"]
[291769,"Sager","Stefan","Sager Stefan"]
[255905,"Schönholzer","Albert","Schönholzer Albert"]
[255893,"Ammann","Egon","Ammann Egon"]
[3327,"Bosshard","Christa","Bosshard Christa"]
[922270,"Staub","Kaya","Staub Kaya"]
[255910,"Schönholzer","Markus","Schönholzer Markus"]
[255910,"Schönholzer","Markus","Schönholzer Markus"]
[837949,"Vogel","Luca","Vogel Luca"]
[255909,"Schönholzer","Walter","Schönholzer Walter"]
[255909,"Schönholzer","Walter","Schönholzer Walter"]
[291767,"Fässler","Michael","Fässler Michael"]
[302204,"Schönholzer","Mara",{"$f":"B4291&\" \"&C4291","v":"Schönholzer Mara"}]
[302204,"Schönholzer","Mara","Schönholzer Mara"]
[302220,"Sager","Sandra","Sager Sandra"]
[283549,"Jung","Gaby","Jung Gaby"]
[302220,"Sager","Sandra","Sager Sandra"]
[302203,"Schönholzer","Jasmin","Schönholzer Jasmin"]
[302203,"Schönholzer","Jasmin","Schönholzer Jasmin"]
[255906,"Schönholzer","Christian","Schönholzer Christian"]
[751448,"Staub","Lea","Staub Lea"]
[922268,"Schärer","Michelle","Schärer Michelle"]
[922268,"Schärer","Michelle","Schärer Michelle"]
[255907,"Schönholzer","Peter","Schönholzer Peter"]
[525327,"Bachmann","Sandro","Bachmann Sandro"]
[983576,"Baumann","Louann","Baumann Louann"]
[255911,"Stark","Jakob","Stark Jakob"]
[922270,"Staub","Kaya","Staub Kaya"]
[255910,"Schönholzer","Markus","Schönholzer Markus"]
[837949,"Vogel","Luca","Vogel Luca"]
[302204,"Schönholzer","Mara","Schönholzer Mara"]
[255910,"Schönholzer","Markus","Schönholzer Markus"]
[255932,"Massolin","Marcel","Massolin Marcel"]
[255932,"Massolin","Marcel","Massolin Marcel"]
[610487,"Krähenbühl","Thomas","Krähenbühl Thomas"]
[317422,"Brenner","Peter","Brenner Peter"]
[317422,"Brenner","Peter","Brenner Peter"]
[209386,"Eugster","Armin","Eugster Armin"]
[291806,"Brüschweiler","Joel","Brüschweiler Joel"]
[291806,"Brüschweiler","Joel","Brüschweiler Joel"]
[255920,"Büchel","Peter","Büchel Peter"]
[209398,"Keiser","René","Keiser René"]
[209398,"Keiser","René","Keiser René"]
[209398,"Keiser","René","Keiser René"]
[209396,"Hut","Stefan","Hut Stefan"]
[209396,"Hut","Stefan","Hut Stefan"]
[255924,"Germann","Marcel","Germann Marcel"]
[255924,"Germann","Marcel","Germann Marcel"]
[209382,"Böhi","Hans-Ulrich","Böhi Hans-Ulrich"]
[255928,"Holzmann","Arthur","Holzmann Arthur"]
[255928,"Holzmann","Arthur","Holzmann Arthur"]
[317423,"Schallenberg","Silvan","Schallenberg Silvan"]
[291815,"Pislor","Patrick","Pislor Patrick"]
[291815,"Pislor","Patrick","Pislor Patrick"]
[255925,"Gremper","Beni","Gremper Beni"]
[255925,"Gremper","Beni","Gremper Beni"]
[255918,"Brugger","Markus","Brugger Markus"]
[680309,"Egger","Florian","Egger Florian"]
[239358,"Jünger","Peter","Jünger Peter"]
[255921,"Burkhardt","Edi","Burkhardt Edi"]
[610489,"Lutz","Bruno","Lutz Bruno"]
[221624,"Brühlmann","Beat","Brühlmann Beat"]
[255937,"Walker","Peter","Walker Peter"]
[255937,"Walker","Peter","Walker Peter"]
[209387,"Feller","Erich","Feller Erich"]
[209387,"Feller","Erich","Feller Erich"]
[255907,"Schönholzer","Peter","Schönholzer Peter"]
[209401,"Martin","Christoph","Martin Christoph"]
[255922,"Burkhardt","Stefan","Burkhardt Stefan"]
[255922,"Burkhardt","Stefan","Burkhardt Stefan"]
[917420,"Pasternak","Julia","Pasternak Julia"]
[255931,"Kuster","Andreas","Kuster Andreas"]
[291805,"Brunnenmeister","Andreas","Brunnenmeister Andreas"]
[291805,"Brunnenmeister","Andreas","Brunnenmeister Andreas"]
[270900,"Schallenberg","Martin","Schallenberg Martin"]
[270900,"Schallenberg","Martin","Schallenberg Martin"]
[255938,"Wüest","Andreas",{"$f":"B4355&\" \"&C4355","v":"Wüest Andreas"}]
[255919,"Brüschweiler","Thomas","Brüschweiler Thomas"]
[277273,"Graf","Mark","Graf Mark"]
[277273,"Graf","Mark","Graf Mark"]
[253747,"Eberhart","Iwan","Eberhart Iwan"]
[253747,"Eberhart","Iwan","Eberhart Iwan"]
[255960,"Holzer","Karin","Holzer Karin"]
[255960,"Holzer","Karin","Holzer Karin"]
[680310,"Elmer","Luc","Elmer Luc"]
[289301,"Meile","Urs","Meile Urs"]
[983502,"van Vliet","Juri","van Vliet Juri"]
[310198,"Schönholzer","Corinne","Schönholzer Corinne"]
[255933,"Ravelli","Roland","Ravelli Roland"]
[255933,"Ravelli","Roland","Ravelli Roland"]
[277275,"Moser","Tobias","Moser Tobias"]
[277275,"Moser","Tobias","Moser Tobias"]
[292233,"Brüschweiler","Matthias","Brüschweiler Matthias"]
[255935,"Schönholzer","Werner","Schönholzer Werner"]
[255935,"Schönholzer","Werner","Schönholzer Werner"]
[255917,"Baumann","Marcel","Baumann Marcel"]
[255917,"Baumann","Marcel","Baumann Marcel"]
[957377,"Wiedmer","Noah","Wiedmer Noah"]
[209394,"Hauser","Severin","Hauser Severin"]
[112666,"Aeschlimann","Rolf","Aeschlimann Rolf"]
[255927,"Höhener","André","Höhener André"]
[109081,"Hafen","Thomas","Hafen Thomas"]
[109081,"Hafen","Thomas","Hafen Thomas"]
[255926,"Hangartner","Marcel","Hangartner Marcel"]
[255932,"Massolin","Marcel","Massolin Marcel"]
[209398,"Keiser","René","Keiser René"]
[209398,"Keiser","René","Keiser René"]
[255924,"Germann","Marcel","Germann Marcel"]
[209387,"Feller","Erich","Feller Erich"]
[209387,"Feller","Erich","Feller Erich"]
[255922,"Burkhardt","Stefan","Burkhardt Stefan"]
[255931,"Kuster","Andreas","Kuster Andreas"]
[291805,"Brunnenmeister","Andreas","Brunnenmeister Andreas"]
[291805,"Brunnenmeister","Andreas","Brunnenmeister Andreas"]
[277273,"Graf","Mark","Graf Mark"]
[253747,"Eberhart","Iwan","Eberhart Iwan"]
[0,"Tissot","Katharina","Tissot Katharina"]
[983502,"van Vliet","Juri","van Vliet Juri"]
[255933,"Ravelli","Roland","Ravelli Roland"]
[277275,"Moser","Tobias","Moser Tobias"]
[277275,"Moser","Tobias","Moser Tobias"]
[277275,"Moser","Tobias","Moser Tobias"]
[957377,"Wiedmer","Noah","Wiedmer Noah"]
[255927,"Höhener","André","Höhener André"]
[917420,"Pasternak","Julia","Pasternak Julia"]
[291805,"Brunnenmeister","Andreas","Brunnenmeister Andreas"]
[291805,"Brunnenmeister","Andreas","Brunnenmeister Andreas"]
[277275,"Moser","Tobias","Moser Tobias"]
[253751,"Grob","Albert","Grob Albert"]
[112845,"Wagner","Richard","Wagner Richard"]
[292247,"Kneubühl","Claudia","Kneubühl Claudia"]
[285799,"Schmid","Edi","Schmid Edi"]
[292245,"Bangerter","Martina","Bangerter Martina"]
[255947,"Hahn","René","Hahn René"]
[285799,"Schmid","Edi","Schmid Edi"]
[254588,"Schwarz","David","Schwarz David"]
[255950,"Oberhänsli","Alfred","Oberhänsli Alfred"]
[188240,"Badertscher","Ernst","Badertscher Ernst"]
[5131,"Hungerbühler","Silas","Hungerbühler Silas"]
[115067,"Roth","Walter","Roth Walter"]
[302206,"Reusser","Nadja",{"$f":"B4419&\" \"&C4419","v":"Reusser Nadja"}]
[255951,"Schmid","Christian","Schmid Christian"]
[255951,"Schmid","Christian","Schmid Christian"]
[320232,"Gubler","Manuela","Gubler Manuela"]
[320232,"Gubler","Manuela","Gubler Manuela"]
[875849,"Trapani","Salvatore","Trapani Salvatore"]
[875849,"Trapani","Salvatore","Trapani Salvatore"]
[255953,"Wuffli","Peter","Wuffli Peter"]
[255953,"Wuffli","Peter","Wuffli Peter"]
[255946,"Gubler","Hanspeter","Gubler Hanspeter"]
[26017,"Mettler","Patrick","Mettler Patrick"]
[168706,"Keller","Werner","Keller Werner"]
[255940,"Wagner","Daniel","Wagner Daniel"]
[255940,"Wagner","Daniel","Wagner Daniel"]
[255949,"Moor","Roger","Moor Roger"]
[255949,"Moor","Roger","Moor Roger"]
[326301,"Streule","Franz","Streule Franz"]
[326301,"Streule","Franz","Streule Franz"]
[292246,"Kneubühl","Petra","Kneubühl Petra"]
[255952,"Wegmann","Willi","Wegmann Willi"]
[255952,"Wegmann","Willi","Wegmann Willi"]
[680316,"Stanik","Kerstin","Stanik Kerstin"]
[112845,"Wagner","Richard","Wagner Richard"]
[292247,"Kneubühl","Claudia","Kneubühl Claudia"]
[292247,"Kneubühl","Claudia","Kneubühl Claudia"]
[285799,"Schmid","Edi","Schmid Edi"]
[5131,"Hungerbühler","Silas","Hungerbühler Silas"]
[255951,"Schmid","Christian","Schmid Christian"]
[320232,"Gubler","Manuela","Gubler Manuela"]
[255940,"Wagner","Daniel","Wagner Daniel"]
[255940,"Wagner","Daniel","Wagner Daniel"]
[255949,"Moor","Roger","Moor Roger"]
[326301,"Streule","Franz","Streule Franz"]
[112845,"Wagner","Richard","Wagner Richard"]
[291779,"Ess","Roland","Ess Roland"]
[751458,"Ingold\t","Bruno","Ingold\t Bruno"]
[320230,"Ess","Michael","Ess Michael"]
[907019,"Bösch","Dominique","Bösch Dominique"]
[779339,"Anderes","Petra","Anderes Petra"]
[308850,"Häne","Philipp","Häne Philipp"]
[172388,"Ess","Martin","Ess Martin"]
[922272,"Cornilli","Nico","Cornilli Nico"]
[837953,"Nagel","Kay","Nagel Kay"]
[172391,"Forster","Roland","Forster Roland"]
[255959,"Dünner","Urs","Dünner Urs"]
[255965,"Schaltegger","Robert","Schaltegger Robert"]
[255962,"Inauen","Bruno","Inauen Bruno"]
[717347,"Bösch","Nadin","Bösch Nadin"]
[957381,"Stäheli","Nino","Stäheli Nino"]
[172395,"Krattiger","Armin","Krattiger Armin"]
[793945,"Welter","Noah","Welter Noah"]
[172417,"Ess","Werner","Ess Werner"]
[717348,"Bösch","Petra","Bösch Petra"]
[5132,"Reisch","Cian","Reisch Cian"]
[922274,"Hansen","Simon","Hansen Simon"]
[172393,"Bösch","Thomas","Bösch Thomas"]
[172424,"Bösch","Reto","Bösch Reto"]
[255961,"Huber","Ernst","Huber Ernst"]
[292253,"Bösch","Nicole","Bösch Nicole"]
[983501,"Birrer","Jana","Birrer Jana"]
[255962,"Inauen","Bruno","Inauen Bruno"]
[226854,"Häberli","Andreas","Häberli Andreas"]
[291779,"Ess","Roland","Ess Roland"]
[172391,"Forster","Roland","Forster Roland"]
[793945,"Welter","Noah",{"$f":"B4483&\" \"&C4483","v":"Welter Noah"}]
[291779,"Ess","Roland","Ess Roland"]
[320230,"Ess","Michael","Ess Michael"]
[172417,"Ess","Werner","Ess Werner"]
[717348,"Bösch","Petra","Bösch Petra"]
[907019,"Bösch","Dominique","Bösch Dominique"]
[5132,"Reisch","Cian","Reisch Cian"]
[779339,"Anderes","Petra","Anderes Petra"]
[922274,"Hansen","Simon","Hansen Simon"]
[172388,"Ess","Martin","Ess Martin"]
[922272,"Cornilli","Nico","Cornilli Nico"]
[837953,"Nagel","Kay","Nagel Kay"]
[983501,"Birrer","Jana","Birrer Jana"]
[255962,"Inauen","Bruno","Inauen Bruno"]
[957381,"Stäheli","Nino","Stäheli Nino"]
[291791,"Tschirren","Simon","Tschirren Simon"]
[128406,"Dick","Rolf","Dick Rolf"]
[13793,"Oberthaler","David","Oberthaler David"]
[255982,"Michel","Hansjörg","Michel Hansjörg"]
[255978,"Schmid","Josef","Schmid Josef"]
[255978,"Schmid","Josef","Schmid Josef"]
[177679,"Kirchmeier","Fritz","Kirchmeier Fritz"]
[254851,"Diethelm","Rolf","Diethelm Rolf"]
[23754,"Diethelm","Beatriz","Diethelm Beatriz"]
[909580,"Rüegg","Paul","Rüegg Paul"]
[13792,"Frei","Bettina","Frei Bettina"]
[255974,"Frei","Reto","Frei Reto"]
[255974,"Frei","Reto","Frei Reto"]
[255975,"Hermann","Hansjürg","Hermann Hansjürg"]
[255982,"Michel","Hansjörg","Michel Hansjörg"]
[255978,"Schmid","Josef","Schmid Josef"]
[255978,"Schmid","Josef","Schmid Josef"]
[255978,"Schmid","Josef","Schmid Josef"]
[177679,"Kirchmeier","Fritz","Kirchmeier Fritz"]
[255974,"Frei","Reto","Frei Reto"]
[255989,"Amacker","Alex","Amacker Alex"]
[255988,"Bär","Nicole","Bär Nicole"]
[793946,"Krammer","Lucas","Krammer Lucas"]
[112549,"Eugster","Markus","Eugster Markus"]
[255997,"Schweiss","Manfred","Schweiss Manfred"]
[135655,"Reis","Dominik","Reis Dominik"]
[112548,"Eugster","Arnold","Eugster Arnold"]
[255991,"Baumann","Urs","Baumann Urs"]
[255986,"Schweiss","Pascal","Schweiss Pascal"]
[310193,"Brauchli","Marc","Brauchli Marc"]
[255990,"Antonazzo","Claudio","Antonazzo Claudio"]
[255992,"Dünner","Max","Dünner Max"]
[105826,"Brand","Paul","Brand Paul"]
[255995,"Hollenstein","Josef","Hollenstein Josef"]
[22351,"Durisch","Jean-Yves","Durisch Jean-Yves"]
[22350,"Schweiss","Janine","Schweiss Janine"]
[310198,"Schönholzer","Corinne","Schönholzer Corinne"]
[255998,"Vonarburg","Marco","Vonarburg Marco"]
[5133,"Fritschi","David","Fritschi David"]
[255985,"Scherrer","Konrad","Scherrer Konrad"]
[255989,"Amacker","Alex","Amacker Alex"]
[255997,"Schweiss","Manfred","Schweiss Manfred"]
[255997,"Schweiss","Manfred","Schweiss Manfred"]
[255997,"Schweiss","Manfred","Schweiss Manfred"]
[310193,"Brauchli","Marc","Brauchli Marc"]
[22350,"Schweiss","Janine","Schweiss Janine"]
[5133,"Fritschi","David","Fritschi David"]
[255932,"Massolin","Marcel","Massolin Marcel"]
[255989,"Amacker","Alex","Amacker Alex"]
[255925,"Gremper","Beni",{"$f":"B4547&\" \"&C4547","v":"Gremper Beni"}]
[253777,"Tobler","Marcel","Tobler Marcel"]
[255978,"Schmid","Josef","Schmid Josef"]
[253751,"Grob","Albert","Grob Albert"]
[19748,"Couto Batzli","Felipe Eduardo","Couto Batzli Felipe Eduardo"]
[254852,"Marien Neto","Carlos Luis","Marien Neto Carlos Luis"]
[311163,"Betschart","Mauricio","Betschart Mauricio"]
[254856,"Vogt","Heinz","Vogt Heinz"]
[956180,"Rodrigues","Valdemir","Rodrigues Valdemir"]
[254851,"Diethelm","Rolf","Diethelm Rolf"]
[254841,"Janssen","Doris","Janssen Doris"]
[956178,"Rodrigues","Gustavo","Rodrigues Gustavo"]
[956175,"Gross","Vinicius","Gross Vinicius"]
[254854,"Scarton","Wanderlei","Scarton Wanderlei"]
[254852,"Marien Neto","Carlos Luis","Marien Neto Carlos Luis"]
[171289,"Winzeler","Bruno","Winzeler Bruno"]
[171289,"Winzeler","Bruno","Winzeler Bruno"]
[311163,"Betschart","Mauricio","Betschart Mauricio"]
[254856,"Vogt","Heinz","Vogt Heinz"]
[254851,"Diethelm","Rolf","Diethelm Rolf"]
[254851,"Diethelm","Rolf","Diethelm Rolf"]
[254841,"Janssen","Doris","Janssen Doris"]
[956178,"Rodrigues","Gustavo","Rodrigues Gustavo"]
[254866,"Morach","Joe","Morach Joe"]
[254868,"Spycher","Markus","Spycher Markus"]
[254863,"Kuster","Heinz","Kuster Heinz"]
[254858,"Reymond","Elisabeth","Reymond Elisabeth"]
[328282,"Ernst","Ruedi","Ernst Ruedi"]
[200009,"Hirsig","Gerhard","Hirsig Gerhard"]
[254866,"Morach","Joe","Morach Joe"]
[254863,"Kuster","Heinz","Kuster Heinz"]
[328282,"Ernst","Ruedi","Ernst Ruedi"]
[199935,"Zollinger","René","Zollinger René"]
[254016,"Zwahlen","Kurt","Zwahlen Kurt"]
[254407,"Suter","Franz","Suter Franz"]
[748299,"Lienhard","Reto","Lienhard Reto"]
[119622,"Renfer","Peter","Renfer Peter"]
[209398,"Keiser","René","Keiser René"]
[120568,"Carrera","Jean-Michel","Carrera Jean-Michel"]
[254768,"Felber","Markus","Felber Markus"]
[255928,"Holzmann","Arthur","Holzmann Arthur"]
[253930,"Riesen","Peter","Riesen Peter"]
[254232,"Fröhlich","Alfred","Fröhlich Alfred"]
[174716,"Emmenegger","Hans","Emmenegger Hans"]
[254555,"Nägeli","Samuel","Nägeli Samuel"]
[242978,"Friedli","Arthur","Friedli Arthur"]
[254212,"Fried","Mario","Fried Mario"]
[156654,"Bachofner","Paul","Bachofner Paul"]
[119516,"Dossenbach","Josef","Dossenbach Josef"]
[255710,"Menzi","Robert","Menzi Robert"]
[290052,"Riehl","Claudia","Riehl Claudia"]
[134905,"Forrer","Wendel","Forrer Wendel"]
[203385,"Landolt","Bruno","Landolt Bruno"]
[255296,"Künzle","Rolf","Künzle Rolf"]
[148950,"Morf","André","Morf André"]
[255561,"Manser","August","Manser August"]
[255997,"Schweiss","Manfred","Schweiss Manfred"]
[254783,"Winkler","Eduard","Winkler Eduard"]
[299267,"Hablützel","Richard","Hablützel Richard"]
[126057,"Büchel","Hans","Büchel Hans"]
[254380,"Näf","Peter","Näf Peter"]
[112571,"Duff","Robert","Duff Robert"]
[156064,"Zimmermann","Hans","Zimmermann Hans"]
[254479,"Egli","Albert","Egli Albert"]
[255810,"Bruderer","Jakob",{"$f":"B4611&\" \"&C4611","v":"Bruderer Jakob"}]
[254268,"Meili","Renate","Meili Renate"]
[255599,"Konrad","Walter","Konrad Walter"]
[255654,"Hug","Hansruedi","Hug Hansruedi"]
[254477,"Brunner","Ueli","Brunner Ueli"]
[156937,"Bodmer","Urs","Bodmer Urs"]
[254100,"Berger","Walter","Berger Walter"]
[290362,"Frischknecht","Werner","Frischknecht Werner"]
[109424,"Dittli","Heinrich","Dittli Heinrich"]
[205730,"Schmid","Christian","Schmid Christian"]
[140929,"Berger","Ueli","Berger Ueli"]
[974443,"Fuhrmann","Uwe","Fuhrmann Uwe"]
[253751,"Grob","Albert","Grob Albert"]
[255099,"Schweizer","Willy","Schweizer Willy"]
[113009,"Weber","Hansueli","Weber Hansueli"]
[175444,"Roth","Paul","Roth Paul"]
[254192,"Fürst","Willy","Fürst Willy"]
[288870,"Geiser","Hanspeter","Geiser Hanspeter"]
[221312,"Kaiser","Franz","Kaiser Franz"]
[253782,"Wyss","Silvan","Wyss Silvan"]
[253969,"Steiner","Peter","Steiner Peter"]
[255516,"Wyss","Jakob","Wyss Jakob"]
[155837,"Graf","Emil","Graf Emil"]
[254734,"Gujer","Daniel","Gujer Daniel"]
[255893,"Ammann","Egon","Ammann Egon"]
[253718,"Koch","Franz","Koch Franz"]
[253815,"Rupp","Oswald","Rupp Oswald"]
[183451,"Wäfler","Hans","Wäfler Hans"]
[253971,"Riesen","Erich","Riesen Erich"]
[115786,"Eberhard","Markus","Eberhard Markus"]
[153590,"Kottmann","Jost","Kottmann Jost"]
[255755,"Langhans","Dieter","Langhans Dieter"]
[254500,"Spalinger","Bernhard","Spalinger Bernhard"]
[254227,"Müller","Heinz","Müller Heinz"]
[255935,"Schönholzer","Werner","Schönholzer Werner"]
[255917,"Baumann","Marcel","Baumann Marcel"]
[255965,"Schaltegger","Robert","Schaltegger Robert"]
[254560,"Aebersold","Andreas","Aebersold Andreas"]
[171289,"Winzeler","Bruno","Winzeler Bruno"]
[255949,"Moor","Roger","Moor Roger"]
[172160,"Weiss","Hansruedi","Weiss Hansruedi"]
[111876,"Berger","Anton","Berger Anton"]
[119926,"Schiess","Ernst","Schiess Ernst"]
[197204,"Gohl","Bruno","Gohl Bruno"]
[254558,"Widmer","Ruth","Widmer Ruth"]
[198058,"Niederberger","Walter","Niederberger Walter"]
[119281,"Mollet","Urs","Mollet Urs"]
[255636,"Krüsi","Ernst","Krüsi Ernst"]
[255770,"Brühlmann","Andreas","Brühlmann Andreas"]
[112903,"Zwicker","Guido","Zwicker Guido"]
[108512,"Bührer","Armin","Bührer Armin"]
[253812,"Lysser","Eduard","Lysser Eduard"]
[253778,"Tonina","Alfredo","Tonina Alfredo"]
[255135,"Räber","Edy","Räber Edy"]
[119646,"Moser","Fritz","Moser Fritz"]
[156709,"Rothen","Hans","Rothen Hans"]
[254333,"Meichtry","Alfred","Meichtry Alfred"]
[119623,"Sarbach","Erich","Sarbach Erich"]
[120576,"König","Robert","König Robert"]
[255712,"Nikles","André","Nikles André"]
[255800,"Kolb","Rösli","Kolb Rösli"]
[202644,"Winkler","Ruedi","Winkler Ruedi"]
[137979,"Arnold","Christof","Arnold Christof"]
[255000,"Meyer","Emil","Meyer Emil"]
[254151,"Götschi","Martha",{"$f":"B4675&\" \"&C4675","v":"Götschi Martha"}]
[254388,"Caruso","Enzo","Caruso Enzo"]
[869254,"Trachsel","Andreas","Trachsel Andreas"]
[254750,"Schmid","Stephan","Schmid Stephan"]
[135324,"Lütschg","Hans","Lütschg Hans"]
[253744,"Dalle Case","Marco","Dalle Case Marco"]
[255209,"Baumgartner","Alois","Baumgartner Alois"]
[254004,"Guggisberg","Ueli","Guggisberg Ueli"]
[217968,"Schulthess","Renato","Schulthess Renato"]
[255925,"Gremper","Beni","Gremper Beni"]
[174686,"Bucher","Fridolin","Bucher Fridolin"]
[255507,"Rüegg","Käthy","Rüegg Käthy"]
[254315,"Vetsch","Heinz","Vetsch Heinz"]
[253756,"Keller","Rolf","Keller Rolf"]
[125948,"Costa","Vittorio","Costa Vittorio"]
[138547,"Mohr","Maximilian","Mohr Maximilian"]
[254426,"Wild","Kurt","Wild Kurt"]
[624425,"Hehli","Christoph","Hehli Christoph"]
[253717,"Dönni","Peter","Dönni Peter"]
[168178,"Mock","Anton","Mock Anton"]
[228062,"Garo","Werner","Garo Werner"]
[254178,"Meier","Peter","Meier Peter"]
[255497,"Felder","Walter","Felder Walter"]
[120193,"Steiner","Samuel","Steiner Samuel"]
[255086,"Hofmann","Meinrad","Hofmann Meinrad"]
[173530,"Jud","Peter","Jud Peter"]
[253780,"Venturi","Luigi","Venturi Luigi"]
[253777,"Tobler","Marcel","Tobler Marcel"]
[120960,"Schneider","Beat","Schneider Beat"]
[119899,"Koller","Peter","Koller Peter"]
[112889,"Pfister","Gerold","Pfister Gerold"]
[254749,"Moser","Walter","Moser Walter"]
[255883,"Mohn","Hermann","Mohn Hermann"]
[254086,"Vaucher","Jean-Paul","Vaucher Jean-Paul"]
[269097,"Gretener","August","Gretener August"]
[120567,"Burkhalter","Hans","Burkhalter Hans"]
[158075,"Trachsel","Christoph","Trachsel Christoph"]
[255575,"Piller","Pius","Piller Pius"]
[228055,"Durrer","Walter","Durrer Walter"]
[170772,"Lenherr","Beat","Lenherr Beat"]
[254156,"Keller","Peter","Keller Peter"]
[254277,"Ruckstuhl","Albert","Ruckstuhl Albert"]
[254382,"Nägeli","Stefan","Nägeli Stefan"]
[231903,"Salvisberg","Mario","Salvisberg Mario"]
[112548,"Eugster","Arnold","Eugster Arnold"]
[172100,"Steiner","Markus","Steiner Markus"]
[128499,"Liechti","Vreny","Liechti Vreny"]
[255219,"Schmid","Karl","Schmid Karl"]
[254521,"Kräutli","Luciano","Kräutli Luciano"]
[255950,"Oberhänsli","Alfred","Oberhänsli Alfred"]
[120957,"Sahli","Alfred","Sahli Alfred"]
[253929,"Riesen","Monika","Riesen Monika"]
[255474,"Huwiler","Christian","Huwiler Christian"]
[107605,"Gohl","Walter","Gohl Walter"]
[700558,"Haubold","Urs","Haubold Urs"]
[271379,"Roschi","Rosmarie","Roschi Rosmarie"]
[200637,"Diem","Andreas","Diem Andreas"]
[255978,"Schmid","Josef","Schmid Josef"]
[744895,"Eberhard","Otto","Eberhard Otto"]
[112803,"Waser","André","Waser André"]
[156711,"Rutz","Hans","Rutz Hans"]
[188240,"Badertscher","Ernst","Badertscher Ernst"]
[254199,"Krebs","Robert","Krebs Robert"]
[255992,"Dünner","Max","Dünner Max"]
[200645,"Schoch","Jakob",{"$f":"B4739&\" \"&C4739","v":"Schoch Jakob"}]
[253923,"Weber","Stefan","Weber Stefan"]
[255721,"Fischli","Kurt","Fischli Kurt"]
[114651,"Schmid","Hanspeter","Schmid Hanspeter"]
[254341,"Wick","Kurt","Wick Kurt"]
[260230,"Finger","Hans","Finger Hans"]
[255211,"Bucheli","Franz","Bucheli Franz"]
[576279,"Spiess","Thomas","Spiess Thomas"]
[255558,"Kellenberger","Walter","Kellenberger Walter"]
[254384,"Tschanz","Durs","Tschanz Durs"]
[254522,"Lussi","Josef","Lussi Josef"]
[255293,"Koller","Friedrich","Koller Friedrich"]
[254851,"Diethelm","Rolf","Diethelm Rolf"]
[255249,"Durrer","Franz","Durrer Franz"]
[875849,"Trapani","Salvatore","Trapani Salvatore"]
[255272,"Dober","Beat","Dober Beat"]
[126625,"Galbier-Raschle","Verena","Galbier-Raschle Verena"]
[837984,"Fürst","Armin","Fürst Armin"]
[254773,"Röthlin","Kurt","Röthlin Kurt"]
[113281,"Steimer","Horst","Steimer Horst"]
[134708,"Portmann","Toni","Portmann Toni"]
[117762,"Mächler","Martin","Mächler Martin"]
[299841,"Siffert","Toni","Siffert Toni"]
[103980,"Siegfried","Ruedi","Siegfried Ruedi"]
[254162,"Eigenheer","Lorenz","Eigenheer Lorenz"]
[254782,"Wettach","Franz","Wettach Franz"]
[736660,"Pichler","Michael","Pichler Michael"]
[231415,"Hugener","Markus","Hugener Markus"]
[253933,"Siegenthaler","Alfred","Siegenthaler Alfred"]
[255516,"Wyss","Jakob","Wyss Jakob"]
[254154,"Illi","Freddy","Illi Freddy"]
[255631,"Eugster","Paul","Eugster Paul"]
[255709,"Menzi","Jost","Menzi Jost"]
[120918,"Guggisberg","Max","Guggisberg Max"]
[255092,"Niederberger","Eugen","Niederberger Eugen"]
[119530,"Wyss","Peter","Wyss Peter"]
[254551,"Truninger","Rainer","Truninger Rainer"]
[791796,"Anicic","Marko","Anicic Marko"]
[253718,"Koch","Franz","Koch Franz"]
[255808,"Wegmüller","Urs","Wegmüller Urs"]
[255002,"Suppiger","Alois","Suppiger Alois"]
[253749,"Eugster","Markus","Eugster Markus"]
[148448,"Moor","Ernst","Moor Ernst"]
[255097,"Rohrer","Anton","Rohrer Anton"]
[255758,"Nungesser","Dietmar","Nungesser Dietmar"]
[226081,"Besmer","Bruno","Besmer Bruno"]
[254459,"Gloor","Peter","Gloor Peter"]
[118448,"Patt","Josef","Patt Josef"]
[171132,"Steinmann","Andreas","Steinmann Andreas"]
[255765,"Streit","Walter","Streit Walter"]
[255127,"Barandun","Horst","Barandun Horst"]
[254526,"Rinderknecht","Ruth","Rinderknecht Ruth"]
[109762,"Summermatter","Werner","Summermatter Werner"]
[110702,"Zürcher","Hans","Zürcher Hans"]
[148961,"Eschmann","Maurice","Eschmann Maurice"]
[254506,"Wohlgemuth","Ralph","Wohlgemuth Ralph"]
[106714,"Steinmann","Hans","Steinmann Hans"]
[254748,"Hollenstein","Ernst","Hollenstein Ernst"]
[163387,"Grossglauser","Maria","Grossglauser Maria"]
[120854,"Krebs","Ulrich","Krebs Ulrich"]
[222882,"Hofmann","Edi","Hofmann Edi"]
[255278,"Niederberger","Karl","Niederberger Karl"]
[118501,"Hiestand","Robert","Hiestand Robert"]
[327258,"Buser","Eduard","Buser Eduard"]
[133648,"Rinderer","Bruno",{"$f":"B4803&\" \"&C4803","v":"Rinderer Bruno"}]
[254675,"Steiger","Niklaus","Steiger Niklaus"]
[119908,"Oberli","Bruno","Oberli Bruno"]
[181794,"Gautschi","Peter","Gautschi Peter"]
[253987,"Frutiger","Ulrich","Frutiger Ulrich"]
[115799,"Baumgartner","Peter","Baumgartner Peter"]
[254634,"Zweifel","Josef","Zweifel Josef"]
[938259,"Baumann","Jürg","Baumann Jürg"]
[194401,"Vogt","Willi","Vogt Willi"]
[115821,"Loretz","Stephan","Loretz Stephan"]
[174602,"Marti","Erich","Marti Erich"]
[228967,"Kuster","Fritz","Kuster Fritz"]
[140251,"Hörler","Josef","Hörler Josef"]
[177386,"Jost","Ueli","Jost Ueli"]
[134914,"Langenegger","Albert","Langenegger Albert"]
[156388,"Gysin","Rolf","Gysin Rolf"]
[156034,"Zaugg","Heinz","Zaugg Heinz"]
[117665,"Grob","Jakob","Grob Jakob"]
[184813,"Palmieri","Robert","Palmieri Robert"]
[167942,"Manser","Erich","Manser Erich"]
[157444,"Jaggi","Peter","Jaggi Peter"]
[254471,"Weibel","Rolf","Weibel Rolf"]
[253957,"Germann","Willi","Germann Willi"]
[255595,"Dick","Hanspeter","Dick Hanspeter"]
[151375,"Luginbühl","Stephan","Luginbühl Stephan"]
[278548,"Birchler","Urs","Birchler Urs"]
[254171,"Bachofner","Walter","Bachofner Walter"]
[254636,"Blöchlinger","Thomas","Blöchlinger Thomas"]
[254085,"Steinegger","Vincent","Steinegger Vincent"]
[119446,"Stucki","Hans","Stucki Hans"]
[255764,"Stoll","Hans Peter","Stoll Hans Peter"]
[197791,"Winzeler","Richard","Winzeler Richard"]
[255932,"Massolin","Marcel","Massolin Marcel"]
[255551,"Wüest","Andreas","Wüest Andreas"]
[254989,"Felber","Hans","Felber Hans"]
[255989,"Amacker","Alex","Amacker Alex"]
[209440,"Nussbaumer","Bruno","Nussbaumer Bruno"]
[272575,"Huber","Fritz","Huber Fritz"]
[278537,"Lattmann","Urs","Lattmann Urs"]
[162088,"Trittibach","Peter","Trittibach Peter"]
[254205,"Wegmann","Hans","Wegmann Hans"]
[112894,"Scheuss","Hans","Scheuss Hans"]
[254393,"Marty","Fredi","Marty Fredi"]
[254635,"Blöchlinger","Franz","Blöchlinger Franz"]
[254515,"Angst","Hans","Angst Hans"]
[254032,"Loepfe","Urs","Loepfe Urs"]
[255796,"Schrag","Eugen","Schrag Eugen"]
[182911,"Schwegler","Bernhard","Schwegler Bernhard"]
[254336,"Siffert","Marie-Theres","Siffert Marie-Theres"]
[242406,"Tschiemer","Hansueli","Tschiemer Hansueli"]
[254238,"Kuhn","Hans","Kuhn Hans"]
[253805,"Bangerter","Gottfried","Bangerter Gottfried"]
[312415,"Koch","Rainer","Koch Rainer"]
[253716,"Albisser","Anton","Albisser Anton"]
[112549,"Eugster","Markus","Eugster Markus"]
[128320,"Gantenbein","Paul","Gantenbein Paul"]
[254536,"Haller","Anton","Haller Anton"]
[254761,"Leuenberger","Max","Leuenberger Max"]
[254442,"Bertschinger","Hansruedi","Bertschinger Hansruedi"]
[141051,"Furrer","Hansruedi","Furrer Hansruedi"]
[134905,"Forrer","Wendel","Forrer Wendel"]
[254231,"Frei","Arthur","Frei Arthur"]
[254563,"Fischer","Alwin","Fischer Alwin"]
[287558,"Meili","René","Meili René"]
[860775,"Würsch","Martin",{"$f":"B4867&\" \"&C4867","v":"Würsch Martin"}]
[110741,"Schueller","Pascal","Schueller Pascal"]
[121363,"Egli","Walter","Egli Walter"]
[113274,"Müller","Bruno","Müller Bruno"]
[253774,"Streuli","Hans","Streuli Hans"]
[254420,"Portner","Markus","Portner Markus"]
[255741,"Odermatt","Guido","Odermatt Guido"]
[124234,"Stefenon","Hans","Stefenon Hans"]
[227092,"Müller","Jakob","Müller Jakob"]
[254672,"Schindler","Hermann","Schindler Hermann"]
[236399,"Wetli","Guido","Wetli Guido"]
[254075,"Zürcher","Heidi","Zürcher Heidi"]
[255555,"Fritsche","Josef","Fritsche Josef"]
[120946,"Berger","Andreas","Berger Andreas"]
[596948,"Uhlmann","Rolf","Uhlmann Rolf"]
[254168,"Sternberger","Horst","Sternberger Horst"]
[254427,"Zihlmann","Richard","Zihlmann Richard"]
[255807,"Tonina","Stefanie","Tonina Stefanie"]
[119416,"Gerber","René","Gerber René"]
[219798,"Odermatt","Anton","Odermatt Anton"]
[231902,"Salvisberg","Kurt","Salvisberg Kurt"]
[254221,"Tschachtli","Martin","Tschachtli Martin"]
[255937,"Walker","Peter","Walker Peter"]
[254170,"Bachofner","Heinrich","Bachofner Heinrich"]
[149963,"Töngi","René","Töngi René"]
[255576,"Zumstein","Roland","Zumstein Roland"]
[255096,"Richener","Ruedi","Richener Ruedi"]
[254305,"De Zordi","Peter","De Zordi Peter"]
[201292,"Brülisauer","Peter","Brülisauer Peter"]
[254630,"Reiffer","Hans","Reiffer Hans"]
[158098,"Zurbrügg","Paul","Zurbrügg Paul"]
[254157,"Krättli","Ruedi","Krättli Ruedi"]
[135152,"Rothen","Peter","Rothen Peter"]
[105588,"Forrer","Fritz","Forrer Fritz"]
[253783,"Zellweger","Ernst","Zellweger Ernst"]
[163386,"Grossglauser","Erwin","Grossglauser Erwin"]
[209387,"Feller","Erich","Feller Erich"]
[254888,"Schnidrig","Otto","Schnidrig Otto"]
[153977,"Wegmann","Heinz","Wegmann Heinz"]
[255990,"Antonazzo","Claudio","Antonazzo Claudio"]
[217964,"Schneider","Willy","Schneider Willy"]
[253809,"Held","Daniel","Held Daniel"]
[121298,"Carigiet","Meinrad","Carigiet Meinrad"]
[207290,"Burkhalter","Erwin","Burkhalter Erwin"]
[255241,"Lüscher","Ernst","Lüscher Ernst"]
[253966,"Meier","Albrecht","Meier Albrecht"]
[167876,"Steiner","Leo","Steiner Leo"]
[254067,"Hosner","Heinz","Hosner Heinz"]
[120937,"Stalder","Kurt","Stalder Kurt"]
[255464,"Wampfler","Hans","Wampfler Hans"]
[253785,"De Jonckheere","Marcel","De Jonckheere Marcel"]
[318470,"Häusler","Rolf","Häusler Rolf"]
[254424,"Tanner","Eric","Tanner Eric"]
[255477,"Spiess","Markus","Spiess Markus"]
[253910,"Bolanz","Albert","Bolanz Albert"]
[128493,"Liechti","Hans","Liechti Hans"]
[325639,"Steiner","Erwin","Steiner Erwin"]
[254732,"Greutert","Walter","Greutert Walter"]
[219795,"Niederberger","Richard","Niederberger Richard"]
[253915,"Heiniger","Beat","Heiniger Beat"]
[254269,"Münger","Werner","Münger Werner"]
[260256,"Däppen","René","Däppen René"]
[254421,"Raschle","Richard","Raschle Richard"]
[119276,"Bangerter","Hans-Ulrich","Bangerter Hans-Ulrich"]
[158020,"Maurer","Alfred",{"$f":"B4931&\" \"&C4931","v":"Maurer Alfred"}]
[270900,"Schallenberg","Martin","Schallenberg Martin"]
[255535,"Zeindler","Walter","Zeindler Walter"]
[115822,"Walker","Franz","Walker Franz"]
[254725,"Berli","Rico","Berli Rico"]
[254198,"Krebs","Emil","Krebs Emil"]
[135716,"Staub","Max","Staub Max"]
[177679,"Kirchmeier","Fritz","Kirchmeier Fritz"]
[255527,"Hausmann","Max","Hausmann Max"]
[120857,"Schweizer","Erwin","Schweizer Erwin"]
[219801,"Odermatt","Josef","Odermatt Josef"]
[254667,"Hinnen","Peter","Hinnen Peter"]
[255592,"Bischofberger","Paul","Bischofberger Paul"]
[254573,"Vollenweider","Willi","Vollenweider Willi"]
[254222,"Diethelm","Josef","Diethelm Josef"]
[228189,"Schleiss","Niklaus","Schleiss Niklaus"]
[253761,"Meyer","Stephan","Meyer Stephan"]
[2135,"Büchel","Marianne","Büchel Marianne"]
[153214,"Bührer","Hans","Bührer Hans"]
[160888,"Berger","Guido","Berger Guido"]
[120135,"Hebeisen","Heinrich","Hebeisen Heinrich"]
[120578,"Michel","Yves","Michel Yves"]
[119271,"Häsler","Willy","Häsler Willy"]
[307426,"Kaufmann","Madeleine","Kaufmann Madeleine"]
[253969,"Steiner","Peter","Steiner Peter"]
[120783,"Ruchti","Erwin","Ruchti Erwin"]
[255514,"Stritmatter","Josef","Stritmatter Josef"]
[254569,"Oetiker","Bruno","Oetiker Bruno"]
[254841,"Janssen","Doris","Janssen Doris"]
[545251,"Angehrn","Leo","Angehrn Leo"]
[254405,"Notz","Jakob","Notz Jakob"]
[255459,"Manser","Fridolin","Manser Fridolin"]
[954927,"Gemperle","Alex","Gemperle Alex"]
[119629,"Bühler","Paul","Bühler Paul"]
[255930,"Hugentobler","Peter","Hugentobler Peter"]
[255905,"Schönholzer","Albert","Schönholzer Albert"]
[114513,"Sicher","Vali","Sicher Vali"]
[113884,"Arnold","Alice","Arnold Alice"]
[255795,"Schefer","Alfred","Schefer Alfred"]
[254908,"Hüsser","Leo","Hüsser Leo"]
[254881,"Stiefel","Peter","Stiefel Peter"]
[167730,"Ott","Arnold","Ott Arnold"]
[253940,"Egli","Rudolf","Egli Rudolf"]
[240402,"Räss","Richard","Räss Richard"]
[288391,"Müller","Albert","Müller Albert"]
[255496,"Eggenberger","Stephan","Eggenberger Stephan"]
[254763,"Müller","Benjamin","Müller Benjamin"]
[253985,"Abegglen","Heinz","Abegglen Heinz"]
[118807,"Schwaninger","Rudolf","Schwaninger Rudolf"]
[254414,"Bachofner","Heinrich","Bachofner Heinrich"]
[152651,"Niederberger","Paul","Niederberger Paul"]
[255327,"Kaufmann","Franz","Kaufmann Franz"]
[255088,"Näpflin","Josef","Näpflin Josef"]
[135936,"Bucher","Ernst","Bucher Ernst"]
[129381,"Burkhalter","Andreas","Burkhalter Andreas"]
[254073,"Rickli","Gottfried","Rickli Gottfried"]
[781974,"Zimmermann","Verena","Zimmermann Verena"]
[255093,"Niederberger","Josef","Niederberger Josef"]
[139770,"Siegrist","Max","Siegrist Max"]
[120653,"Vogt","Bernd","Vogt Bernd"]
[254495,"Simmler","Urs","Simmler Urs"]
[255034,"Leder","Urs","Leder Urs"]
[102198,"Graber","Josef","Graber Josef"]
[255583,"Rinderer","Clemens","Rinderer Clemens"]
[255933,"Ravelli","Roland",{"$f":"B4995&\" \"&C4995","v":"Ravelli Roland"}]
[254038,"Ehlers","Hans","Ehlers Hans"]
[119934,"Ruchti","Heinz","Ruchti Heinz"]
[113419,"Haag","Stefan","Haag Stefan"]
[255273,"Dober","Bruno","Dober Bruno"]
[254748,"Hollenstein","Ernst","Hollenstein Ernst"]
[205708,"Kuriger","Fritz","Kuriger Fritz"]
[253772,"Seeberger","Hans","Seeberger Hans"]
[253772,"Seeberger","Hans","Seeberger Hans"]
[255837,"Egger","Jörg","Egger Jörg"]
[255210,"Baumgartner","Leo","Baumgartner Leo"]
[174685,"Amgwerd","Albin","Amgwerd Albin"]
[104757,"Hediger","Emil","Hediger Emil"]
[255499,"Jans","Xaver","Jans Xaver"]
[254564,"Grubenmann","Margrit","Grubenmann Margrit"]
[254356,"Gerber","Hans","Gerber Hans"]
[978702,"Landolt","Ravi","Landolt Ravi"]
[255033,"Ingold","Franz","Ingold Franz"]
[253713,"Vogel","Martin","Vogel Martin"]
[110089,"Bolliger","Heinz","Bolliger Heinz"]
[255794,"Sauzet","René","Sauzet René"]
[255526,"Frei","Stefan","Frei Stefan"]
[253769,"Schlatter","Peter","Schlatter Peter"]
[112666,"Aeschlimann","Rolf","Aeschlimann Rolf"]
[156737,"Blaser","Marcel","Blaser Marcel"]
[255511,"Schnüriger","Beat","Schnüriger Beat"]
[326301,"Streule","Franz","Streule Franz"]
[253882,"Marti","Monika","Marti Monika"]
[151807,"Pfister","Walter","Pfister Walter"]
[128621,"Grunder","Hans-Peter","Grunder Hans-Peter"]
[254200,"Lenggenhager","Max","Lenggenhager Max"]
[243992,"Eberhard","Theres","Eberhard Theres"]
[255702,"Heeb","Urs","Heeb Urs"]
[255927,"Höhener","André","Höhener André"]
[255749,"Eigenmann","Bruno","Eigenmann Bruno"]
[253726,"Schelling","Andreas","Schelling Andreas"]
[161796,"Zürcher","Hans-Ulrich","Zürcher Hans-Ulrich"]
[254760,"Haubold","Heide","Haubold Heide"]
[120570,"Eschmann","René","Eschmann René"]
[255593,"Brülisauer","Fritz","Brülisauer Fritz"]
[115812,"Schmid","Jakob","Schmid Jakob"]
[253999,"Burri","Peter","Burri Peter"]
[254239,"Meier","Ruth","Meier Ruth"]
[255985,"Scherrer","Konrad","Scherrer Konrad"]
[254676,"Steinemann","Roland","Steinemann Roland"]
[253786,"Brawand","Heinz","Brawand Heinz"]
[172395,"Krattiger","Armin","Krattiger Armin"]
[190236,"Kesselbach","Joachim","Kesselbach Joachim"]
[225389,"Eichholzer","Bernhard","Eichholzer Bernhard"]
[254189,"Christoffel","Eduard","Christoffel Eduard"]
[115793,"Kühni","Silvia","Kühni Silvia"]
[112845,"Wagner","Richard","Wagner Richard"]
[222959,"Barmet","Stefan","Barmet Stefan"]
[253980,"Stalder","Elisabeth","Stalder Elisabeth"]
[255461,"Ryffel","Georges","Ryffel Georges"]
[120620,"Schöni","Rudolf","Schöni Rudolf"]
[255252,"Kränzlin","Gerhard","Kränzlin Gerhard"]
[253795,"Ueltschi","Kurt","Ueltschi Kurt"]
[255087,"Minder","Josef","Minder Josef"]
[998348,"Hirschi","Heinz","Hirschi Heinz"]
[254483,"Meili","Heinrich","Meili Heinrich"]
[255754,"Kappeler","Wolfgang","Kappeler Wolfgang"]
[253756,"Keller","Rolf","Keller Rolf"]
[253756,"Keller","Rolf","Keller Rolf"]
[128499,"Liechti","Vreny",{"$f":"B5059&\" \"&C5059","v":"Liechti Vreny"}]
[875849,"Trapani","Salvatore","Trapani Salvatore"]
[875849,"Trapani","Salvatore","Trapani Salvatore"]
[875849,"Trapani","Salvatore","Trapani Salvatore"]
[254773,"Röthlin","Kurt","Röthlin Kurt"]
[254773,"Röthlin","Kurt","Röthlin Kurt"]
[255514,"Stritmatter","Josef","Stritmatter Josef"]
[254748,"Hollenstein","Ernst","Hollenstein Ernst"]
[254200,"Lenggenhager","Max","Lenggenhager Max"]
[255985,"Scherrer","Konrad","Scherrer Konrad"]
[254471,"Weibel","Rolf","Weibel Rolf"]
[254471,"Weibel","Rolf","Weibel Rolf"]
[112845,"Wagner","Richard","Wagner Richard"]